Workbook
Name D_IC: 'In-NonTI'!$B$27:$C$33

Sheet Notes
B2: Disclaimer This document has been produced for the purposes of providing worked examples of how AEMO’s settlements systems will calculate and allocate settlements residue in accordance with the National Electricity Rules and the Settlements Residue Methodology. It has been created in part from UAT data and is not intended as a comprehensive guide to all potential outcomes. Please also refer to each of the Notes below. AEMO has made reasonable efforts to ensure the quality of the information in this document as at the date it is provided, but cannot guarantee its accuracy or completeness. The National Electricity Rules and applicable methodologies and procedures take precedence to the extent of any inconsistency. The information in this document may be subsequently updated or amended, but be aware it may also not be updated if AEMO subsequently becomes aware of any errors, or relevant rules or methodologies are amended. This document does not constitute legal, business or technical advice, and should not be relied on as a substitute for obtaining detailed advice about applicable laws, methodologies and procedures, appropriate to your circumstances. Accordingly, to the maximum extent permitted by law, AEMO and its officers, employees and consultants involved in the preparation of this document: • make no representation or warranty, express or implied, as to the currency, accuracy, reliability or completeness of the information in this document; and • are not liable (whether by reason of negligence or otherwise) for any statements or representations in this document, or any omissions from it, or for any use or reliance on the information in it.
B4: Tab Descriptions:
B5: In-NonTI | C5: Inputs to the model that are not Trading Interval (TI) based, highlighted fields are manually added or calculated, rather than being taken from the Data Model table
B6: In-TI | C6: Inputs to the model that are Trading Interval (TI) based, highlighted fields are manually added or calculated, rather than being taken from the Data Model
B7: Calc | C7: Calculation of the Loop dependent outcomes with a single record per interval, for both intervals with net negative or positive net Loop allocation amounts
B8: Outputs | C8: Outputs from the Data Model public tables, which show the positive net Loop allocation outcomes
B10: Interconnector Terminology Used:
B11: "Interconnector" can refer to different things, particularly within the Data Model fields.
B12: In this model "Regional Interconnector" is used to refer to the sum of the interconnectors between states, particularly relevant for the two Regulated Interconnectors between Vic and SA.
B13: As per the Data Model tables, the Regulated Interconnector named "V-SA" is also used to represent the Regional Interconnector between Vic and SA, being the combination of V-SA and V-S-MNSP1 Regulated Interconnectors.
B14: In this model "Directional Interconnector" is often shortened to D-IC and refers to the Regional Interconnector, but also including reference to the direction of flow for that interval.
B15: As an example, when the V-SA Regional Interconnector is flowing From Vic to SA, "VIC-SA" is the D-IC notation used in this model, and when instead flowing from SA to Vic it is "SA-VIC" as the D-IC.
B16: This D-IC terminology is not used in the Data Model (InterconnectorID and FromRegion fields are used instead) and should not be confused with the "default flow direction" of the Interconnectors, as defined in the Interconnector standing data From and To Regions.
B17: For example, the VIC1-NSW1 interconnector has the default flow direction north, so the standing data lists the From Region as VIC1 and this Interconnector flowing southward is represented with a negative flow volume in some contexts.
B19: Model Method:
B20: The model is for a single date, calculating for the 288 Trading Intervals (TI) with the Inputs restricted to only the Interconnectors involved in the Loop, though the Output tables have the additional interconnectors included where appropriate.
B21: The "In-TI" tab includes the relevant Regional Reference Prices (RRP) used in the later calculations.
B22: The Interconnector reads in the "In-TI" tab have the calculated MWh losses applied to the Net Energy, to allocate the energy used in the calculations of both the From and To regions, with negative energy being calculated for the exporting region.
... B32: A known defect (NRQ-1773) impacts intervals 211 and 236 where all 3 regions are exporting (due to the losses application), with the current settlement logic not correctly reflecting the rule requirements, resulting in a difference to the values in the Calc tab.

Sheet In-NonTI
B2: INTERCONNECTOR | J2: INTERCONNECTORCONSTRAINT | M2: REGIONFIGURES
B3: INTERCONNECTORID | C3: REGIONFROM | D3: REGIONTO | E3: DESCRIPTION | F3: Regional IC | G3: Directional IC | H3: Reverse Directional IC | J3: INTERCONNECTORID | K3: FROMREGIONLOSSSHARE | M3: ContractYear | N3: WeekNo | O3: BillRunNo | P3: RegionId | Q3: ENERGYPURCHASED | S3: Region | T3: Average MWh | U3: Share
B4: V-S-MNSP1 | C4: VIC1 | D4: SA1 | E4: MurrayLink DC Interconnector | F4: V-SA | G4: VIC-SA | H4: SA-VIC | J4: NSW1-SA1 | K4: 0.45 | M4: 2025 | N4: 35 | O4: 15 | P4: NSW1 | Q4: -1369757.7 | S4: NSW1 | T4: =AVERAGEIF(P:P,S4,Q:Q) -> -1364798 | U4: =T4/$T$7 -> 0.53486848
B5: V-SA | C5: VIC1 | D5: SA1 | E5: VICTORIA TO SA | F5: V-SA | G5: VIC-SA | H5: SA-VIC | J5: VIC1-NSW1 | K5: 0.6 | M5: 2025 | N5: 35 | O5: 15 | P5: SA1 | Q5: -283889.18 | S5: SA1 | T5: =AVERAGEIF(P:P,S5,Q:Q) -> -268370.52 | U5: =T5/$T$7 -> 0.10517522
B6: VIC1-NSW1 | C6: VIC1 | D6: NSW1 | E6: VIC1-NSW1 Interconnection | F6: VIC1-NSW1 | G6: VIC-NSW | H6: NSW-VIC | J6: V-SA | K6: 0.47 | M6: 2025 | N6: 35 | O6: 15 | P6: VIC1 | Q6: -978065.55 | S6: VIC1 | T6: =AVERAGEIF(P:P,S6,Q:Q) -> -918483.08 | U6: =T6/$T$7 -> 0.3599563
B7: NSW1-SA1 | C7: NSW1 | D7: SA1 | E7: PEC-MI NSW to SA Interconnector | F7: NSW1-SA1 | G7: NSW-SA | H7: SA-NSW | J7: V-S-MNSP1 | K7: 0.89 | M7: 2025 | N7: 36 | O7: 14 | P7: NSW1 | Q7: -1371304.1 | S7: Total | T7: =SUM(T4:T6) -> -2551651.6
M8: 2025 | N8: 36 | O8: 14 | P8: SA1 | Q8: -275994.26
M9: 2025 | N9: 36 | O9: 14 | P9: VIC1 | Q9: -937681.45
M10: 2025 | N10: 37 | O10: 15 | P10: NSW1 | Q10: -1322120.3
M11: 2025 | N11: 37 | O11: 15 | P11: SA1 | Q11: -254689.29
M12: 2025 | N12: 37 | O12: 15 | P12: VIC1 | Q12: -900119.26
M13: 2025 | N13: 38 | O13: 13 | P13: NSW1 | Q13: -1272038.5
M14: 2025 | N14: 38 | O14: 13 | P14: SA1 | Q14: -252861.77
M15: 2025 | N15: 38 | O15: 13 | P15: VIC1 | Q15: -860335.58
M16: 2025 | N16: 39 | O16: 14 | P16: NSW1 | Q16: -1281050.6
M17: 2025 | N17: 39 | O17: 14 | P17: SA1 | Q17: -258031.47
M18: 2025 | N18: 39 | O18: 14 | P18: VIC1 | Q18: -878553.6
M19: 2025 | N19: 40 | O19: 14 | P19: NSW1 | Q19: -1269972.4
... M159: 2026 | N159: 34 | O159: 13 | P159: VIC1 | Q159: -1012797.1

Sheet In-TI
B2: TRADINGPRICE | G2: TRADINGINTERCONNECT | O2: METERDATA_INTERCONNECTOR
B3: SETTLEMENTDATE | C3: PERIODID | D3: RegionID | E3: RRP | G3: SETTLEMENTDATE | H3: PERIODID | I3: INTERCONNECTORID | J3: METEREDMWFLOW | K3: MWFLOW | L3: MWLOSSES | M3: MWh Losses | O3: CASE_ID | P3: SETTLEMENTDATE | Q3: PERIODID | R3: INTERCONNECTORID | S3: IMPORTVALUE | T3: EXPORTVALUE | U3: Net Energy | V3: From Region | W3: From Energy | X3: To Energy | Y3: Regional IC | Z3: Directional IC
B4: 46261.003 | C4: 1 | D4: NSW1 | E4: 500 | G4: 46261.003 | H4: 1 | I4: NSW1-SA1 | J4: -107.45 | K4: 72.47 | L4: 10.18 | M4: =L4/12 -> 0.84833333 | O4: 11658 | P4: 46261 | Q4: 1 | R4: NSW1-SA1 | S4: 9.6523038 | T4: 0 | U4: =S4-T4 -> 9.6523038 | V4: =VLOOKUP(R4,'In-NonTI'!B:C,2,FALSE) -> NSW1 | W4: =IF(U4=0,0,U4-(VLOOKUP(R4,'In-NonTI'!$J$4:$K$7,2,FALSE)*M4)) -> 9.2705538 | X4: =IF(U4=0,0,-U4-((1-VLOOKUP(R4,'In-NonTI'!$J$4:$K$7,2,FALSE))*M4)) -> -10.118887 | Y4: =VLOOKUP(R4,'In-NonTI'!$B$4:$F$7,5,FALSE) -> NSW1-SA1 | Z4: =IF(SUMIFS(U:U,Q:Q,Q4,Y:Y,Y4)<=0,VLOOKUP(R4,'In-NonTI'!$B$4:$H$7,6,FALSE),VLOOKUP(R4,'In-NonTI'!$B$4:$H$7,7,FALSE)) -> SA-NSW
B5: 46261.003 | C5: 1 | D5: SA1 | E5: 248.73 | G5: 46261.003 | H5: 1 | I5: VIC1-NSW1 | J5: 122.71 | K5: -103.24 | L5: 3.47 | M5: =L5/12 -> 0.28916667 | O5: 11658 | P5: 46261 | Q5: 1 | R5: VIC1-NSW1 | S5: 5.6691106 | T5: 24.159698 | U5: =S5-T5 -> -18.490587 | V5: =VLOOKUP(R5,'In-NonTI'!B:C,2,FALSE) -> VIC1 | W5: =IF(U5=0,0,U5-(VLOOKUP(R5,'In-NonTI'!$J$4:$K$7,2,FALSE)*M5)) -> -18.664087 | X5: =IF(U5=0,0,-U5-((1-VLOOKUP(R5,'In-NonTI'!$J$4:$K$7,2,FALSE))*M5)) -> 18.374921 | Y5: =VLOOKUP(R5,'In-NonTI'!$B$4:$F$7,5,FALSE) -> VIC1-NSW1 | Z5: =IF(SUMIFS(U:U,Q:Q,Q5,Y:Y,Y5)<=0,VLOOKUP(R5,'In-NonTI'!$B$4:$H$7,6,FALSE),VLOOKUP(R5,'In-NonTI'!$B$4:$H$7,7,FALSE)) -> VIC-NSW
B6: 46261.003 | C6: 1 | D6: VIC1 | E6: 35 | G6: 46261.003 | H6: 1 | I6: V-SA | J6: 185.3 | K6: 693.61 | L6: 78.46 | M6: =L6/12 -> 6.5383333 | O6: 11658 | P6: 46261 | Q6: 1 | R6: V-SA | S6: 0.600249 | T6: 42.97125 | U6: =S6-T6 -> -42.371001 | V6: =VLOOKUP(R6,'In-NonTI'!B:C,2,FALSE) -> VIC1 | W6: =IF(U6=0,0,U6-(VLOOKUP(R6,'In-NonTI'!$J$4:$K$7,2,FALSE)*M6)) -> -45.444017 | X6: =IF(U6=0,0,-U6-((1-VLOOKUP(R6,'In-NonTI'!$J$4:$K$7,2,FALSE))*M6)) -> 38.905684 | Y6: =VLOOKUP(R6,'In-NonTI'!$B$4:$F$7,5,FALSE) -> V-SA | Z6: =IF(SUMIFS(U:U,Q:Q,Q6,Y:Y,Y6)<=0,VLOOKUP(R6,'In-NonTI'!$B$4:$H$7,6,FALSE),VLOOKUP(R6,'In-NonTI'!$B$4:$H$7,7,FALSE)) -> VIC-SA
B7: 46261.007 | C7: 2 | D7: NSW1 | E7: 500 | G7: 46261.003 | H7: 1 | I7: V-S-MNSP1 | J7: 0 | K7: 60.68 | L7: 4.03 | M7: =L7/12 -> 0.33583333 | O7: 11658 | P7: 46261 | Q7: 1 | R7: V-S-MNSP1 | S7: 6.5076804 | T7: 0 | U7: =S7-T7 -> 6.5076804 | V7: =VLOOKUP(R7,'In-NonTI'!B:C,2,FALSE) -> VIC1 | W7: =IF(U7=0,0,U7-(VLOOKUP(R7,'In-NonTI'!$J$4:$K$7,2,FALSE)*M7)) -> 6.2087887 | X7: =IF(U7=0,0,-U7-((1-VLOOKUP(R7,'In-NonTI'!$J$4:$K$7,2,FALSE))*M7)) -> -6.5446221 | Y7: =VLOOKUP(R7,'In-NonTI'!$B$4:$F$7,5,FALSE) -> V-SA | Z7: =IF(SUMIFS(U:U,Q:Q,Q7,Y:Y,Y7)<=0,VLOOKUP(R7,'In-NonTI'!$B$4:$H$7,6,FALSE),VLOOKUP(R7,'In-NonTI'!$B$4:$H$7,7,FALSE)) -> VIC-SA
B8: 46261.007 | C8: 2 | D8: SA1 | E8: 220.63 | G8: 46261.007 | H8: 2 | I8: NSW1-SA1 | J8: -111.49 | K8: 69.01 | L8: 9.6 | M8: =L8/12 -> 0.8 | O8: 11658 | P8: 46261 | Q8: 2 | R8: NSW1-SA1 | S8: 8.8574228 | T8: 0 | U8: =S8-T8 -> 8.8574228 | V8: =VLOOKUP(R8,'In-NonTI'!B:C,2,FALSE) -> NSW1 | W8: =IF(U8=0,0,U8-(VLOOKUP(R8,'In-NonTI'!$J$4:$K$7,2,FALSE)*M8)) -> 8.4974228 | X8: =IF(U8=0,0,-U8-((1-VLOOKUP(R8,'In-NonTI'!$J$4:$K$7,2,FALSE))*M8)) -> -9.2974228 | Y8: =VLOOKUP(R8,'In-NonTI'!$B$4:$F$7,5,FALSE) -> NSW1-SA1 | Z8: =IF(SUMIFS(U:U,Q:Q,Q8,Y:Y,Y8)<=0,VLOOKUP(R8,'In-NonTI'!$B$4:$H$7,6,FALSE),VLOOKUP(R8,'In-NonTI'!$B$4:$H$7,7,FALSE)) -> SA-NSW
B9: 46261.007 | C9: 2 | D9: VIC1 | E9: 35 | G9: 46261.007 | H9: 2 | I9: VIC1-NSW1 | J9: 285.11 | K9: -81.59 | L9: 2.59 | M9: =L9/12 -> 0.21583333 | O9: 11658 | P9: 46261 | Q9: 2 | R9: VIC1-NSW1 | S9: 5.6683163 | T9: 22.095349 | U9: =S9-T9 -> -16.427032 | V9: =VLOOKUP(R9,'In-NonTI'!B:C,2,FALSE) -> VIC1 | W9: =IF(U9=0,0,U9-(VLOOKUP(R9,'In-NonTI'!$J$4:$K$7,2,FALSE)*M9)) -> -16.556532 | X9: =IF(U9=0,0,-U9-((1-VLOOKUP(R9,'In-NonTI'!$J$4:$K$7,2,FALSE))*M9)) -> 16.340699 | Y9: =VLOOKUP(R9,'In-NonTI'!$B$4:$F$7,5,FALSE) -> VIC1-NSW1 | Z9: =IF(SUMIFS(U:U,Q:Q,Q9,Y:Y,Y9)<=0,VLOOKUP(R9,'In-NonTI'!$B$4:$H$7,6,FALSE),VLOOKUP(R9,'In-NonTI'!$B$4:$H$7,7,FALSE)) -> VIC-NSW
B10: 46261.01 | C10: 3 | D10: NSW1 | E10: 500 | G10: 46261.007 | H10: 2 | I10: V-SA | J10: 178.6 | K10: 681.93 | L10: 76.29 | M10: =L10/12 -> 6.3575 | O10: 11658 | P10: 46261 | Q10: 2 | R10: V-SA | S10: 1.0072305 | T10: 42.733851 | U10: =S10-T10 -> -41.72662 | V10: =VLOOKUP(R10,'In-NonTI'!B:C,2,FALSE) -> VIC1 | W10: =IF(U10=0,0,U10-(VLOOKUP(R10,'In-NonTI'!$J$4:$K$7,2,FALSE)*M10)) -> -44.714645 | X10: =IF(U10=0,0,-U10-((1-VLOOKUP(R10,'In-NonTI'!$J$4:$K$7,2,FALSE))*M10)) -> 38.357145 | Y10: =VLOOKUP(R10,'In-NonTI'!$B$4:$F$7,5,FALSE) -> V-SA | Z10: =IF(SUMIFS(U:U,Q:Q,Q10,Y:Y,Y10)<=0,VLOOKUP(R10,'In-NonTI'!$B$4:$H$7,6,FALSE),VLOOKUP(R10,'In-NonTI'!$B$4:$H$7,7,FALSE)) -> VIC-SA
B11: 46261.01 | C11: 3 | D11: SA1 | E11: 112.07 | G11: 46261.007 | H11: 2 | I11: V-S-MNSP1 | J11: 0 | K11: 80 | L11: 7.61 | M11: =L11/12 -> 0.63416667 | O11: 11658 | P11: 46261 | Q11: 2 | R11: V-S-MNSP1 | S11: 6.4675125 | T11: 0 | U11: =S11-T11 -> 6.4675125 | V11: =VLOOKUP(R11,'In-NonTI'!B:C,2,FALSE) -> VIC1 | W11: =IF(U11=0,0,U11-(VLOOKUP(R11,'In-NonTI'!$J$4:$K$7,2,FALSE)*M11)) -> 5.9031042 | X11: =IF(U11=0,0,-U11-((1-VLOOKUP(R11,'In-NonTI'!$J$4:$K$7,2,FALSE))*M11)) -> -6.5372708 | Y11: =VLOOKUP(R11,'In-NonTI'!$B$4:$F$7,5,FALSE) -> V-SA | Z11: =IF(SUMIFS(U:U,Q:Q,Q11,Y:Y,Y11)<=0,VLOOKUP(R11,'In-NonTI'!$B$4:$H$7,6,FALSE),VLOOKUP(R11,'In-NonTI'!$B$4:$H$7,7,FALSE)) -> VIC-SA
B12: 46261.01 | C12: 3 | D12: VIC1 | E12: 35 | G12: 46261.01 | H12: 3 | I12: NSW1-SA1 | J12: -104.43 | K12: 70.67 | L12: 9.95 | M12: =L12/12 -> 0.82916667 | O12: 11658 | P12: 46261 | Q12: 3 | R12: NSW1-SA1 | S12: 7.7286196 | T12: 0 | U12: =S12-T12 -> 7.7286196 | V12: =VLOOKUP(R12,'In-NonTI'!B:C,2,FALSE) -> NSW1 | W12: =IF(U12=0,0,U12-(VLOOKUP(R12,'In-NonTI'!$J$4:$K$7,2,FALSE)*M12)) -> 7.3554946 | X12: =IF(U12=0,0,-U12-((1-VLOOKUP(R12,'In-NonTI'!$J$4:$K$7,2,FALSE))*M12)) -> -8.1846613 | Y12: =VLOOKUP(R12,'In-NonTI'!$B$4:$F$7,5,FALSE) -> NSW1-SA1 | Z12: =IF(SUMIFS(U:U,Q:Q,Q12,Y:Y,Y12)<=0,VLOOKUP(R12,'In-NonTI'!$B$4:$H$7,6,FALSE),VLOOKUP(R12,'In-NonTI'!$B$4:$H$7,7,FALSE)) -> SA-NSW
B13: 46261.014 | C13: 4 | D13: NSW1 | E13: 500 | G13: 46261.01 | H13: 3 | I13: VIC1-NSW1 | J13: 235.28 | K13: -81.04 | L13: 2.6 | M13: =L13/12 -> 0.21666667 | O13: 11658 | P13: 46261 | Q13: 3 | R13: VIC1-NSW1 | S13: 6.0991699 | T13: 18.90691 | U13: =S13-T13 -> -12.80774 | V13: =VLOOKUP(R13,'In-NonTI'!B:C,2,FALSE) -> VIC1 | W13: =IF(U13=0,0,U13-(VLOOKUP(R13,'In-NonTI'!$J$4:$K$7,2,FALSE)*M13)) -> -12.93774 | X13: =IF(U13=0,0,-U13-((1-VLOOKUP(R13,'In-NonTI'!$J$4:$K$7,2,FALSE))*M13)) -> 12.721074 | Y13: =VLOOKUP(R13,'In-NonTI'!$B$4:$F$7,5,FALSE) -> VIC1-NSW1 | Z13: =IF(SUMIFS(U:U,Q:Q,Q13,Y:Y,Y13)<=0,VLOOKUP(R13,'In-NonTI'!$B$4:$H$7,6,FALSE),VLOOKUP(R13,'In-NonTI'!$B$4:$H$7,7,FALSE)) -> VIC-NSW
B14: 46261.014 | C14: 4 | D14: SA1 | E14: 296.03 | G14: 46261.01 | H14: 3 | I14: V-SA | J14: 178.6 | K14: 688.27 | L14: 77.19 | M14: =L14/12 -> 6.4325 | O14: 11658 | P14: 46261 | Q14: 3 | R14: V-SA | S14: 0.163248 | T14: 47.613079 | U14: =S14-T14 -> -47.449831 | V14: =VLOOKUP(R14,'In-NonTI'!B:C,2,FALSE) -> VIC1 | W14: =IF(U14=0,0,U14-(VLOOKUP(R14,'In-NonTI'!$J$4:$K$7,2,FALSE)*M14)) -> -50.473106 | X14: =IF(U14=0,0,-U14-((1-VLOOKUP(R14,'In-NonTI'!$J$4:$K$7,2,FALSE))*M14)) -> 44.040606 | Y14: =VLOOKUP(R14,'In-NonTI'!$B$4:$F$7,5,FALSE) -> V-SA | Z14: =IF(SUMIFS(U:U,Q:Q,Q14,Y:Y,Y14)<=0,VLOOKUP(R14,'In-NonTI'!$B$4:$H$7,6,FALSE),VLOOKUP(R14,'In-NonTI'!$B$4:$H$7,7,FALSE)) -> VIC-SA
B15: 46261.014 | C15: 4 | D15: VIC1 | E15: 35 | G15: 46261.01 | H15: 3 | I15: V-S-MNSP1 | J15: 0 | K15: 69.1 | L15: 5.46 | M15: =L15/12 -> 0.455 | O15: 11658 | P15: 46261 | Q15: 3 | R15: V-S-MNSP1 | S15: 6.1721902 | T15: 0 | U15: =S15-T15 -> 6.1721902 | V15: =VLOOKUP(R15,'In-NonTI'!B:C,2,FALSE) -> VIC1 | W15: =IF(U15=0,0,U15-(VLOOKUP(R15,'In-NonTI'!$J$4:$K$7,2,FALSE)*M15)) -> 5.7672402 | X15: =IF(U15=0,0,-U15-((1-VLOOKUP(R15,'In-NonTI'!$J$4:$K$7,2,FALSE))*M15)) -> -6.2222402 | Y15: =VLOOKUP(R15,'In-NonTI'!$B$4:$F$7,5,FALSE) -> V-SA | Z15: =IF(SUMIFS(U:U,Q:Q,Q15,Y:Y,Y15)<=0,VLOOKUP(R15,'In-NonTI'!$B$4:$H$7,6,FALSE),VLOOKUP(R15,'In-NonTI'!$B$4:$H$7,7,FALSE)) -> VIC-SA
... B867: 46262 | C867: 288 | D867: VIC1 | E867: 35 | G867: 46261.75 | H867: 216 | I867: V-S-MNSP1 | J867: 0 | K867: -45 | L867: 4.16 | M867: =L867/12 -> 0.34666667 | O867: 11658 | P867: 46261 | Q867: 216 | R867: V-S-MNSP1 | S867: 0 | T867: 0.1504022 | U867: =S867-T867 -> -0.1504022 | V867: =VLOOKUP(R867,'In-NonTI'!B:C,2,FALSE) -> VIC1 | W867: =IF(U867=0,0,U867-(VLOOKUP(R867,'In-NonTI'!$J$4:$K$7,2,FALSE)*M867)) -> -0.45893553 | X867: =IF(U867=0,0,-U867-((1-VLOOKUP(R867,'In-NonTI'!$J$4:$K$7,2,FALSE))*M867)) -> 0.11226887 | Y867: =VLOOKUP(R867,'In-NonTI'!$B$4:$F$7,5,FALSE) -> V-SA | Z867: =IF(SUMIFS(U:U,Q:Q,Q867,Y:Y,Y867)<=0,VLOOKUP(R867,'In-NonTI'!$B$4:$H$7,6,FALSE),VLOOKUP(R867,'In-NonTI'!$B$4:$H$7,7,FALSE)) -> VIC-SA
G868: 46261.753 | H868: 217 | I868: NSW1-SA1 | J868: -124.64 | K868: 49.88 | L868: 9.99 | M868: =L868/12 -> 0.8325 | O868: 11658 | P868: 46261 | Q868: 217 | R868: NSW1-SA1 | S868: 11.633812 | T868: 0 | U868: =S868-T868 -> 11.633812 | V868: =VLOOKUP(R868,'In-NonTI'!B:C,2,FALSE) -> NSW1 | W868: =IF(U868=0,0,U868-(VLOOKUP(R868,'In-NonTI'!$J$4:$K$7,2,FALSE)*M868)) -> 11.259187 | X868: =IF(U868=0,0,-U868-((1-VLOOKUP(R868,'In-NonTI'!$J$4:$K$7,2,FALSE))*M868)) -> -12.091687 | Y868: =VLOOKUP(R868,'In-NonTI'!$B$4:$F$7,5,FALSE) -> NSW1-SA1 | Z868: =IF(SUMIFS(U:U,Q:Q,Q868,Y:Y,Y868)<=0,VLOOKUP(R868,'In-NonTI'!$B$4:$H$7,6,FALSE),VLOOKUP(R868,'In-NonTI'!$B$4:$H$7,7,FALSE)) -> SA-NSW
G869: 46261.753 | H869: 217 | I869: VIC1-NSW1 | J869: -78.5 | K869: -243.46 | L869: 16.55 | M869: =L869/12 -> 1.3791667 | O869: 11658 | P869: 46261 | Q869: 217 | R869: VIC1-NSW1 | S869: 31.320342 | T869: 24.987381 | U869: =S869-T869 -> 6.3329618 | V869: =VLOOKUP(R869,'In-NonTI'!B:C,2,FALSE) -> VIC1 | W869: =IF(U869=0,0,U869-(VLOOKUP(R869,'In-NonTI'!$J$4:$K$7,2,FALSE)*M869)) -> 5.5054618 | X869: =IF(U869=0,0,-U869-((1-VLOOKUP(R869,'In-NonTI'!$J$4:$K$7,2,FALSE))*M869)) -> -6.8846285 | Y869: =VLOOKUP(R869,'In-NonTI'!$B$4:$F$7,5,FALSE) -> VIC1-NSW1 | Z869: =IF(SUMIFS(U:U,Q:Q,Q869,Y:Y,Y869)<=0,VLOOKUP(R869,'In-NonTI'!$B$4:$H$7,6,FALSE),VLOOKUP(R869,'In-NonTI'!$B$4:$H$7,7,FALSE)) -> NSW-VIC
G870: 46261.753 | H870: 217 | I870: V-SA | J870: 100.46 | K870: 712.73 | L870: 77.13 | M870: =L870/12 -> 6.4275 | O870: 11658 | P870: 46261 | Q870: 217 | R870: V-SA | S870: 9.5333765 | T870: 24.212833 | U870: =S870-T870 -> -14.679457 | V870: =VLOOKUP(R870,'In-NonTI'!B:C,2,FALSE) -> VIC1 | W870: =IF(U870=0,0,U870-(VLOOKUP(R870,'In-NonTI'!$J$4:$K$7,2,FALSE)*M870)) -> -17.700382 | X870: =IF(U870=0,0,-U870-((1-VLOOKUP(R870,'In-NonTI'!$J$4:$K$7,2,FALSE))*M870)) -> 11.272882 | Y870: =VLOOKUP(R870,'In-NonTI'!$B$4:$F$7,5,FALSE) -> V-SA | Z870: =IF(SUMIFS(U:U,Q:Q,Q870,Y:Y,Y870)<=0,VLOOKUP(R870,'In-NonTI'!$B$4:$H$7,6,FALSE),VLOOKUP(R870,'In-NonTI'!$B$4:$H$7,7,FALSE)) -> VIC-SA
G871: 46261.753 | H871: 217 | I871: V-S-MNSP1 | J871: 0 | K871: -80 | L871: 11.61 | M871: =L871/12 -> 0.9675 | O871: 11658 | P871: 46261 | Q871: 217 | R871: V-S-MNSP1 | S871: 0 | T871: 0.1750433 | U871: =S871-T871 -> -0.1750433 | V871: =VLOOKUP(R871,'In-NonTI'!B:C,2,FALSE) -> VIC1 | W871: =IF(U871=0,0,U871-(VLOOKUP(R871,'In-NonTI'!$J$4:$K$7,2,FALSE)*M871)) -> -1.0361183 | X871: =IF(U871=0,0,-U871-((1-VLOOKUP(R871,'In-NonTI'!$J$4:$K$7,2,FALSE))*M871)) -> 0.0686183 | Y871: =VLOOKUP(R871,'In-NonTI'!$B$4:$F$7,5,FALSE) -> V-SA | Z871: =IF(SUMIFS(U:U,Q:Q,Q871,Y:Y,Y871)<=0,VLOOKUP(R871,'In-NonTI'!$B$4:$H$7,6,FALSE),VLOOKUP(R871,'In-NonTI'!$B$4:$H$7,7,FALSE)) -> VIC-SA
G872: 46261.757 | H872: 218 | I872: NSW1-SA1 | J872: -145.55 | K872: 39.07 | L872: 7.85 | M872: =L872/12 -> 0.65416667 | O872: 11658 | P872: 46261 | Q872: 218 | R872: NSW1-SA1 | S872: 12.540839 | T872: 0 | U872: =S872-T872 -> 12.540839 | V872: =VLOOKUP(R872,'In-NonTI'!B:C,2,FALSE) -> NSW1 | W872: =IF(U872=0,0,U872-(VLOOKUP(R872,'In-NonTI'!$J$4:$K$7,2,FALSE)*M872)) -> 12.246464 | X872: =IF(U872=0,0,-U872-((1-VLOOKUP(R872,'In-NonTI'!$J$4:$K$7,2,FALSE))*M872)) -> -12.900631 | Y872: =VLOOKUP(R872,'In-NonTI'!$B$4:$F$7,5,FALSE) -> NSW1-SA1 | Z872: =IF(SUMIFS(U:U,Q:Q,Q872,Y:Y,Y872)<=0,VLOOKUP(R872,'In-NonTI'!$B$4:$H$7,6,FALSE),VLOOKUP(R872,'In-NonTI'!$B$4:$H$7,7,FALSE)) -> SA-NSW
G873: 46261.757 | H873: 218 | I873: VIC1-NSW1 | J873: -285.59 | K873: -242.12 | L873: 16.65 | M873: =L873/12 -> 1.3875 | O873: 11658 | P873: 46261 | Q873: 218 | R873: VIC1-NSW1 | S873: 28.803738 | T873: 24.217387 | U873: =S873-T873 -> 4.5863513 | V873: =VLOOKUP(R873,'In-NonTI'!B:C,2,FALSE) -> VIC1 | W873: =IF(U873=0,0,U873-(VLOOKUP(R873,'In-NonTI'!$J$4:$K$7,2,FALSE)*M873)) -> 3.7538513 | X873: =IF(U873=0,0,-U873-((1-VLOOKUP(R873,'In-NonTI'!$J$4:$K$7,2,FALSE))*M873)) -> -5.1413513 | Y873: =VLOOKUP(R873,'In-NonTI'!$B$4:$F$7,5,FALSE) -> VIC1-NSW1 | Z873: =IF(SUMIFS(U:U,Q:Q,Q873,Y:Y,Y873)<=0,VLOOKUP(R873,'In-NonTI'!$B$4:$H$7,6,FALSE),VLOOKUP(R873,'In-NonTI'!$B$4:$H$7,7,FALSE)) -> NSW-VIC
G874: 46261.757 | H874: 218 | I874: V-SA | J874: 64.74 | K874: 669.98 | L874: 68.05 | M874: =L874/12 -> 5.6708333 | O874: 11658 | P874: 46261 | Q874: 218 | R874: V-SA | S874: 10.079779 | T874: 25.038049 | U874: =S874-T874 -> -14.958271 | V874: =VLOOKUP(R874,'In-NonTI'!B:C,2,FALSE) -> VIC1 | W874: =IF(U874=0,0,U874-(VLOOKUP(R874,'In-NonTI'!$J$4:$K$7,2,FALSE)*M874)) -> -17.623562 | X874: =IF(U874=0,0,-U874-((1-VLOOKUP(R874,'In-NonTI'!$J$4:$K$7,2,FALSE))*M874)) -> 11.952729 | Y874: =VLOOKUP(R874,'In-NonTI'!$B$4:$F$7,5,FALSE) -> V-SA | Z874: =IF(SUMIFS(U:U,Q:Q,Q874,Y:Y,Y874)<=0,VLOOKUP(R874,'In-NonTI'!$B$4:$H$7,6,FALSE),VLOOKUP(R874,'In-NonTI'!$B$4:$H$7,7,FALSE)) -> VIC-SA
G875: 46261.757 | H875: 218 | I875: V-S-MNSP1 | J875: 0 | K875: 28.56 | L875: 0.53 | M875: =L875/12 -> 0.044166667 | O875: 11658 | P875: 46261 | Q875: 218 | R875: V-S-MNSP1 | S875: 0 | T875: 0.1765987 | U875: =S875-T875 -> -0.1765987 | V875: =VLOOKUP(R875,'In-NonTI'!B:C,2,FALSE) -> VIC1 | W875: =IF(U875=0,0,U875-(VLOOKUP(R875,'In-NonTI'!$J$4:$K$7,2,FALSE)*M875)) -> -0.21590703 | X875: =IF(U875=0,0,-U875-((1-VLOOKUP(R875,'In-NonTI'!$J$4:$K$7,2,FALSE))*M875)) -> 0.17174037 | Y875: =VLOOKUP(R875,'In-NonTI'!$B$4:$F$7,5,FALSE) -> V-SA | Z875: =IF(SUMIFS(U:U,Q:Q,Q875,Y:Y,Y875)<=0,VLOOKUP(R875,'In-NonTI'!$B$4:$H$7,6,FALSE),VLOOKUP(R875,'In-NonTI'!$B$4:$H$7,7,FALSE)) -> VIC-SA
G876: 46261.76 | H876: 219 | I876: NSW1-SA1 | J876: -140.71 | K876: 41.55 | L876: 8.49 | M876: =L876/12 -> 0.7075 | O876: 11658 | P876: 46261 | Q876: 219 | R876: NSW1-SA1 | S876: 11.397632 | T876: 0 | U876: =S876-T876 -> 11.397632 | V876: =VLOOKUP(R876,'In-NonTI'!B:C,2,FALSE) -> NSW1 | W876: =IF(U876=0,0,U876-(VLOOKUP(R876,'In-NonTI'!$J$4:$K$7,2,FALSE)*M876)) -> 11.079257 | X876: =IF(U876=0,0,-U876-((1-VLOOKUP(R876,'In-NonTI'!$J$4:$K$7,2,FALSE))*M876)) -> -11.786757 | Y876: =VLOOKUP(R876,'In-NonTI'!$B$4:$F$7,5,FALSE) -> NSW1-SA1 | Z876: =IF(SUMIFS(U:U,Q:Q,Q876,Y:Y,Y876)<=0,VLOOKUP(R876,'In-NonTI'!$B$4:$H$7,6,FALSE),VLOOKUP(R876,'In-NonTI'!$B$4:$H$7,7,FALSE)) -> SA-NSW
G877: 46261.76 | H877: 219 | I877: VIC1-NSW1 | J877: -362.5 | K877: -238.92 | L877: 16.62 | M877: =L877/12 -> 1.385 | O877: 11658 | P877: 46261 | Q877: 219 | R877: VIC1-NSW1 | S877: 26.81174 | T877: 29.012954 | U877: =S877-T877 -> -2.2012138 | V877: =VLOOKUP(R877,'In-NonTI'!B:C,2,FALSE) -> VIC1 | W877: =IF(U877=0,0,U877-(VLOOKUP(R877,'In-NonTI'!$J$4:$K$7,2,FALSE)*M877)) -> -3.0322138 | X877: =IF(U877=0,0,-U877-((1-VLOOKUP(R877,'In-NonTI'!$J$4:$K$7,2,FALSE))*M877)) -> 1.6472138 | Y877: =VLOOKUP(R877,'In-NonTI'!$B$4:$F$7,5,FALSE) -> VIC1-NSW1 | Z877: =IF(SUMIFS(U:U,Q:Q,Q877,Y:Y,Y877)<=0,VLOOKUP(R877,'In-NonTI'!$B$4:$H$7,6,FALSE),VLOOKUP(R877,'In-NonTI'!$B$4:$H$7,7,FALSE)) -> VIC-NSW
G878: 46261.76 | H878: 219 | I878: V-SA | J878: 83.72 | K878: 679.56 | L878: 68.95 | M878: =L878/12 -> 5.7458333 | O878: 11658 | P878: 46261 | Q878: 219 | R878: V-SA | S878: 11.831274 | T878: 23.253217 | U878: =S878-T878 -> -11.421943 | V878: =VLOOKUP(R878,'In-NonTI'!B:C,2,FALSE) -> VIC1 | W878: =IF(U878=0,0,U878-(VLOOKUP(R878,'In-NonTI'!$J$4:$K$7,2,FALSE)*M878)) -> -14.122485 | X878: =IF(U878=0,0,-U878-((1-VLOOKUP(R878,'In-NonTI'!$J$4:$K$7,2,FALSE))*M878)) -> 8.3766517 | Y878: =VLOOKUP(R878,'In-NonTI'!$B$4:$F$7,5,FALSE) -> V-SA | Z878: =IF(SUMIFS(U:U,Q:Q,Q878,Y:Y,Y878)<=0,VLOOKUP(R878,'In-NonTI'!$B$4:$H$7,6,FALSE),VLOOKUP(R878,'In-NonTI'!$B$4:$H$7,7,FALSE)) -> VIC-SA
G879: 46261.76 | H879: 219 | I879: V-S-MNSP1 | J879: 0 | K879: 8.92 | L879: -0.1 | M879: =L879/12 -> -0.0083333333 | O879: 11658 | P879: 46261 | Q879: 219 | R879: V-S-MNSP1 | S879: 0 | T879: 0.1939297 | U879: =S879-T879 -> -0.1939297 | V879: =VLOOKUP(R879,'In-NonTI'!B:C,2,FALSE) -> VIC1 | W879: =IF(U879=0,0,U879-(VLOOKUP(R879,'In-NonTI'!$J$4:$K$7,2,FALSE)*M879)) -> -0.18651303 | X879: =IF(U879=0,0,-U879-((1-VLOOKUP(R879,'In-NonTI'!$J$4:$K$7,2,FALSE))*M879)) -> 0.19484637 | Y879: =VLOOKUP(R879,'In-NonTI'!$B$4:$F$7,5,FALSE) -> V-SA | Z879: =IF(SUMIFS(U:U,Q:Q,Q879,Y:Y,Y879)<=0,VLOOKUP(R879,'In-NonTI'!$B$4:$H$7,6,FALSE),VLOOKUP(R879,'In-NonTI'!$B$4:$H$7,7,FALSE)) -> VIC-SA
... G1155: 46262 | H1155: 288 | I1155: V-S-MNSP1 | J1155: 0 | K1155: 80 | L1155: 7.61 | M1155: =L1155/12 -> 0.63416667 | O1155: 11658 | P1155: 46261 | Q1155: 288 | R1155: V-S-MNSP1 | S1155: 8.2062124 | T1155: 0 | U1155: =S1155-T1155 -> 8.2062124 | V1155: =VLOOKUP(R1155,'In-NonTI'!B:C,2,FALSE) -> VIC1 | W1155: =IF(U1155=0,0,U1155-(VLOOKUP(R1155,'In-NonTI'!$J$4:$K$7,2,FALSE)*M1155)) -> 7.6418041 | X1155: =IF(U1155=0,0,-U1155-((1-VLOOKUP(R1155,'In-NonTI'!$J$4:$K$7,2,FALSE))*M1155)) -> -8.2759707 | Y1155: =VLOOKUP(R1155,'In-NonTI'!$B$4:$F$7,5,FALSE) -> V-SA | Z1155: =IF(SUMIFS(U:U,Q:Q,Q1155,Y:Y,Y1155)<=0,VLOOKUP(R1155,'In-NonTI'!$B$4:$H$7,6,FALSE),VLOOKUP(R1155,'In-NonTI'!$B$4:$H$7,7,FALSE)) -> VIC-SA

Sheet Calc
C2: Reginal Reference Prices | F2: Regional IC "From Region" Energy | I2: Regional IC "To Region" Energy | L2: Raw residues assigned to active D-IC's = RRP1 x Energy1 + RRP2 x Energy2 | R2: Net Loop Allocation (NLA) | S2: Negative NLA Regional Shares | V2: Net Regional Energy (NRE) negative if region exporting | Y2: Exporting Regions | Z2: Region Priority Order | AC2: D-ICs based on the Priorities and Exporting (Ex) Regions Number | AF2: Net Trade Quantity (NTQ) from abs(NRE) and Priorities/Ex Regions | AI2: NTQ assigned to the required D-IC's | AO2: Active D-IC's Notional Amount (NA) = NTQ x Price Difference except where 3 regions prices all equal, replace PriceDiff with 0.01 | AU2: Provisional Net Trade Amount (PA) = share NA * positive NLA | BA2: Net Trade Amount (NTA) = if PA<0 make 0 & scale down positive PA
B3: TI | C3: NSW1 | D3: SA1 | E3: VIC1 | F3: NSW1-SA1 | G3: VIC1-NSW1 | H3: V-SA | I3: NSW1-SA1 | J3: VIC1-NSW1 | K3: V-SA | L3: NSW-SA | M3: SA-NSW | N3: VIC-NSW | O3: NSW-VIC | P3: VIC-SA | Q3: SA-VIC | R3: Total | S3: NSW1 | T3: SA1 | U3: VIC1 | V3: NSW | W3: SA | X3: VIC | Y3: Count | Z3: 1st | AA3: 2nd | AB3: 3rd | AC3: 1st D-IC | AD3: 2nd D-IC | AE3: 3rd If 3 Ex | AF3: 1st D-IC | AG3: 2nd D-IC | AH3: 3rd If 3 Ex | AI3: NSW-SA | AJ3: SA-NSW | AK3: VIC-NSW | AL3: NSW-VIC | AM3: VIC-SA | AN3: SA-VIC | AO3: NSW-SA | AP3: SA-NSW | AQ3: VIC-NSW | AR3: NSW-VIC | AS3: VIC-SA | AT3: SA-VIC | AU3: NSW-SA | AV3: SA-NSW | AW3: VIC-NSW | AX3: NSW-VIC | AY3: VIC-SA | AZ3: SA-VIC | BA3: NSW-SA | BB3: SA-NSW | BC3: VIC-NSW | BD3: NSW-VIC | BE3: VIC-SA | BF3: SA-VIC
B4: 1 | C4: {=_xlfn.XLOOKUP(C$3&$B4,'In-TI'!$D$4:$D$867&'In-TI'!$C$4:$C$867,'In-TI'!$E$4:$E$867)} -> 500 | D4: {=_xlfn.XLOOKUP(D$3&$B4,'In-TI'!$D$4:$D$867&'In-TI'!$C$4:$C$867,'In-TI'!$E$4:$E$867)} -> 248.73 | E4: {=_xlfn.XLOOKUP(E$3&$B4,'In-TI'!$D$4:$D$867&'In-TI'!$C$4:$C$867,'In-TI'!$E$4:$E$867)} -> 35 | F4: =SUMIFS('In-TI'!$W$4:$W$1155,'In-TI'!$Y$4:$Y$1155,F$3,'In-TI'!$Q$4:$Q$1155,$B4) -> 9.2705538 | G4: =SUMIFS('In-TI'!$W$4:$W$1155,'In-TI'!$Y$4:$Y$1155,G$3,'In-TI'!$Q$4:$Q$1155,$B4) -> -18.664087 | H4: =SUMIFS('In-TI'!$W$4:$W$1155,'In-TI'!$Y$4:$Y$1155,H$3,'In-TI'!$Q$4:$Q$1155,$B4) -> -39.235229 | I4: =SUMIFS('In-TI'!$X$4:$X$1155,'In-TI'!$Y$4:$Y$1155,I$3,'In-TI'!$Q$4:$Q$1155,$B4) -> -10.118887 | J4: =SUMIFS('In-TI'!$X$4:$X$1155,'In-TI'!$Y$4:$Y$1155,J$3,'In-TI'!$Q$4:$Q$1155,$B4) -> 18.374921 | K4: =SUMIFS('In-TI'!$X$4:$X$1155,'In-TI'!$Y$4:$Y$1155,K$3,'In-TI'!$Q$4:$Q$1155,$B4) -> 32.361062 | L4: {=IF(_xlfn.XLOOKUP($B4&F$3,'In-TI'!$Q$4:$Q$1155&'In-TI'!$Y$4:$Y$1155,'In-TI'!$Z$4:$Z$1155)=L$3,F4*C4+I4*D4,0)} -> 0 | M4: {=IF(_xlfn.XLOOKUP($B4&I$3,'In-TI'!$Q$4:$Q$1155&'In-TI'!$Y$4:$Y$1155,'In-TI'!$Z$4:$Z$1155)=M$3,F4*C4+I4*D4,0)} -> 2118.4061 | N4: {=IF(_xlfn.XLOOKUP($B4&G$3,'In-TI'!$Q$4:$Q$1155&'In-TI'!$Y$4:$Y$1155,'In-TI'!$Z$4:$Z$1155)=N$3,G4*E4+J4*C4,0)} -> 8534.2173 | O4: {=IF(_xlfn.XLOOKUP($B4&J$3,'In-TI'!$Q$4:$Q$1155&'In-TI'!$Y$4:$Y$1155,'In-TI'!$Z$4:$Z$1155)=O$3,G4*E4+J4*C4,0)} -> 0 | P4: {=IF(_xlfn.XLOOKUP($B4&H$3,'In-TI'!$Q$4:$Q$1155&'In-TI'!$Y$4:$Y$1155,'In-TI'!$Z$4:$Z$1155)=P$3,H4*E4+K4*D4,0)} -> 6675.934 | Q4: {=IF(_xlfn.XLOOKUP($B4&K$3,'In-TI'!$Q$4:$Q$1155&'In-TI'!$Y$4:$Y$1155,'In-TI'!$Z$4:$Z$1155)=Q$3,H4*E4+K4*D4,0)} -> 0 | R4: =SUM(L4:Q4) -> 17328.557 | S4: =IF($R4>=0,0,$R4*VLOOKUP(S$3,'In-NonTI'!$S$4:$U$6,3,0)) -> 0 | T4: =IF($R4>=0,0,$R4*VLOOKUP(T$3,'In-NonTI'!$S$4:$U$6,3,0)) -> 0 | U4: =IF($R4>=0,0,$R4*VLOOKUP(U$3,'In-NonTI'!$S$4:$U$6,3,0)) -> 0 | V4: =F4+J4 -> 27.645474 | W4: =I4+K4 -> 22.242175 | X4: =G4+H4 -> -57.899316 | Y4: =COUNTIFS(V4:X4,"<0") -> 1 | Z4: =INDEX($V$3:$X$3,MATCH(LARGE($V4:$X4,3),$V4:$X4,0)) -> VIC | AA4: =INDEX($V$3:$X$3,MATCH(LARGE($V4:$X4,2),$V4:$X4,0)) -> SA | AB4: =INDEX($V$3:$X$3,MATCH(LARGE($V4:$X4,1),$V4:$X4,0)) -> NSW | AC4: =IF(Y4=2,Z4&"-"&AB4,Z4&"-"&AA4) -> VIC-SA | AD4: =IF(Y4=1,Z4&"-"&AB4,AA4&"-"&AB4) -> VIC-NSW | AE4: =IF(OR(Y4=3,Y4=0),AB4&"-"&Z4,0) -> 0 | AF4: =IF(Y4=1,ABS(_xlfn.XLOOKUP(AA4,$V$3:$X$3,V4:X4)),ABS(_xlfn.XLOOKUP(Z4,$V$3:$X$3,V4:X4))) -> 22.242175 | AG4: =IF(Y4=1,ABS(_xlfn.XLOOKUP(AB4,$V$3:$X$3,V4:X4)),ABS(_xlfn.XLOOKUP(AA4,$V$3:$X$3,V4:X4))) -> 27.645474 | AH4: =IF(Y4=3,ABS(_xlfn.XLOOKUP(AB4,$V$3:$X$3,V4:X4)),0) -> 0 | AI4: =IF($AC4=AI$3,$AF4,IF($AD4=AI$3,$AG4,IF($AE4=AI$3,$AH4,0))) -> 0 | AJ4: =IF($AC4=AJ$3,$AF4,IF($AD4=AJ$3,$AG4,IF($AE4=AJ$3,$AH4,0))) -> 0 | AK4: =IF($AC4=AK$3,$AF4,IF($AD4=AK$3,$AG4,IF($AE4=AK$3,$AH4,0))) -> 27.645474 | AL4: =IF($AC4=AL$3,$AF4,IF($AD4=AL$3,$AG4,IF($AE4=AL$3,$AH4,0))) -> 0 | AM4: =IF($AC4=AM$3,$AF4,IF($AD4=AM$3,$AG4,IF($AE4=AM$3,$AH4,0))) -> 22.242175 | AN4: =IF($AC4=AN$3,$AF4,IF($AD4=AN$3,$AG4,IF($AE4=AN$3,$AH4,0))) -> 0 | AO4: =IF(AND(C4=D4,D4=E4),AI4*0.01,AI4*(D4-C4)) -> 0 | AP4: =IF(AND(C4=D4,D4=E4),AJ4*0.01,AJ4*(C4-D4)) -> 0 | AQ4: =IF(AND(C4=D4,D4=E4),AK4*0.01,AK4*(C4-E4)) -> 12855.146 | AR4: =IF(AND(C4=D4,D4=E4),AL4*0.01,AL4*(E4-C4)) -> 0 | AS4: =IF(AND(C4=D4,D4=E4),AM4*0.01,AM4*(D4-E4)) -> 4753.82 | AT4: =IF(AND(C4=D4,D4=E4),AN4*0.01,AN4*(E4-D4)) -> 0 | AU4: =IF($R4<=0,0,(AO4/SUM($AO4:$AT4))*$R4) -> 0 | AV4: =IF($R4<=0,0,(AP4/SUM($AO4:$AT4))*$R4) -> 0 | AW4: =IF($R4<=0,0,(AQ4/SUM($AO4:$AT4))*$R4) -> 12650.438 | AX4: =IF($R4<=0,0,(AR4/SUM($AO4:$AT4))*$R4) -> 0 | AY4: =IF($R4<=0,0,(AS4/SUM($AO4:$AT4))*$R4) -> 4678.1194 | AZ4: =IF($R4<=0,0,(AT4/SUM($AO4:$AT4))*$R4) -> 0 | BA4: =IF($R4<=0,0,MAX((AU4/SUMIF($AU4:$AZ4,">0"))*$R4,0)) -> 0 | BB4: =IF($R4<=0,0,MAX((AV4/SUMIF($AU4:$AZ4,">0"))*$R4,0)) -> 0 | BC4: =IF($R4<=0,0,MAX((AW4/SUMIF($AU4:$AZ4,">0"))*$R4,0)) -> 12650.438 | BD4: =IF($R4<=0,0,MAX((AX4/SUMIF($AU4:$AZ4,">0"))*$R4,0)) -> 0 | BE4: =IF($R4<=0,0,MAX((AY4/SUMIF($AU4:$AZ4,">0"))*$R4,0)) -> 4678.1194 | BF4: =IF($R4<=0,0,MAX((AZ4/SUMIF($AU4:$AZ4,">0"))*$R4,0)) -> 0
B5: 2 | C5: {=_xlfn.XLOOKUP(C$3&$B5,'In-TI'!$D$4:$D$867&'In-TI'!$C$4:$C$867,'In-TI'!$E$4:$E$867)} -> 500 | D5: {=_xlfn.XLOOKUP(D$3&$B5,'In-TI'!$D$4:$D$867&'In-TI'!$C$4:$C$867,'In-TI'!$E$4:$E$867)} -> 220.63 | E5: {=_xlfn.XLOOKUP(E$3&$B5,'In-TI'!$D$4:$D$867&'In-TI'!$C$4:$C$867,'In-TI'!$E$4:$E$867)} -> 35 | F5: =SUMIFS('In-TI'!$W$4:$W$1155,'In-TI'!$Y$4:$Y$1155,F$3,'In-TI'!$Q$4:$Q$1155,$B5) -> 8.4974228 | G5: =SUMIFS('In-TI'!$W$4:$W$1155,'In-TI'!$Y$4:$Y$1155,G$3,'In-TI'!$Q$4:$Q$1155,$B5) -> -16.556532 | H5: =SUMIFS('In-TI'!$W$4:$W$1155,'In-TI'!$Y$4:$Y$1155,H$3,'In-TI'!$Q$4:$Q$1155,$B5) -> -38.811541 | I5: =SUMIFS('In-TI'!$X$4:$X$1155,'In-TI'!$Y$4:$Y$1155,I$3,'In-TI'!$Q$4:$Q$1155,$B5) -> -9.2974228 | J5: =SUMIFS('In-TI'!$X$4:$X$1155,'In-TI'!$Y$4:$Y$1155,J$3,'In-TI'!$Q$4:$Q$1155,$B5) -> 16.340699 | K5: =SUMIFS('In-TI'!$X$4:$X$1155,'In-TI'!$Y$4:$Y$1155,K$3,'In-TI'!$Q$4:$Q$1155,$B5) -> 31.819874 | L5: {=IF(_xlfn.XLOOKUP($B5&F$3,'In-TI'!$Q$4:$Q$1155&'In-TI'!$Y$4:$Y$1155,'In-TI'!$Z$4:$Z$1155)=L$3,F5*C5+I5*D5,0)} -> 0 | M5: {=IF(_xlfn.XLOOKUP($B5&I$3,'In-TI'!$Q$4:$Q$1155&'In-TI'!$Y$4:$Y$1155,'In-TI'!$Z$4:$Z$1155)=M$3,F5*C5+I5*D5,0)} -> 2197.421 | N5: {=IF(_xlfn.XLOOKUP($B5&G$3,'In-TI'!$Q$4:$Q$1155&'In-TI'!$Y$4:$Y$1155,'In-TI'!$Z$4:$Z$1155)=N$3,G5*E5+J5*C5,0)} -> 7590.8709 | O5: {=IF(_xlfn.XLOOKUP($B5&J$3,'In-TI'!$Q$4:$Q$1155&'In-TI'!$Y$4:$Y$1155,'In-TI'!$Z$4:$Z$1155)=O$3,G5*E5+J5*C5,0)} -> 0 | P5: {=IF(_xlfn.XLOOKUP($B5&H$3,'In-TI'!$Q$4:$Q$1155&'In-TI'!$Y$4:$Y$1155,'In-TI'!$Z$4:$Z$1155)=P$3,H5*E5+K5*D5,0)} -> 5662.0149 | Q5: {=IF(_xlfn.XLOOKUP($B5&K$3,'In-TI'!$Q$4:$Q$1155&'In-TI'!$Y$4:$Y$1155,'In-TI'!$Z$4:$Z$1155)=Q$3,H5*E5+K5*D5,0)} -> 0 | R5: =SUM(L5:Q5) -> 15450.307 | S5: =IF($R5>=0,0,$R5*VLOOKUP(S$3,'In-NonTI'!$S$4:$U$6,3,0)) -> 0 | T5: =IF($R5>=0,0,$R5*VLOOKUP(T$3,'In-NonTI'!$S$4:$U$6,3,0)) -> 0 | U5: =IF($R5>=0,0,$R5*VLOOKUP(U$3,'In-NonTI'!$S$4:$U$6,3,0)) -> 0 | V5: =F5+J5 -> 24.838122 | W5: =I5+K5 -> 22.522451 | X5: =G5+H5 -> -55.368073 | Y5: =COUNTIFS(V5:X5,"<0") -> 1 | Z5: =INDEX($V$3:$X$3,MATCH(LARGE($V5:$X5,3),$V5:$X5,0)) -> VIC | AA5: =INDEX($V$3:$X$3,MATCH(LARGE($V5:$X5,2),$V5:$X5,0)) -> SA | AB5: =INDEX($V$3:$X$3,MATCH(LARGE($V5:$X5,1),$V5:$X5,0)) -> NSW | AC5: =IF(Y5=2,Z5&"-"&AB5,Z5&"-"&AA5) -> VIC-SA | AD5: =IF(Y5=1,Z5&"-"&AB5,AA5&"-"&AB5) -> VIC-NSW | AE5: =IF(OR(Y5=3,Y5=0),AB5&"-"&Z5,0) -> 0 | AF5: =IF(Y5=1,ABS(_xlfn.XLOOKUP(AA5,$V$3:$X$3,V5:X5)),ABS(_xlfn.XLOOKUP(Z5,$V$3:$X$3,V5:X5))) -> 22.522451 | AG5: =IF(Y5=1,ABS(_xlfn.XLOOKUP(AB5,$V$3:$X$3,V5:X5)),ABS(_xlfn.XLOOKUP(AA5,$V$3:$X$3,V5:X5))) -> 24.838122 | AH5: =IF(Y5=3,ABS(_xlfn.XLOOKUP(AB5,$V$3:$X$3,V5:X5)),0) -> 0 | AI5: =IF($AC5=AI$3,$AF5,IF($AD5=AI$3,$AG5,IF($AE5=AI$3,$AH5,0))) -> 0 | AJ5: =IF($AC5=AJ$3,$AF5,IF($AD5=AJ$3,$AG5,IF($AE5=AJ$3,$AH5,0))) -> 0 | AK5: =IF($AC5=AK$3,$AF5,IF($AD5=AK$3,$AG5,IF($AE5=AK$3,$AH5,0))) -> 24.838122 | AL5: =IF($AC5=AL$3,$AF5,IF($AD5=AL$3,$AG5,IF($AE5=AL$3,$AH5,0))) -> 0 | AM5: =IF($AC5=AM$3,$AF5,IF($AD5=AM$3,$AG5,IF($AE5=AM$3,$AH5,0))) -> 22.522451 | AN5: =IF($AC5=AN$3,$AF5,IF($AD5=AN$3,$AG5,IF($AE5=AN$3,$AH5,0))) -> 0 | AO5: =IF(AND(C5=D5,D5=E5),AI5*0.01,AI5*(D5-C5)) -> 0 | AP5: =IF(AND(C5=D5,D5=E5),AJ5*0.01,AJ5*(C5-D5)) -> 0 | AQ5: =IF(AND(C5=D5,D5=E5),AK5*0.01,AK5*(C5-E5)) -> 11549.727 | AR5: =IF(AND(C5=D5,D5=E5),AL5*0.01,AL5*(E5-C5)) -> 0 | AS5: =IF(AND(C5=D5,D5=E5),AM5*0.01,AM5*(D5-E5)) -> 4180.8427 | AT5: =IF(AND(C5=D5,D5=E5),AN5*0.01,AN5*(E5-D5)) -> 0 | AU5: =IF($R5<=0,0,(AO5/SUM($AO5:$AT5))*$R5) -> 0 | AV5: =IF($R5<=0,0,(AP5/SUM($AO5:$AT5))*$R5) -> 0 | AW5: =IF($R5<=0,0,(AQ5/SUM($AO5:$AT5))*$R5) -> 11343.952 | AX5: =IF($R5<=0,0,(AR5/SUM($AO5:$AT5))*$R5) -> 0 | AY5: =IF($R5<=0,0,(AS5/SUM($AO5:$AT5))*$R5) -> 4106.355 | AZ5: =IF($R5<=0,0,(AT5/SUM($AO5:$AT5))*$R5) -> 0 | BA5: =IF($R5<=0,0,MAX((AU5/SUMIF($AU5:$AZ5,">0"))*$R5,0)) -> 0 | BB5: =IF($R5<=0,0,MAX((AV5/SUMIF($AU5:$AZ5,">0"))*$R5,0)) -> 0 | BC5: =IF($R5<=0,0,MAX((AW5/SUMIF($AU5:$AZ5,">0"))*$R5,0)) -> 11343.952 | BD5: =IF($R5<=0,0,MAX((AX5/SUMIF($AU5:$AZ5,">0"))*$R5,0)) -> 0 | BE5: =IF($R5<=0,0,MAX((AY5/SUMIF($AU5:$AZ5,">0"))*$R5,0)) -> 4106.355 | BF5: =IF($R5<=0,0,MAX((AZ5/SUMIF($AU5:$AZ5,">0"))*$R5,0)) -> 0
B6: 3 | C6: {=_xlfn.XLOOKUP(C$3&$B6,'In-TI'!$D$4:$D$867&'In-TI'!$C$4:$C$867,'In-TI'!$E$4:$E$867)} -> 500 | D6: {=_xlfn.XLOOKUP(D$3&$B6,'In-TI'!$D$4:$D$867&'In-TI'!$C$4:$C$867,'In-TI'!$E$4:$E$867)} -> 112.07 | E6: {=_xlfn.XLOOKUP(E$3&$B6,'In-TI'!$D$4:$D$867&'In-TI'!$C$4:$C$867,'In-TI'!$E$4:$E$867)} -> 35 | F6: =SUMIFS('In-TI'!$W$4:$W$1155,'In-TI'!$Y$4:$Y$1155,F$3,'In-TI'!$Q$4:$Q$1155,$B6) -> 7.3554946 | G6: =SUMIFS('In-TI'!$W$4:$W$1155,'In-TI'!$Y$4:$Y$1155,G$3,'In-TI'!$Q$4:$Q$1155,$B6) -> -12.93774 | H6: =SUMIFS('In-TI'!$W$4:$W$1155,'In-TI'!$Y$4:$Y$1155,H$3,'In-TI'!$Q$4:$Q$1155,$B6) -> -44.705866 | I6: =SUMIFS('In-TI'!$X$4:$X$1155,'In-TI'!$Y$4:$Y$1155,I$3,'In-TI'!$Q$4:$Q$1155,$B6) -> -8.1846613 | J6: =SUMIFS('In-TI'!$X$4:$X$1155,'In-TI'!$Y$4:$Y$1155,J$3,'In-TI'!$Q$4:$Q$1155,$B6) -> 12.721074 | K6: =SUMIFS('In-TI'!$X$4:$X$1155,'In-TI'!$Y$4:$Y$1155,K$3,'In-TI'!$Q$4:$Q$1155,$B6) -> 37.818366 | L6: {=IF(_xlfn.XLOOKUP($B6&F$3,'In-TI'!$Q$4:$Q$1155&'In-TI'!$Y$4:$Y$1155,'In-TI'!$Z$4:$Z$1155)=L$3,F6*C6+I6*D6,0)} -> 0 | M6: {=IF(_xlfn.XLOOKUP($B6&I$3,'In-TI'!$Q$4:$Q$1155&'In-TI'!$Y$4:$Y$1155,'In-TI'!$Z$4:$Z$1155)=M$3,F6*C6+I6*D6,0)} -> 2760.4923 | N6: {=IF(_xlfn.XLOOKUP($B6&G$3,'In-TI'!$Q$4:$Q$1155&'In-TI'!$Y$4:$Y$1155,'In-TI'!$Z$4:$Z$1155)=N$3,G6*E6+J6*C6,0)} -> 5907.716 | O6: {=IF(_xlfn.XLOOKUP($B6&J$3,'In-TI'!$Q$4:$Q$1155&'In-TI'!$Y$4:$Y$1155,'In-TI'!$Z$4:$Z$1155)=O$3,G6*E6+J6*C6,0)} -> 0 | P6: {=IF(_xlfn.XLOOKUP($B6&H$3,'In-TI'!$Q$4:$Q$1155&'In-TI'!$Y$4:$Y$1155,'In-TI'!$Z$4:$Z$1155)=P$3,H6*E6+K6*D6,0)} -> 2673.599 | Q6: {=IF(_xlfn.XLOOKUP($B6&K$3,'In-TI'!$Q$4:$Q$1155&'In-TI'!$Y$4:$Y$1155,'In-TI'!$Z$4:$Z$1155)=Q$3,H6*E6+K6*D6,0)} -> 0 | R6: =SUM(L6:Q6) -> 11341.807 | S6: =IF($R6>=0,0,$R6*VLOOKUP(S$3,'In-NonTI'!$S$4:$U$6,3,0)) -> 0 | T6: =IF($R6>=0,0,$R6*VLOOKUP(T$3,'In-NonTI'!$S$4:$U$6,3,0)) -> 0 | U6: =IF($R6>=0,0,$R6*VLOOKUP(U$3,'In-NonTI'!$S$4:$U$6,3,0)) -> 0 | V6: =F6+J6 -> 20.076568 | W6: =I6+K6 -> 29.633705 | X6: =G6+H6 -> -57.643607 | Y6: =COUNTIFS(V6:X6,"<0") -> 1 | Z6: =INDEX($V$3:$X$3,MATCH(LARGE($V6:$X6,3),$V6:$X6,0)) -> VIC | AA6: =INDEX($V$3:$X$3,MATCH(LARGE($V6:$X6,2),$V6:$X6,0)) -> NSW | AB6: =INDEX($V$3:$X$3,MATCH(LARGE($V6:$X6,1),$V6:$X6,0)) -> SA | AC6: =IF(Y6=2,Z6&"-"&AB6,Z6&"-"&AA6) -> VIC-NSW | AD6: =IF(Y6=1,Z6&"-"&AB6,AA6&"-"&AB6) -> VIC-SA | AE6: =IF(OR(Y6=3,Y6=0),AB6&"-"&Z6,0) -> 0 | AF6: =IF(Y6=1,ABS(_xlfn.XLOOKUP(AA6,$V$3:$X$3,V6:X6)),ABS(_xlfn.XLOOKUP(Z6,$V$3:$X$3,V6:X6))) -> 20.076568 | AG6: =IF(Y6=1,ABS(_xlfn.XLOOKUP(AB6,$V$3:$X$3,V6:X6)),ABS(_xlfn.XLOOKUP(AA6,$V$3:$X$3,V6:X6))) -> 29.633705 | AH6: =IF(Y6=3,ABS(_xlfn.XLOOKUP(AB6,$V$3:$X$3,V6:X6)),0) -> 0 | AI6: =IF($AC6=AI$3,$AF6,IF($AD6=AI$3,$AG6,IF($AE6=AI$3,$AH6,0))) -> 0 | AJ6: =IF($AC6=AJ$3,$AF6,IF($AD6=AJ$3,$AG6,IF($AE6=AJ$3,$AH6,0))) -> 0 | AK6: =IF($AC6=AK$3,$AF6,IF($AD6=AK$3,$AG6,IF($AE6=AK$3,$AH6,0))) -> 20.076568 | AL6: =IF($AC6=AL$3,$AF6,IF($AD6=AL$3,$AG6,IF($AE6=AL$3,$AH6,0))) -> 0 | AM6: =IF($AC6=AM$3,$AF6,IF($AD6=AM$3,$AG6,IF($AE6=AM$3,$AH6,0))) -> 29.633705 | AN6: =IF($AC6=AN$3,$AF6,IF($AD6=AN$3,$AG6,IF($AE6=AN$3,$AH6,0))) -> 0 | AO6: =IF(AND(C6=D6,D6=E6),AI6*0.01,AI6*(D6-C6)) -> 0 | AP6: =IF(AND(C6=D6,D6=E6),AJ6*0.01,AJ6*(C6-D6)) -> 0 | AQ6: =IF(AND(C6=D6,D6=E6),AK6*0.01,AK6*(C6-E6)) -> 9335.6043 | AR6: =IF(AND(C6=D6,D6=E6),AL6*0.01,AL6*(E6-C6)) -> 0 | AS6: =IF(AND(C6=D6,D6=E6),AM6*0.01,AM6*(D6-E6)) -> 2283.8696 | AT6: =IF(AND(C6=D6,D6=E6),AN6*0.01,AN6*(E6-D6)) -> 0 | AU6: =IF($R6<=0,0,(AO6/SUM($AO6:$AT6))*$R6) -> 0 | AV6: =IF($R6<=0,0,(AP6/SUM($AO6:$AT6))*$R6) -> 0 | AW6: =IF($R6<=0,0,(AQ6/SUM($AO6:$AT6))*$R6) -> 9112.5145 | AX6: =IF($R6<=0,0,(AR6/SUM($AO6:$AT6))*$R6) -> 0 | AY6: =IF($R6<=0,0,(AS6/SUM($AO6:$AT6))*$R6) -> 2229.2928 | AZ6: =IF($R6<=0,0,(AT6/SUM($AO6:$AT6))*$R6) -> 0 | BA6: =IF($R6<=0,0,MAX((AU6/SUMIF($AU6:$AZ6,">0"))*$R6,0)) -> 0 | BB6: =IF($R6<=0,0,MAX((AV6/SUMIF($AU6:$AZ6,">0"))*$R6,0)) -> 0 | BC6: =IF($R6<=0,0,MAX((AW6/SUMIF($AU6:$AZ6,">0"))*$R6,0)) -> 9112.5145 | BD6: =IF($R6<=0,0,MAX((AX6/SUMIF($AU6:$AZ6,">0"))*$R6,0)) -> 0 | BE6: =IF($R6<=0,0,MAX((AY6/SUMIF($AU6:$AZ6,">0"))*$R6,0)) -> 2229.2928 | BF6: =IF($R6<=0,0,MAX((AZ6/SUMIF($AU6:$AZ6,">0"))*$R6,0)) -> 0
B7: 4 | C7: {=_xlfn.XLOOKUP(C$3&$B7,'In-TI'!$D$4:$D$867&'In-TI'!$C$4:$C$867,'In-TI'!$E$4:$E$867)} -> 500 | D7: {=_xlfn.XLOOKUP(D$3&$B7,'In-TI'!$D$4:$D$867&'In-TI'!$C$4:$C$867,'In-TI'!$E$4:$E$867)} -> 296.03 | E7: {=_xlfn.XLOOKUP(E$3&$B7,'In-TI'!$D$4:$D$867&'In-TI'!$C$4:$C$867,'In-TI'!$E$4:$E$867)} -> 35 | F7: =SUMIFS('In-TI'!$W$4:$W$1155,'In-TI'!$Y$4:$Y$1155,F$3,'In-TI'!$Q$4:$Q$1155,$B7) -> 7.2635678 | G7: =SUMIFS('In-TI'!$W$4:$W$1155,'In-TI'!$Y$4:$Y$1155,G$3,'In-TI'!$Q$4:$Q$1155,$B7) -> -21.637404 | H7: =SUMIFS('In-TI'!$W$4:$W$1155,'In-TI'!$Y$4:$Y$1155,H$3,'In-TI'!$Q$4:$Q$1155,$B7) -> -47.623786 | I7: =SUMIFS('In-TI'!$X$4:$X$1155,'In-TI'!$Y$4:$Y$1155,I$3,'In-TI'!$Q$4:$Q$1155,$B7) -> -7.9952345 | J7: =SUMIFS('In-TI'!$X$4:$X$1155,'In-TI'!$Y$4:$Y$1155,J$3,'In-TI'!$Q$4:$Q$1155,$B7) -> 21.414904 | K7: =SUMIFS('In-TI'!$X$4:$X$1155,'In-TI'!$Y$4:$Y$1155,K$3,'In-TI'!$Q$4:$Q$1155,$B7) -> 41.038786 | L7: {=IF(_xlfn.XLOOKUP($B7&F$3,'In-TI'!$Q$4:$Q$1155&'In-TI'!$Y$4:$Y$1155,'In-TI'!$Z$4:$Z$1155)=L$3,F7*C7+I7*D7,0)} -> 0 | M7: {=IF(_xlfn.XLOOKUP($B7&I$3,'In-TI'!$Q$4:$Q$1155&'In-TI'!$Y$4:$Y$1155,'In-TI'!$Z$4:$Z$1155)=M$3,F7*C7+I7*D7,0)} -> 1264.9546 | N7: {=IF(_xlfn.XLOOKUP($B7&G$3,'In-TI'!$Q$4:$Q$1155&'In-TI'!$Y$4:$Y$1155,'In-TI'!$Z$4:$Z$1155)=N$3,G7*E7+J7*C7,0)} -> 9950.1428 | O7: {=IF(_xlfn.XLOOKUP($B7&J$3,'In-TI'!$Q$4:$Q$1155&'In-TI'!$Y$4:$Y$1155,'In-TI'!$Z$4:$Z$1155)=O$3,G7*E7+J7*C7,0)} -> 0 | P7: {=IF(_xlfn.XLOOKUP($B7&H$3,'In-TI'!$Q$4:$Q$1155&'In-TI'!$Y$4:$Y$1155,'In-TI'!$Z$4:$Z$1155)=P$3,H7*E7+K7*D7,0)} -> 10481.879 | Q7: {=IF(_xlfn.XLOOKUP($B7&K$3,'In-TI'!$Q$4:$Q$1155&'In-TI'!$Y$4:$Y$1155,'In-TI'!$Z$4:$Z$1155)=Q$3,H7*E7+K7*D7,0)} -> 0 | R7: =SUM(L7:Q7) -> 21696.977 | S7: =IF($R7>=0,0,$R7*VLOOKUP(S$3,'In-NonTI'!$S$4:$U$6,3,0)) -> 0 | T7: =IF($R7>=0,0,$R7*VLOOKUP(T$3,'In-NonTI'!$S$4:$U$6,3,0)) -> 0 | U7: =IF($R7>=0,0,$R7*VLOOKUP(U$3,'In-NonTI'!$S$4:$U$6,3,0)) -> 0 | V7: =F7+J7 -> 28.678472 | W7: =I7+K7 -> 33.043552 | X7: =G7+H7 -> -69.26119 | Y7: =COUNTIFS(V7:X7,"<0") -> 1 | Z7: =INDEX($V$3:$X$3,MATCH(LARGE($V7:$X7,3),$V7:$X7,0)) -> VIC | AA7: =INDEX($V$3:$X$3,MATCH(LARGE($V7:$X7,2),$V7:$X7,0)) -> NSW | AB7: =INDEX($V$3:$X$3,MATCH(LARGE($V7:$X7,1),$V7:$X7,0)) -> SA | AC7: =IF(Y7=2,Z7&"-"&AB7,Z7&"-"&AA7) -> VIC-NSW | AD7: =IF(Y7=1,Z7&"-"&AB7,AA7&"-"&AB7) -> VIC-SA | AE7: =IF(OR(Y7=3,Y7=0),AB7&"-"&Z7,0) -> 0 | AF7: =IF(Y7=1,ABS(_xlfn.XLOOKUP(AA7,$V$3:$X$3,V7:X7)),ABS(_xlfn.XLOOKUP(Z7,$V$3:$X$3,V7:X7))) -> 28.678472 | AG7: =IF(Y7=1,ABS(_xlfn.XLOOKUP(AB7,$V$3:$X$3,V7:X7)),ABS(_xlfn.XLOOKUP(AA7,$V$3:$X$3,V7:X7))) -> 33.043552 | AH7: =IF(Y7=3,ABS(_xlfn.XLOOKUP(AB7,$V$3:$X$3,V7:X7)),0) -> 0 | AI7: =IF($AC7=AI$3,$AF7,IF($AD7=AI$3,$AG7,IF($AE7=AI$3,$AH7,0))) -> 0 | AJ7: =IF($AC7=AJ$3,$AF7,IF($AD7=AJ$3,$AG7,IF($AE7=AJ$3,$AH7,0))) -> 0 | AK7: =IF($AC7=AK$3,$AF7,IF($AD7=AK$3,$AG7,IF($AE7=AK$3,$AH7,0))) -> 28.678472 | AL7: =IF($AC7=AL$3,$AF7,IF($AD7=AL$3,$AG7,IF($AE7=AL$3,$AH7,0))) -> 0 | AM7: =IF($AC7=AM$3,$AF7,IF($AD7=AM$3,$AG7,IF($AE7=AM$3,$AH7,0))) -> 33.043552 | AN7: =IF($AC7=AN$3,$AF7,IF($AD7=AN$3,$AG7,IF($AE7=AN$3,$AH7,0))) -> 0 | AO7: =IF(AND(C7=D7,D7=E7),AI7*0.01,AI7*(D7-C7)) -> 0 | AP7: =IF(AND(C7=D7,D7=E7),AJ7*0.01,AJ7*(C7-D7)) -> 0 | AQ7: =IF(AND(C7=D7,D7=E7),AK7*0.01,AK7*(C7-E7)) -> 13335.489 | AR7: =IF(AND(C7=D7,D7=E7),AL7*0.01,AL7*(E7-C7)) -> 0 | AS7: =IF(AND(C7=D7,D7=E7),AM7*0.01,AM7*(D7-E7)) -> 8625.3583 | AT7: =IF(AND(C7=D7,D7=E7),AN7*0.01,AN7*(E7-D7)) -> 0 | AU7: =IF($R7<=0,0,(AO7/SUM($AO7:$AT7))*$R7) -> 0 | AV7: =IF($R7<=0,0,(AP7/SUM($AO7:$AT7))*$R7) -> 0 | AW7: =IF($R7<=0,0,(AQ7/SUM($AO7:$AT7))*$R7) -> 13175.257 | AX7: =IF($R7<=0,0,(AR7/SUM($AO7:$AT7))*$R7) -> 0 | AY7: =IF($R7<=0,0,(AS7/SUM($AO7:$AT7))*$R7) -> 8521.7202 | AZ7: =IF($R7<=0,0,(AT7/SUM($AO7:$AT7))*$R7) -> 0 | BA7: =IF($R7<=0,0,MAX((AU7/SUMIF($AU7:$AZ7,">0"))*$R7,0)) -> 0 | BB7: =IF($R7<=0,0,MAX((AV7/SUMIF($AU7:$AZ7,">0"))*$R7,0)) -> 0 | BC7: =IF($R7<=0,0,MAX((AW7/SUMIF($AU7:$AZ7,">0"))*$R7,0)) -> 13175.257 | BD7: =IF($R7<=0,0,MAX((AX7/SUMIF($AU7:$AZ7,">0"))*$R7,0)) -> 0 | BE7: =IF($R7<=0,0,MAX((AY7/SUMIF($AU7:$AZ7,">0"))*$R7,0)) -> 8521.7202 | BF7: =IF($R7<=0,0,MAX((AZ7/SUMIF($AU7:$AZ7,">0"))*$R7,0)) -> 0
B8: 5 | C8: {=_xlfn.XLOOKUP(C$3&$B8,'In-TI'!$D$4:$D$867&'In-TI'!$C$4:$C$867,'In-TI'!$E$4:$E$867)} -> 500 | D8: {=_xlfn.XLOOKUP(D$3&$B8,'In-TI'!$D$4:$D$867&'In-TI'!$C$4:$C$867,'In-TI'!$E$4:$E$867)} -> 295.61 | E8: {=_xlfn.XLOOKUP(E$3&$B8,'In-TI'!$D$4:$D$867&'In-TI'!$C$4:$C$867,'In-TI'!$E$4:$E$867)} -> 35 | F8: =SUMIFS('In-TI'!$W$4:$W$1155,'In-TI'!$Y$4:$Y$1155,F$3,'In-TI'!$Q$4:$Q$1155,$B8) -> 6.8598008 | G8: =SUMIFS('In-TI'!$W$4:$W$1155,'In-TI'!$Y$4:$Y$1155,G$3,'In-TI'!$Q$4:$Q$1155,$B8) -> -21.400348 | H8: =SUMIFS('In-TI'!$W$4:$W$1155,'In-TI'!$Y$4:$Y$1155,H$3,'In-TI'!$Q$4:$Q$1155,$B8) -> -43.802562 | I8: =SUMIFS('In-TI'!$X$4:$X$1155,'In-TI'!$Y$4:$Y$1155,I$3,'In-TI'!$Q$4:$Q$1155,$B8) -> -7.6131341 | J8: =SUMIFS('In-TI'!$X$4:$X$1155,'In-TI'!$Y$4:$Y$1155,J$3,'In-TI'!$Q$4:$Q$1155,$B8) -> 21.170348 | K8: =SUMIFS('In-TI'!$X$4:$X$1155,'In-TI'!$Y$4:$Y$1155,K$3,'In-TI'!$Q$4:$Q$1155,$B8) -> 37.105062 | L8: {=IF(_xlfn.XLOOKUP($B8&F$3,'In-TI'!$Q$4:$Q$1155&'In-TI'!$Y$4:$Y$1155,'In-TI'!$Z$4:$Z$1155)=L$3,F8*C8+I8*D8,0)} -> 0 | M8: {=IF(_xlfn.XLOOKUP($B8&I$3,'In-TI'!$Q$4:$Q$1155&'In-TI'!$Y$4:$Y$1155,'In-TI'!$Z$4:$Z$1155)=M$3,F8*C8+I8*D8,0)} -> 1179.3818 | N8: {=IF(_xlfn.XLOOKUP($B8&G$3,'In-TI'!$Q$4:$Q$1155&'In-TI'!$Y$4:$Y$1155,'In-TI'!$Z$4:$Z$1155)=N$3,G8*E8+J8*C8,0)} -> 9836.1616 | O8: {=IF(_xlfn.XLOOKUP($B8&J$3,'In-TI'!$Q$4:$Q$1155&'In-TI'!$Y$4:$Y$1155,'In-TI'!$Z$4:$Z$1155)=O$3,G8*E8+J8*C8,0)} -> 0 | P8: {=IF(_xlfn.XLOOKUP($B8&H$3,'In-TI'!$Q$4:$Q$1155&'In-TI'!$Y$4:$Y$1155,'In-TI'!$Z$4:$Z$1155)=P$3,H8*E8+K8*D8,0)} -> 9435.5377 | Q8: {=IF(_xlfn.XLOOKUP($B8&K$3,'In-TI'!$Q$4:$Q$1155&'In-TI'!$Y$4:$Y$1155,'In-TI'!$Z$4:$Z$1155)=Q$3,H8*E8+K8*D8,0)} -> 0 | R8: =SUM(L8:Q8) -> 20451.081 | S8: =IF($R8>=0,0,$R8*VLOOKUP(S$3,'In-NonTI'!$S$4:$U$6,3,0)) -> 0 | T8: =IF($R8>=0,0,$R8*VLOOKUP(T$3,'In-NonTI'!$S$4:$U$6,3,0)) -> 0 | U8: =IF($R8>=0,0,$R8*VLOOKUP(U$3,'In-NonTI'!$S$4:$U$6,3,0)) -> 0 | V8: =F8+J8 -> 28.030148 | W8: =I8+K8 -> 29.491928 | X8: =G8+H8 -> -65.202909 | Y8: =COUNTIFS(V8:X8,"<0") -> 1 | Z8: =INDEX($V$3:$X$3,MATCH(LARGE($V8:$X8,3),$V8:$X8,0)) -> VIC | AA8: =INDEX($V$3:$X$3,MATCH(LARGE($V8:$X8,2),$V8:$X8,0)) -> NSW | AB8: =INDEX($V$3:$X$3,MATCH(LARGE($V8:$X8,1),$V8:$X8,0)) -> SA | AC8: =IF(Y8=2,Z8&"-"&AB8,Z8&"-"&AA8) -> VIC-NSW | AD8: =IF(Y8=1,Z8&"-"&AB8,AA8&"-"&AB8) -> VIC-SA | AE8: =IF(OR(Y8=3,Y8=0),AB8&"-"&Z8,0) -> 0 | AF8: =IF(Y8=1,ABS(_xlfn.XLOOKUP(AA8,$V$3:$X$3,V8:X8)),ABS(_xlfn.XLOOKUP(Z8,$V$3:$X$3,V8:X8))) -> 28.030148 | AG8: =IF(Y8=1,ABS(_xlfn.XLOOKUP(AB8,$V$3:$X$3,V8:X8)),ABS(_xlfn.XLOOKUP(AA8,$V$3:$X$3,V8:X8))) -> 29.491928 | AH8: =IF(Y8=3,ABS(_xlfn.XLOOKUP(AB8,$V$3:$X$3,V8:X8)),0) -> 0 | AI8: =IF($AC8=AI$3,$AF8,IF($AD8=AI$3,$AG8,IF($AE8=AI$3,$AH8,0))) -> 0 | AJ8: =IF($AC8=AJ$3,$AF8,IF($AD8=AJ$3,$AG8,IF($AE8=AJ$3,$AH8,0))) -> 0 | AK8: =IF($AC8=AK$3,$AF8,IF($AD8=AK$3,$AG8,IF($AE8=AK$3,$AH8,0))) -> 28.030148 | AL8: =IF($AC8=AL$3,$AF8,IF($AD8=AL$3,$AG8,IF($AE8=AL$3,$AH8,0))) -> 0 | AM8: =IF($AC8=AM$3,$AF8,IF($AD8=AM$3,$AG8,IF($AE8=AM$3,$AH8,0))) -> 29.491928 | AN8: =IF($AC8=AN$3,$AF8,IF($AD8=AN$3,$AG8,IF($AE8=AN$3,$AH8,0))) -> 0 | AO8: =IF(AND(C8=D8,D8=E8),AI8*0.01,AI8*(D8-C8)) -> 0 | AP8: =IF(AND(C8=D8,D8=E8),AJ8*0.01,AJ8*(C8-D8)) -> 0 | AQ8: =IF(AND(C8=D8,D8=E8),AK8*0.01,AK8*(C8-E8)) -> 13034.019 | AR8: =IF(AND(C8=D8,D8=E8),AL8*0.01,AL8*(E8-C8)) -> 0 | AS8: =IF(AND(C8=D8,D8=E8),AM8*0.01,AM8*(D8-E8)) -> 7685.8913 | AT8: =IF(AND(C8=D8,D8=E8),AN8*0.01,AN8*(E8-D8)) -> 0 | AU8: =IF($R8<=0,0,(AO8/SUM($AO8:$AT8))*$R8) -> 0 | AV8: =IF($R8<=0,0,(AP8/SUM($AO8:$AT8))*$R8) -> 0 | AW8: =IF($R8<=0,0,(AQ8/SUM($AO8:$AT8))*$R8) -> 12864.91 | AX8: =IF($R8<=0,0,(AR8/SUM($AO8:$AT8))*$R8) -> 0 | AY8: =IF($R8<=0,0,(AS8/SUM($AO8:$AT8))*$R8) -> 7586.1712 | AZ8: =IF($R8<=0,0,(AT8/SUM($AO8:$AT8))*$R8) -> 0 | BA8: =IF($R8<=0,0,MAX((AU8/SUMIF($AU8:$AZ8,">0"))*$R8,0)) -> 0 | BB8: =IF($R8<=0,0,MAX((AV8/SUMIF($AU8:$AZ8,">0"))*$R8,0)) -> 0 | BC8: =IF($R8<=0,0,MAX((AW8/SUMIF($AU8:$AZ8,">0"))*$R8,0)) -> 12864.91 | BD8: =IF($R8<=0,0,MAX((AX8/SUMIF($AU8:$AZ8,">0"))*$R8,0)) -> 0 | BE8: =IF($R8<=0,0,MAX((AY8/SUMIF($AU8:$AZ8,">0"))*$R8,0)) -> 7586.1712 | BF8: =IF($R8<=0,0,MAX((AZ8/SUMIF($AU8:$AZ8,">0"))*$R8,0)) -> 0
B9: 6 | C9: {=_xlfn.XLOOKUP(C$3&$B9,'In-TI'!$D$4:$D$867&'In-TI'!$C$4:$C$867,'In-TI'!$E$4:$E$867)} -> 500 | D9: {=_xlfn.XLOOKUP(D$3&$B9,'In-TI'!$D$4:$D$867&'In-TI'!$C$4:$C$867,'In-TI'!$E$4:$E$867)} -> 298.34 | E9: {=_xlfn.XLOOKUP(E$3&$B9,'In-TI'!$D$4:$D$867&'In-TI'!$C$4:$C$867,'In-TI'!$E$4:$E$867)} -> 35 | F9: =SUMIFS('In-TI'!$W$4:$W$1155,'In-TI'!$Y$4:$Y$1155,F$3,'In-TI'!$Q$4:$Q$1155,$B9) -> 6.433456 | G9: =SUMIFS('In-TI'!$W$4:$W$1155,'In-TI'!$Y$4:$Y$1155,G$3,'In-TI'!$Q$4:$Q$1155,$B9) -> -19.30646 | H9: =SUMIFS('In-TI'!$W$4:$W$1155,'In-TI'!$Y$4:$Y$1155,H$3,'In-TI'!$Q$4:$Q$1155,$B9) -> -39.943124 | I9: =SUMIFS('In-TI'!$X$4:$X$1155,'In-TI'!$Y$4:$Y$1155,I$3,'In-TI'!$Q$4:$Q$1155,$B9) -> -7.1517893 | J9: =SUMIFS('In-TI'!$X$4:$X$1155,'In-TI'!$Y$4:$Y$1155,J$3,'In-TI'!$Q$4:$Q$1155,$B9) -> 19.07396 | K9: =SUMIFS('In-TI'!$X$4:$X$1155,'In-TI'!$Y$4:$Y$1155,K$3,'In-TI'!$Q$4:$Q$1155,$B9) -> 33.36229 | L9: {=IF(_xlfn.XLOOKUP($B9&F$3,'In-TI'!$Q$4:$Q$1155&'In-TI'!$Y$4:$Y$1155,'In-TI'!$Z$4:$Z$1155)=L$3,F9*C9+I9*D9,0)} -> 0 | M9: {=IF(_xlfn.XLOOKUP($B9&I$3,'In-TI'!$Q$4:$Q$1155&'In-TI'!$Y$4:$Y$1155,'In-TI'!$Z$4:$Z$1155)=M$3,F9*C9+I9*D9,0)} -> 1083.0632 | N9: {=IF(_xlfn.XLOOKUP($B9&G$3,'In-TI'!$Q$4:$Q$1155&'In-TI'!$Y$4:$Y$1155,'In-TI'!$Z$4:$Z$1155)=N$3,G9*E9+J9*C9,0)} -> 8861.2538 | O9: {=IF(_xlfn.XLOOKUP($B9&J$3,'In-TI'!$Q$4:$Q$1155&'In-TI'!$Y$4:$Y$1155,'In-TI'!$Z$4:$Z$1155)=O$3,G9*E9+J9*C9,0)} -> 0 | P9: {=IF(_xlfn.XLOOKUP($B9&H$3,'In-TI'!$Q$4:$Q$1155&'In-TI'!$Y$4:$Y$1155,'In-TI'!$Z$4:$Z$1155)=P$3,H9*E9+K9*D9,0)} -> 8555.2964 | Q9: {=IF(_xlfn.XLOOKUP($B9&K$3,'In-TI'!$Q$4:$Q$1155&'In-TI'!$Y$4:$Y$1155,'In-TI'!$Z$4:$Z$1155)=Q$3,H9*E9+K9*D9,0)} -> 0 | R9: =SUM(L9:Q9) -> 18499.613 | S9: =IF($R9>=0,0,$R9*VLOOKUP(S$3,'In-NonTI'!$S$4:$U$6,3,0)) -> 0 | T9: =IF($R9>=0,0,$R9*VLOOKUP(T$3,'In-NonTI'!$S$4:$U$6,3,0)) -> 0 | U9: =IF($R9>=0,0,$R9*VLOOKUP(U$3,'In-NonTI'!$S$4:$U$6,3,0)) -> 0 | V9: =F9+J9 -> 25.507416 | W9: =I9+K9 -> 26.210501 | X9: =G9+H9 -> -59.249583 | Y9: =COUNTIFS(V9:X9,"<0") -> 1 | Z9: =INDEX($V$3:$X$3,MATCH(LARGE($V9:$X9,3),$V9:$X9,0)) -> VIC | AA9: =INDEX($V$3:$X$3,MATCH(LARGE($V9:$X9,2),$V9:$X9,0)) -> NSW | AB9: =INDEX($V$3:$X$3,MATCH(LARGE($V9:$X9,1),$V9:$X9,0)) -> SA | AC9: =IF(Y9=2,Z9&"-"&AB9,Z9&"-"&AA9) -> VIC-NSW | AD9: =IF(Y9=1,Z9&"-"&AB9,AA9&"-"&AB9) -> VIC-SA | AE9: =IF(OR(Y9=3,Y9=0),AB9&"-"&Z9,0) -> 0 | AF9: =IF(Y9=1,ABS(_xlfn.XLOOKUP(AA9,$V$3:$X$3,V9:X9)),ABS(_xlfn.XLOOKUP(Z9,$V$3:$X$3,V9:X9))) -> 25.507416 | AG9: =IF(Y9=1,ABS(_xlfn.XLOOKUP(AB9,$V$3:$X$3,V9:X9)),ABS(_xlfn.XLOOKUP(AA9,$V$3:$X$3,V9:X9))) -> 26.210501 | AH9: =IF(Y9=3,ABS(_xlfn.XLOOKUP(AB9,$V$3:$X$3,V9:X9)),0) -> 0 | AI9: =IF($AC9=AI$3,$AF9,IF($AD9=AI$3,$AG9,IF($AE9=AI$3,$AH9,0))) -> 0 | AJ9: =IF($AC9=AJ$3,$AF9,IF($AD9=AJ$3,$AG9,IF($AE9=AJ$3,$AH9,0))) -> 0 | AK9: =IF($AC9=AK$3,$AF9,IF($AD9=AK$3,$AG9,IF($AE9=AK$3,$AH9,0))) -> 25.507416 | AL9: =IF($AC9=AL$3,$AF9,IF($AD9=AL$3,$AG9,IF($AE9=AL$3,$AH9,0))) -> 0 | AM9: =IF($AC9=AM$3,$AF9,IF($AD9=AM$3,$AG9,IF($AE9=AM$3,$AH9,0))) -> 26.210501 | AN9: =IF($AC9=AN$3,$AF9,IF($AD9=AN$3,$AG9,IF($AE9=AN$3,$AH9,0))) -> 0 | AO9: =IF(AND(C9=D9,D9=E9),AI9*0.01,AI9*(D9-C9)) -> 0 | AP9: =IF(AND(C9=D9,D9=E9),AJ9*0.01,AJ9*(C9-D9)) -> 0 | AQ9: =IF(AND(C9=D9,D9=E9),AK9*0.01,AK9*(C9-E9)) -> 11860.948 | AR9: =IF(AND(C9=D9,D9=E9),AL9*0.01,AL9*(E9-C9)) -> 0 | AS9: =IF(AND(C9=D9,D9=E9),AM9*0.01,AM9*(D9-E9)) -> 6902.2733 | AT9: =IF(AND(C9=D9,D9=E9),AN9*0.01,AN9*(E9-D9)) -> 0 | AU9: =IF($R9<=0,0,(AO9/SUM($AO9:$AT9))*$R9) -> 0 | AV9: =IF($R9<=0,0,(AP9/SUM($AO9:$AT9))*$R9) -> 0 | AW9: =IF($R9<=0,0,(AQ9/SUM($AO9:$AT9))*$R9) -> 11694.311 | AX9: =IF($R9<=0,0,(AR9/SUM($AO9:$AT9))*$R9) -> 0 | AY9: =IF($R9<=0,0,(AS9/SUM($AO9:$AT9))*$R9) -> 6805.3019 | AZ9: =IF($R9<=0,0,(AT9/SUM($AO9:$AT9))*$R9) -> 0 | BA9: =IF($R9<=0,0,MAX((AU9/SUMIF($AU9:$AZ9,">0"))*$R9,0)) -> 0 | BB9: =IF($R9<=0,0,MAX((AV9/SUMIF($AU9:$AZ9,">0"))*$R9,0)) -> 0 | BC9: =IF($R9<=0,0,MAX((AW9/SUMIF($AU9:$AZ9,">0"))*$R9,0)) -> 11694.311 | BD9: =IF($R9<=0,0,MAX((AX9/SUMIF($AU9:$AZ9,">0"))*$R9,0)) -> 0 | BE9: =IF($R9<=0,0,MAX((AY9/SUMIF($AU9:$AZ9,">0"))*$R9,0)) -> 6805.3019 | BF9: =IF($R9<=0,0,MAX((AZ9/SUMIF($AU9:$AZ9,">0"))*$R9,0)) -> 0
B10: 7 | C10: {=_xlfn.XLOOKUP(C$3&$B10,'In-TI'!$D$4:$D$867&'In-TI'!$C$4:$C$867,'In-TI'!$E$4:$E$867)} -> 500 | D10: {=_xlfn.XLOOKUP(D$3&$B10,'In-TI'!$D$4:$D$867&'In-TI'!$C$4:$C$867,'In-TI'!$E$4:$E$867)} -> 294.47 | E10: {=_xlfn.XLOOKUP(E$3&$B10,'In-TI'!$D$4:$D$867&'In-TI'!$C$4:$C$867,'In-TI'!$E$4:$E$867)} -> 35 | F10: =SUMIFS('In-TI'!$W$4:$W$1155,'In-TI'!$Y$4:$Y$1155,F$3,'In-TI'!$Q$4:$Q$1155,$B10) -> 5.7813516 | G10: =SUMIFS('In-TI'!$W$4:$W$1155,'In-TI'!$Y$4:$Y$1155,G$3,'In-TI'!$Q$4:$Q$1155,$B10) -> -28.854964 | H10: =SUMIFS('In-TI'!$W$4:$W$1155,'In-TI'!$Y$4:$Y$1155,H$3,'In-TI'!$Q$4:$Q$1155,$B10) -> -37.601583 | I10: =SUMIFS('In-TI'!$X$4:$X$1155,'In-TI'!$Y$4:$Y$1155,I$3,'In-TI'!$Q$4:$Q$1155,$B10) -> -6.5488516 | J10: =SUMIFS('In-TI'!$X$4:$X$1155,'In-TI'!$Y$4:$Y$1155,J$3,'In-TI'!$Q$4:$Q$1155,$B10) -> 28.625797 | K10: =SUMIFS('In-TI'!$X$4:$X$1155,'In-TI'!$Y$4:$Y$1155,K$3,'In-TI'!$Q$4:$Q$1155,$B10) -> 30.649083 | L10: {=IF(_xlfn.XLOOKUP($B10&F$3,'In-TI'!$Q$4:$Q$1155&'In-TI'!$Y$4:$Y$1155,'In-TI'!$Z$4:$Z$1155)=L$3,F10*C10+I10*D10,0)} -> 0 | M10: {=IF(_xlfn.XLOOKUP($B10&I$3,'In-TI'!$Q$4:$Q$1155&'In-TI'!$Y$4:$Y$1155,'In-TI'!$Z$4:$Z$1155)=M$3,F10*C10+I10*D10,0)} -> 962.23547 | N10: {=IF(_xlfn.XLOOKUP($B10&G$3,'In-TI'!$Q$4:$Q$1155&'In-TI'!$Y$4:$Y$1155,'In-TI'!$Z$4:$Z$1155)=N$3,G10*E10+J10*C10,0)} -> 13302.975 | O10: {=IF(_xlfn.XLOOKUP($B10&J$3,'In-TI'!$Q$4:$Q$1155&'In-TI'!$Y$4:$Y$1155,'In-TI'!$Z$4:$Z$1155)=O$3,G10*E10+J10*C10,0)} -> 0 | P10: {=IF(_xlfn.XLOOKUP($B10&H$3,'In-TI'!$Q$4:$Q$1155&'In-TI'!$Y$4:$Y$1155,'In-TI'!$Z$4:$Z$1155)=P$3,H10*E10+K10*D10,0)} -> 7709.1801 | Q10: {=IF(_xlfn.XLOOKUP($B10&K$3,'In-TI'!$Q$4:$Q$1155&'In-TI'!$Y$4:$Y$1155,'In-TI'!$Z$4:$Z$1155)=Q$3,H10*E10+K10*D10,0)} -> 0 | R10: =SUM(L10:Q10) -> 21974.39 | S10: =IF($R10>=0,0,$R10*VLOOKUP(S$3,'In-NonTI'!$S$4:$U$6,3,0)) -> 0 | T10: =IF($R10>=0,0,$R10*VLOOKUP(T$3,'In-NonTI'!$S$4:$U$6,3,0)) -> 0 | U10: =IF($R10>=0,0,$R10*VLOOKUP(U$3,'In-NonTI'!$S$4:$U$6,3,0)) -> 0 | V10: =F10+J10 -> 34.407149 | W10: =I10+K10 -> 24.100232 | X10: =G10+H10 -> -66.456547 | Y10: =COUNTIFS(V10:X10,"<0") -> 1 | Z10: =INDEX($V$3:$X$3,MATCH(LARGE($V10:$X10,3),$V10:$X10,0)) -> VIC | AA10: =INDEX($V$3:$X$3,MATCH(LARGE($V10:$X10,2),$V10:$X10,0)) -> SA | AB10: =INDEX($V$3:$X$3,MATCH(LARGE($V10:$X10,1),$V10:$X10,0)) -> NSW | AC10: =IF(Y10=2,Z10&"-"&AB10,Z10&"-"&AA10) -> VIC-SA | AD10: =IF(Y10=1,Z10&"-"&AB10,AA10&"-"&AB10) -> VIC-NSW | AE10: =IF(OR(Y10=3,Y10=0),AB10&"-"&Z10,0) -> 0 | AF10: =IF(Y10=1,ABS(_xlfn.XLOOKUP(AA10,$V$3:$X$3,V10:X10)),ABS(_xlfn.XLOOKUP(Z10,$V$3:$X$3,V10:X10))) -> 24.100232 | AG10: =IF(Y10=1,ABS(_xlfn.XLOOKUP(AB10,$V$3:$X$3,V10:X10)),ABS(_xlfn.XLOOKUP(AA10,$V$3:$X$3,V10:X10))) -> 34.407149 | AH10: =IF(Y10=3,ABS(_xlfn.XLOOKUP(AB10,$V$3:$X$3,V10:X10)),0) -> 0 | AI10: =IF($AC10=AI$3,$AF10,IF($AD10=AI$3,$AG10,IF($AE10=AI$3,$AH10,0))) -> 0 | AJ10: =IF($AC10=AJ$3,$AF10,IF($AD10=AJ$3,$AG10,IF($AE10=AJ$3,$AH10,0))) -> 0 | AK10: =IF($AC10=AK$3,$AF10,IF($AD10=AK$3,$AG10,IF($AE10=AK$3,$AH10,0))) -> 34.407149 | AL10: =IF($AC10=AL$3,$AF10,IF($AD10=AL$3,$AG10,IF($AE10=AL$3,$AH10,0))) -> 0 | AM10: =IF($AC10=AM$3,$AF10,IF($AD10=AM$3,$AG10,IF($AE10=AM$3,$AH10,0))) -> 24.100232 | AN10: =IF($AC10=AN$3,$AF10,IF($AD10=AN$3,$AG10,IF($AE10=AN$3,$AH10,0))) -> 0 | AO10: =IF(AND(C10=D10,D10=E10),AI10*0.01,AI10*(D10-C10)) -> 0 | AP10: =IF(AND(C10=D10,D10=E10),AJ10*0.01,AJ10*(C10-D10)) -> 0 | AQ10: =IF(AND(C10=D10,D10=E10),AK10*0.01,AK10*(C10-E10)) -> 15999.324 | AR10: =IF(AND(C10=D10,D10=E10),AL10*0.01,AL10*(E10-C10)) -> 0 | AS10: =IF(AND(C10=D10,D10=E10),AM10*0.01,AM10*(D10-E10)) -> 6253.2871 | AT10: =IF(AND(C10=D10,D10=E10),AN10*0.01,AN10*(E10-D10)) -> 0 | AU10: =IF($R10<=0,0,(AO10/SUM($AO10:$AT10))*$R10) -> 0 | AV10: =IF($R10<=0,0,(AP10/SUM($AO10:$AT10))*$R10) -> 0 | AW10: =IF($R10<=0,0,(AQ10/SUM($AO10:$AT10))*$R10) -> 15799.287 | AX10: =IF($R10<=0,0,(AR10/SUM($AO10:$AT10))*$R10) -> 0 | AY10: =IF($R10<=0,0,(AS10/SUM($AO10:$AT10))*$R10) -> 6175.1033 | AZ10: =IF($R10<=0,0,(AT10/SUM($AO10:$AT10))*$R10) -> 0 | BA10: =IF($R10<=0,0,MAX((AU10/SUMIF($AU10:$AZ10,">0"))*$R10,0)) -> 0 | BB10: =IF($R10<=0,0,MAX((AV10/SUMIF($AU10:$AZ10,">0"))*$R10,0)) -> 0 | BC10: =IF($R10<=0,0,MAX((AW10/SUMIF($AU10:$AZ10,">0"))*$R10,0)) -> 15799.287 | BD10: =IF($R10<=0,0,MAX((AX10/SUMIF($AU10:$AZ10,">0"))*$R10,0)) -> 0 | BE10: =IF($R10<=0,0,MAX((AY10/SUMIF($AU10:$AZ10,">0"))*$R10,0)) -> 6175.1033 | BF10: =IF($R10<=0,0,MAX((AZ10/SUMIF($AU10:$AZ10,">0"))*$R10,0)) -> 0
