Workbook
Name D_IC: 'In-NonTI'!$B$27:$C$33

Sheet Notes
B2: Disclaimer This document has been produced for the purposes of providing worked examples of how AEMO’s settlements systems will calculate and allocate settlements residue in accordance with the National Electricity Rules and the Settlements Residue Methodology. It has been created in part from UAT data and is not intended as a comprehensive guide to all potential outcomes. Please also refer to each of the Notes below. AEMO has made reasonable efforts to ensure the quality of the information in this document as at the date it is provided, but cannot guarantee its accuracy or completeness. The National Electricity Rules and applicable methodologies and procedures take precedence to the extent of any inconsistency. The information in this document may be subsequently updated or amended, but be aware it may also not be updated if AEMO subsequently becomes aware of any errors, or relevant rules or methodologies are amended. This document does not constitute legal, business or technical advice, and should not be relied on as a substitute for obtaining detailed advice about applicable laws, methodologies and procedures, appropriate to your circumstances. Accordingly, to the maximum extent permitted by law, AEMO and its officers, employees and consultants involved in the preparation of this document: • make no representation or warranty, express or implied, as to the currency, accuracy, reliability or completeness of the information in this document; and • are not liable (whether by reason of negligence or otherwise) for any statements or representations in this document, or any omissions from it, or for any use or reliance on the information in it.
B4: Tab Descriptions:
B5: In-NonTI | C5: Inputs to the model that are not Trading Interval (TI) based, highlighted fields are manually added or calculated, rather than being taken from the Data Model table
B6: In-TI | C6: Inputs to the model that are Trading Interval (TI) based, highlighted fields are manually added or calculated, rather than being taken from the Data Model
B7: Calc | C7: Calculation of the Loop dependent outcomes with a single record per interval, for both intervals with net negative or positive net Loop allocation amounts
B8: Outputs | C8: Outputs from the Data Model public tables, which show the positive net Loop allocation outcomes
B10: Interconnector Terminology Used:
B11: "Interconnector" can refer to different things, particularly within the Data Model fields.
B12: In this model "Regional Interconnector" is used to refer to the sum of the interconnectors between states, particularly relevant for the two Regulated Interconnectors between Vic and SA.
B13: As per the Data Model tables, the Regulated Interconnector named "V-SA" is also used to represent the Regional Interconnector between Vic and SA, being the combination of V-SA and V-S-MNSP1 Regulated Interconnectors.
B14: In this model "Directional Interconnector" is often shortened to D-IC and refers to the Regional Interconnector, but also including reference to the direction of flow for that interval.
B15: As an example, when the V-SA Regional Interconnector is flowing From Vic to SA, "VIC-SA" is the D-IC notation used in this model, and when instead flowing from SA to Vic it is "SA-VIC" as the D-IC.
B16: This D-IC terminology is not used in the Data Model (InterconnectorID and FromRegion fields are used instead) and should not be confused with the "default flow direction" of the Interconnectors, as defined in the Interconnector standing data From and To Regions.
B17: For example, the VIC1-NSW1 interconnector has the default flow direction north, so the standing data lists the From Region as VIC1 and this Interconnector flowing southward is represented with a negative flow volume in some contexts.
B19: Model Method:
B20: The model is for a single date, calculating for the 288 Trading Intervals (TI) with the Inputs restricted to only the Interconnectors involved in the Loop, though the Output tables have the additional interconnectors included where appropriate.
B21: The "In-TI" tab includes the relevant Regional Reference Prices (RRP) used in the later calculations.
B22: The Interconnector reads in the "In-TI" tab have the calculated MWh losses applied to the Net Energy, to allocate the energy used in the calculations of both the From and To regions, with negative energy being calculated for the exporting region.
... B32: A known defect (NRQ-1773) impacts intervals 211 and 236 where all 3 regions are exporting (due to the losses application), with the current settlement logic not correctly reflecting the rule requirements, resulting in a difference to the values in the Calc tab.

Sheet In-NonTI
B2: INTERCONNECTOR | J2: INTERCONNECTORCONSTRAINT | M2: REGIONFIGURES
B3: INTERCONNECTORID | C3: REGIONFROM | D3: REGIONTO | E3: DESCRIPTION | F3: Regional IC | G3: Directional IC | H3: Reverse Directional IC | J3: INTERCONNECTORID | K3: FROMREGIONLOSSSHARE | M3: ContractYear | N3: WeekNo | O3: BillRunNo | P3: RegionId | Q3: ENERGYPURCHASED | S3: Region | T3: Average MWh | U3: Share
B4: V-S-MNSP1 | C4: VIC1 | D4: SA1 | E4: MurrayLink DC Interconnector | F4: V-SA | G4: VIC-SA | H4: SA-VIC | J4: NSW1-SA1 | K4: 0.45 | M4: 2025 | N4: 35 | O4: 15 | P4: NSW1 | Q4: -1369757.7 | S4: NSW1 | T4: =AVERAGEIF(P:P,S4,Q:Q) -> -1364798 | U4: =T4/$T$7 -> 0.53486848
B5: V-SA | C5: VIC1 | D5: SA1 | E5: VICTORIA TO SA | F5: V-SA | G5: VIC-SA | H5: SA-VIC | J5: VIC1-NSW1 | K5: 0.6 | M5: 2025 | N5: 35 | O5: 15 | P5: SA1 | Q5: -283889.18 | S5: SA1 | T5: =AVERAGEIF(P:P,S5,Q:Q) -> -268370.52 | U5: =T5/$T$7 -> 0.10517522
B6: VIC1-NSW1 | C6: VIC1 | D6: NSW1 | E6: VIC1-NSW1 Interconnection | F6: VIC1-NSW1 | G6: VIC-NSW | H6: NSW-VIC | J6: V-SA | K6: 0.47 | M6: 2025 | N6: 35 | O6: 15 | P6: VIC1 | Q6: -978065.55 | S6: VIC1 | T6: =AVERAGEIF(P:P,S6,Q:Q) -> -918483.08 | U6: =T6/$T$7 -> 0.3599563
B7: NSW1-SA1 | C7: NSW1 | D7: SA1 | E7: PEC-MI NSW to SA Interconnector | F7: NSW1-SA1 | G7: NSW-SA | H7: SA-NSW | J7: V-S-MNSP1 | K7: 0.89 | M7: 2025 | N7: 36 | O7: 14 | P7: NSW1 | Q7: -1371304.1 | S7: Total | T7: =SUM(T4:T6) -> -2551651.6
M8: 2025 | N8: 36 | O8: 14 | P8: SA1 | Q8: -275994.26
M9: 2025 | N9: 36 | O9: 14 | P9: VIC1 | Q9: -937681.45
M10: 2025 | N10: 37 | O10: 15 | P10: NSW1 | Q10: -1322120.3
M11: 2025 | N11: 37 | O11: 15 | P11: SA1 | Q11: -254689.29
M12: 2025 | N12: 37 | O12: 15 | P12: VIC1 | Q12: -900119.26
M13: 2025 | N13: 38 | O13: 13 | P13: NSW1 | Q13: -1272038.5
M14: 2025 | N14: 38 | O14: 13 | P14: SA1 | Q14: -252861.77
M15: 2025 | N15: 38 | O15: 13 | P15: VIC1 | Q15: -860335.58
M16: 2025 | N16: 39 | O16: 14 | P16: NSW1 | Q16: -1281050.6
M17: 2025 | N17: 39 | O17: 14 | P17: SA1 | Q17: -258031.47
M18: 2025 | N18: 39 | O18: 14 | P18: VIC1 | Q18: -878553.6
M19: 2025 | N19: 40 | O19: 14 | P19: NSW1 | Q19: -1269972.4
... M159: 2026 | N159: 34 | O159: 13 | P159: VIC1 | Q159: -1012797.1

Sheet In-TI
B2: TRADINGPRICE | G2: TRADINGINTERCONNECT | O2: METERDATA_INTERCONNECTOR
B3: SETTLEMENTDATE | C3: PERIODID | D3: RegionID | E3: RRP | G3: SETTLEMENTDATE | H3: PERIODID | I3: INTERCONNECTORID | J3: METEREDMWFLOW | K3: MWFLOW | L3: MWLOSSES | M3: MWh Losses | O3: CASE_ID | P3: SETTLEMENTDATE | Q3: PERIODID | R3: INTERCONNECTORID | S3: IMPORTVALUE | T3: EXPORTVALUE | U3: Net Energy | V3: From Region | W3: From Energy | X3: To Energy | Y3: Regional IC | Z3: Directional IC
B4: 46261.003 | C4: 1 | D4: NSW1 | E4: 500 | G4: 46261.003 | H4: 1 | I4: NSW1-SA1 | J4: -107.45 | K4: 72.47 | L4: 10.18 | M4: =L4/12 -> 0.84833333 | O4: 11658 | P4: 46261 | Q4: 1 | R4: NSW1-SA1 | S4: 9.6523038 | T4: 0 | U4: =S4-T4 -> 9.6523038 | V4: =VLOOKUP(R4,'In-NonTI'!B:C,2,FALSE) -> NSW1 | W4: =IF(U4=0,0,U4-(VLOOKUP(R4,'In-NonTI'!$J$4:$K$7,2,FALSE)*M4)) -> 9.2705538 | X4: =IF(U4=0,0,-U4-((1-VLOOKUP(R4,'In-NonTI'!$J$4:$K$7,2,FALSE))*M4)) -> -10.118887 | Y4: =VLOOKUP(R4,'In-NonTI'!$B$4:$F$7,5,FALSE) -> NSW1-SA1 | Z4: =IF(SUMIFS(U:U,Q:Q,Q4,Y:Y,Y4)<=0,VLOOKUP(R4,'In-NonTI'!$B$4:$H$7,6,FALSE),VLOOKUP(R4,'In-NonTI'!$B$4:$H$7,7,FALSE)) -> SA-NSW
B5: 46261.003 | C5: 1 | D5: SA1 | E5: 248.73 | G5: 46261.003 | H5: 1 | I5: VIC1-NSW1 | J5: 122.71 | K5: -103.24 | L5: 3.47 | M5: =L5/12 -> 0.28916667 | O5: 11658 | P5: 46261 | Q5: 1 | R5: VIC1-NSW1 | S5: 5.6691106 | T5: 24.159698 | U5: =S5-T5 -> -18.490587 | V5: =VLOOKUP(R5,'In-NonTI'!B:C,2,FALSE) -> VIC1 | W5: =IF(U5=0,0,U5-(VLOOKUP(R5,'In-NonTI'!$J$4:$K$7,2,FALSE)*M5)) -> -18.664087 | X5: =IF(U5=0,0,-U5-((1-VLOOKUP(R5,'In-NonTI'!$J$4:$K$7,2,FALSE))*M5)) -> 18.374921 | Y5: =VLOOKUP(R5,'In-NonTI'!$B$4:$F$7,5,FALSE) -> VIC1-NSW1 | Z5: =IF(SUMIFS(U:U,Q:Q,Q5,Y:Y,Y5)<=0,VLOOKUP(R5,'In-NonTI'!$B$4:$H$7,6,FALSE),VLOOKUP(R5,'In-NonTI'!$B$4:$H$7,7,FALSE)) -> VIC-NSW
B6: 46261.003 | C6: 1 | D6: VIC1 | E6: 35 | G6: 46261.003 | H6: 1 | I6: V-SA | J6: 185.3 | K6: 693.61 | L6: 78.46 | M6: =L6/12 -> 6.5383333 | O6: 11658 | P6: 46261 | Q6: 1 | R6: V-SA | S6: 0.600249 | T6: 42.97125 | U6: =S6-T6 -> -42.371001 | V6: =VLOOKUP(R6,'In-NonTI'!B:C,2,FALSE) -> VIC1 | W6: =IF(U6=0,0,U6-(VLOOKUP(R6,'In-NonTI'!$J$4:$K$7,2,FALSE)*M6)) -> -45.444017 | X6: =IF(U6=0,0,-U6-((1-VLOOKUP(R6,'In-NonTI'!$J$4:$K$7,2,FALSE))*M6)) -> 38.905684 | Y6: =VLOOKUP(R6,'In-NonTI'!$B$4:$F$7,5,FALSE) -> V-SA | Z6: =IF(SUMIFS(U:U,Q:Q,Q6,Y:Y,Y6)<=0,VLOOKUP(R6,'In-NonTI'!$B$4:$H$7,6,FALSE),VLOOKUP(R6,'In-NonTI'!$B$4:$H$7,7,FALSE)) -> VIC-SA
B7: 46261.007 | C7: 2 | D7: NSW1 | E7: 500 | G7: 46261.003 | H7: 1 | I7: V-S-MNSP1 | J7: 0 | K7: 60.68 | L7: 4.03 | M7: =L7/12 -> 0.33583333 | O7: 11658 | P7: 46261 | Q7: 1 | R7: V-S-MNSP1 | S7: 6.5076804 | T7: 0 | U7: =S7-T7 -> 6.5076804 | V7: =VLOOKUP(R7,'In-NonTI'!B:C,2,FALSE) -> VIC1 | W7: =IF(U7=0,0,U7-(VLOOKUP(R7,'In-NonTI'!$J$4:$K$7,2,FALSE)*M7)) -> 6.2087887 | X7: =IF(U7=0,0,-U7-((1-VLOOKUP(R7,'In-NonTI'!$J$4:$K$7,2,FALSE))*M7)) -> -6.5446221 | Y7: =VLOOKUP(R7,'In-NonTI'!$B$4:$F$7,5,FALSE) -> V-SA | Z7: =IF(SUMIFS(U:U,Q:Q,Q7,Y:Y,Y7)<=0,VLOOKUP(R7,'In-NonTI'!$B$4:$H$7,6,FALSE),VLOOKUP(R7,'In-NonTI'!$B$4:$H$7,7,FALSE)) -> VIC-SA
B8: 46261.007 | C8: 2 | D8: SA1 | E8: 220.63 | G8: 46261.007 | H8: 2 | I8: NSW1-SA1 | J8: -111.49 | K8: 69.01 | L8: 9.6 | M8: =L8/12 -> 0.8 | O8: 11658 | P8: 46261 | Q8: 2 | R8: NSW1-SA1 | S8: 8.8574228 | T8: 0 | U8: =S8-T8 -> 8.8574228 | V8: =VLOOKUP(R8,'In-NonTI'!B:C,2,FALSE) -> NSW1 | W8: =IF(U8=0,0,U8-(VLOOKUP(R8,'In-NonTI'!$J$4:$K$7,2,FALSE)*M8)) -> 8.4974228 | X8: =IF(U8=0,0,-U8-((1-VLOOKUP(R8,'In-NonTI'!$J$4:$K$7,2,FALSE))*M8)) -> -9.2974228 | Y8: =VLOOKUP(R8,'In-NonTI'!$B$4:$F$7,5,FALSE) -> NSW1-SA1 | Z8: =IF(SUMIFS(U:U,Q:Q,Q8,Y:Y,Y8)<=0,VLOOKUP(R8,'In-NonTI'!$B$4:$H$7,6,FALSE),VLOOKUP(R8,'In-NonTI'!$B$4:$H$7,7,FALSE)) -> SA-NSW
B9: 46261.007 | C9: 2 | D9: VIC1 | E9: 35 | G9: 46261.007 | H9: 2 | I9: VIC1-NSW1 | J9: 285.11 | K9: -81.59 | L9: 2.59 | M9: =L9/12 -> 0.21583333 | O9: 11658 | P9: 46261 | Q9: 2 | R9: VIC1-NSW1 | S9: 5.6683163 | T9: 22.095349 | U9: =S9-T9 -> -16.427032 | V9: =VLOOKUP(R9,'In-NonTI'!B:C,2,FALSE) -> VIC1 | W9: =IF(U9=0,0,U9-(VLOOKUP(R9,'In-NonTI'!$J$4:$K$7,2,FALSE)*M9)) -> -16.556532 | X9: =IF(U9=0,0,-U9-((1-VLOOKUP(R9,'In-NonTI'!$J$4:$K$7,2,FALSE))*M9)) -> 16.340699 | Y9: =VLOOKUP(R9,'In-NonTI'!$B$4:$F$7,5,FALSE) -> VIC1-NSW1 | Z9: =IF(SUMIFS(U:U,Q:Q,Q9,Y:Y,Y9)<=0,VLOOKUP(R9,'In-NonTI'!$B$4:$H$7,6,FALSE),VLOOKUP(R9,'In-NonTI'!$B$4:$H$7,7,FALSE)) -> VIC-NSW
B10: 46261.01 | C10: 3 | D10: NSW1 | E10: 500 | G10: 46261.007 | H10: 2 | I10: V-SA | J10: 178.6 | K10: 681.93 | L10: 76.29 | M10: =L10/12 -> 6.3575 | O10: 11658 | P10: 46261 | Q10: 2 | R10: V-SA | S10: 1.0072305 | T10: 42.733851 | U10: =S10-T10 -> -41.72662 | V10: =VLOOKUP(R10,'In-NonTI'!B:C,2,FALSE) -> VIC1 | W10: =IF(U10=0,0,U10-(VLOOKUP(R10,'In-NonTI'!$J$4:$K$7,2,FALSE)*M10)) -> -44.714645 | X10: =IF(U10=0,0,-U10-((1-VLOOKUP(R10,'In-NonTI'!$J$4:$K$7,2,FALSE))*M10)) -> 38.357145 | Y10: =VLOOKUP(R10,'In-NonTI'!$B$4:$F$7,5,FALSE) -> V-SA | Z10: =IF(SUMIFS(U:U,Q:Q,Q10,Y:Y,Y10)<=0,VLOOKUP(R10,'In-NonTI'!$B$4:$H$7,6,FALSE),VLOOKUP(R10,'In-NonTI'!$B$4:$H$7,7,FALSE)) -> VIC-SA
B11: 46261.01 | C11: 3 | D11: SA1 | E11: 112.07 | G11: 46261.007 | H11: 2 | I11: V-S-MNSP1 | J11: 0 | K11: 80 | L11: 7.61 | M11: =L11/12 -> 0.63416667 | O11: 11658 | P11: 46261 | Q11: 2 | R11: V-S-MNSP1 | S11: 6.4675125 | T11: 0 | U11: =S11-T11 -> 6.4675125 | V11: =VLOOKUP(R11,'In-NonTI'!B:C,2,FALSE) -> VIC1 | W11: =IF(U11=0,0,U11-(VLOOKUP(R11,'In-NonTI'!$J$4:$K$7,2,FALSE)*M11)) -> 5.9031042 | X11: =IF(U11=0,0,-U11-((1-VLOOKUP(R11,'In-NonTI'!$J$4:$K$7,2,FALSE))*M11)) -> -6.5372708 | Y11: =VLOOKUP(R11,'In-NonTI'!$B$4:$F$7,5,FALSE) -> V-SA | Z11: =IF(SUMIFS(U:U,Q:Q,Q11,Y:Y,Y11)<=0,VLOOKUP(R11,'In-NonTI'!$B$4:$H$7,6,FALSE),VLOOKUP(R11,'In-NonTI'!$B$4:$H$7,7,FALSE)) -> VIC-SA
B12: 46261.01 | C12: 3 | D12: VIC1 | E12: 35 | G12: 46261.01 | H12: 3 | I12: NSW1-SA1 | J12: -104.43 | K12: 70.67 | L12: 9.95 | M12: =L12/12 -> 0.82916667 | O12: 11658 | P12: 46261 | Q12: 3 | R12: NSW1-SA1 | S12: 7.7286196 | T12: 0 | U12: =S12-T12 -> 7.7286196 | V12: =VLOOKUP(R12,'In-NonTI'!B:C,2,FALSE) -> NSW1 | W12: =IF(U12=0,0,U12-(VLOOKUP(R12,'In-NonTI'!$J$4:$K$7,2,FALSE)*M12)) -> 7.3554946 | X12: =IF(U12=0,0,-U12-((1-VLOOKUP(R12,'In-NonTI'!$J$4:$K$7,2,FALSE))*M12)) -> -8.1846613 | Y12: =VLOOKUP(R12,'In-NonTI'!$B$4:$F$7,5,FALSE) -> NSW1-SA1 | Z12: =IF(SUMIFS(U:U,Q:Q,Q12,Y:Y,Y12)<=0,VLOOKUP(R12,'In-NonTI'!$B$4:$H$7,6,FALSE),VLOOKUP(R12,'In-NonTI'!$B$4:$H$7,7,FALSE)) -> SA-NSW
B13: 46261.014 | C13: 4 | D13: NSW1 | E13: 500 | G13: 46261.01 | H13: 3 | I13: VIC1-NSW1 | J13: 235.28 | K13: -81.04 | L13: 2.6 | M13: =L13/12 -> 0.21666667 | O13: 11658 | P13: 46261 | Q13: 3 | R13: VIC1-NSW1 | S13: 6.0991699 | T13: 18.90691 | U13: =S13-T13 -> -12.80774 | V13: =VLOOKUP(R13,'In-NonTI'!B:C,2,FALSE) -> VIC1 | W13: =IF(U13=0,0,U13-(VLOOKUP(R13,'In-NonTI'!$J$4:$K$7,2,FALSE)*M13)) -> -12.93774 | X13: =IF(U13=0,0,-U13-((1-VLOOKUP(R13,'In-NonTI'!$J$4:$K$7,2,FALSE))*M13)) -> 12.721074 | Y13: =VLOOKUP(R13,'In-NonTI'!$B$4:$F$7,5,FALSE) -> VIC1-NSW1 | Z13: =IF(SUMIFS(U:U,Q:Q,Q13,Y:Y,Y13)<=0,VLOOKUP(R13,'In-NonTI'!$B$4:$H$7,6,FALSE),VLOOKUP(R13,'In-NonTI'!$B$4:$H$7,7,FALSE)) -> VIC-NSW
B14: 46261.014 | C14: 4 | D14: SA1 | E14: 296.03 | G14: 46261.01 | H14: 3 | I14: V-SA | J14: 178.6 | K14: 688.27 | L14: 77.19 | M14: =L14/12 -> 6.4325 | O14: 11658 | P14: 46261 | Q14: 3 | R14: V-SA | S14: 0.163248 | T14: 47.613079 | U14: =S14-T14 -> -47.449831 | V14: =VLOOKUP(R14,'In-NonTI'!B:C,2,FALSE) -> VIC1 | W14: =IF(U14=0,0,U14-(VLOOKUP(R14,'In-NonTI'!$J$4:$K$7,2,FALSE)*M14)) -> -50.473106 | X14: =IF(U14=0,0,-U14-((1-VLOOKUP(R14,'In-NonTI'!$J$4:$K$7,2,FALSE))*M14)) -> 44.040606 | Y14: =VLOOKUP(R14,'In-NonTI'!$B$4:$F$7,5,FALSE) -> V-SA | Z14: =IF(SUMIFS(U:U,Q:Q,Q14,Y:Y,Y14)<=0,VLOOKUP(R14,'In-NonTI'!$B$4:$H$7,6,FALSE),VLOOKUP(R14,'In-NonTI'!$B$4:$H$7,7,FALSE)) -> VIC-SA
B15: 46261.014 | C15: 4 | D15: VIC1 | E15: 35 | G15: 46261.01 | H15: 3 | I15: V-S-MNSP1 | J15: 0 | K15: 69.1 | L15: 5.46 | M15: =L15/12 -> 0.455 | O15: 11658 | P15: 46261 | Q15: 3 | R15: V-S-MNSP1 | S15: 6.1721902 | T15: 0 | U15: =S15-T15 -> 6.1721902 | V15: =VLOOKUP(R15,'In-NonTI'!B:C,2,FALSE) -> VIC1 | W15: =IF(U15=0,0,U15-(VLOOKUP(R15,'In-NonTI'!$J$4:$K$7,2,FALSE)*M15)) -> 5.7672402 | X15: =IF(U15=0,0,-U15-((1-VLOOKUP(R15,'In-NonTI'!$J$4:$K$7,2,FALSE))*M15)) -> -6.2222402 | Y15: =VLOOKUP(R15,'In-NonTI'!$B$4:$F$7,5,FALSE) -> V-SA | Z15: =IF(SUMIFS(U:U,Q:Q,Q15,Y:Y,Y15)<=0,VLOOKUP(R15,'In-NonTI'!$B$4:$H$7,6,FALSE),VLOOKUP(R15,'In-NonTI'!$B$4:$H$7,7,FALSE)) -> VIC-SA
... B867: 46262 | C867: 288 | D867: VIC1 | E867: 35 | G867: 46261.75 | H867: 216 | I867: V-S-MNSP1 | J867: 0 | K867: -45 | L867: 4.16 | M867: =L867/12 -> 0.34666667 | O867: 11658 | P867: 46261 | Q867: 216 | R867: V-S-MNSP1 | S867: 0 | T867: 0.1504022 | U867: =S867-T867 -> -0.1504022 | V867: =VLOOKUP(R867,'In-NonTI'!B:C,2,FALSE) -> VIC1 | W867: =IF(U867=0,0,U867-(VLOOKUP(R867,'In-NonTI'!$J$4:$K$7,2,FALSE)*M867)) -> -0.45893553 | X867: =IF(U867=0,0,-U867-((1-VLOOKUP(R867,'In-NonTI'!$J$4:$K$7,2,FALSE))*M867)) -> 0.11226887 | Y867: =VLOOKUP(R867,'In-NonTI'!$B$4:$F$7,5,FALSE) -> V-SA | Z867: =IF(SUMIFS(U:U,Q:Q,Q867,Y:Y,Y867)<=0,VLOOKUP(R867,'In-NonTI'!$B$4:$H$7,6,FALSE),VLOOKUP(R867,'In-NonTI'!$B$4:$H$7,7,FALSE)) -> VIC-SA
G868: 46261.753 | H868: 217 | I868: NSW1-SA1 | J868: -124.64 | K868: 49.88 | L868: 9.99 | M868: =L868/12 -> 0.8325 | O868: 11658 | P868: 46261 | Q868: 217 | R868: NSW1-SA1 | S868: 11.633812 | T868: 0 | U868: =S868-T868 -> 11.633812 | V868: =VLOOKUP(R868,'In-NonTI'!B:C,2,FALSE) -> NSW1 | W868: =IF(U868=0,0,U868-(VLOOKUP(R868,'In-NonTI'!$J$4:$K$7,2,FALSE)*M868)) -> 11.259187 | X868: =IF(U868=0,0,-U868-((1-VLOOKUP(R868,'In-NonTI'!$J$4:$K$7,2,FALSE))*M868)) -> -12.091687 | Y868: =VLOOKUP(R868,'In-NonTI'!$B$4:$F$7,5,FALSE) -> NSW1-SA1 | Z868: =IF(SUMIFS(U:U,Q:Q,Q868,Y:Y,Y868)<=0,VLOOKUP(R868,'In-NonTI'!$B$4:$H$7,6,FALSE),VLOOKUP(R868,'In-NonTI'!$B$4:$H$7,7,FALSE)) -> SA-NSW
G869: 46261.753 | H869: 217 | I869: VIC1-NSW1 | J869: -78.5 | K869: -243.46 | L869: 16.55 | M869: =L869/12 -> 1.3791667 | O869: 11658 | P869: 46261 | Q869: 217 | R869: VIC1-NSW1 | S869: 31.320342 | T869: 24.987381 | U869: =S869-T869 -> 6.3329618 | V869: =VLOOKUP(R869,'In-NonTI'!B:C,2,FALSE) -> VIC1 | W869: =IF(U869=0,0,U869-(VLOOKUP(R869,'In-NonTI'!$J$4:$K$7,2,FALSE)*M869)) -> 5.5054618 | X869: =IF(U869=0,0,-U869-((1-VLOOKUP(R869,'In-NonTI'!$J$4:$K$7,2,FALSE))*M869)) -> -6.8846285 | Y869: =VLOOKUP(R869,'In-NonTI'!$B$4:$F$7,5,FALSE) -> VIC1-NSW1 | Z869: =IF(SUMIFS(U:U,Q:Q,Q869,Y:Y,Y869)<=0,VLOOKUP(R869,'In-NonTI'!$B$4:$H$7,6,FALSE),VLOOKUP(R869,'In-NonTI'!$B$4:$H$7,7,FALSE)) -> NSW-VIC
G870: 46261.753 | H870: 217 | I870: V-SA | J870: 100.46 | K870: 712.73 | L870: 77.13 | M870: =L870/12 -> 6.4275 | O870: 11658 | P870: 46261 | Q870: 217 | R870: V-SA | S870: 9.5333765 | T870: 24.212833 | U870: =S870-T870 -> -14.679457 | V870: =VLOOKUP(R870,'In-NonTI'!B:C,2,FALSE) -> VIC1 | W870: =IF(U870=0,0,U870-(VLOOKUP(R870,'In-NonTI'!$J$4:$K$7,2,FALSE)*M870)) -> -17.700382 | X870: =IF(U870=0,0,-U870-((1-VLOOKUP(R870,'In-NonTI'!$J$4:$K$7,2,FALSE))*M870)) -> 11.272882 | Y870: =VLOOKUP(R870,'In-NonTI'!$B$4:$F$7,5,FALSE) -> V-SA | Z870: =IF(SUMIFS(U:U,Q:Q,Q870,Y:Y,Y870)<=0,VLOOKUP(R870,'In-NonTI'!$B$4:$H$7,6,FALSE),VLOOKUP(R870,'In-NonTI'!$B$4:$H$7,7,FALSE)) -> VIC-SA
G871: 46261.753 | H871: 217 | I871: V-S-MNSP1 | J871: 0 | K871: -80 | L871: 11.61 | M871: =L871/12 -> 0.9675 | O871: 11658 | P871: 46261 | Q871: 217 | R871: V-S-MNSP1 | S871: 0 | T871: 0.1750433 | U871: =S871-T871 -> -0.1750433 | V871: =VLOOKUP(R871,'In-NonTI'!B:C,2,FALSE) -> VIC1 | W871: =IF(U871=0,0,U871-(VLOOKUP(R871,'In-NonTI'!$J$4:$K$7,2,FALSE)*M871)) -> -1.0361183 | X871: =IF(U871=0,0,-U871-((1-VLOOKUP(R871,'In-NonTI'!$J$4:$K$7,2,FALSE))*M871)) -> 0.0686183 | Y871: =VLOOKUP(R871,'In-NonTI'!$B$4:$F$7,5,FALSE) -> V-SA | Z871: =IF(SUMIFS(U:U,Q:Q,Q871,Y:Y,Y871)<=0,VLOOKUP(R871,'In-NonTI'!$B$4:$H$7,6,FALSE),VLOOKUP(R871,'In-NonTI'!$B$4:$H$7,7,FALSE)) -> VIC-SA
G872: 46261.757 | H872: 218 | I872: NSW1-SA1 | J872: -145.55 | K872: 39.07 | L872: 7.85 | M872: =L872/12 -> 0.65416667 | O872: 11658 | P872: 46261 | Q872: 218 | R872: NSW1-SA1 | S872: 12.540839 | T872: 0 | U872: =S872-T872 -> 12.540839 | V872: =VLOOKUP(R872,'In-NonTI'!B:C,2,FALSE) -> NSW1 | W872: =IF(U872=0,0,U872-(VLOOKUP(R872,'In-NonTI'!$J$4:$K$7,2,FALSE)*M872)) -> 12.246464 | X872: =IF(U872=0,0,-U872-((1-VLOOKUP(R872,'In-NonTI'!$J$4:$K$7,2,FALSE))*M872)) -> -12.900631 | Y872: =VLOOKUP(R872,'In-NonTI'!$B$4:$F$7,5,FALSE) -> NSW1-SA1 | Z872: =IF(SUMIFS(U:U,Q:Q,Q872,Y:Y,Y872)<=0,VLOOKUP(R872,'In-NonTI'!$B$4:$H$7,6,FALSE),VLOOKUP(R872,'In-NonTI'!$B$4:$H$7,7,FALSE)) -> SA-NSW
G873: 46261.757 | H873: 218 | I873: VIC1-NSW1 | J873: -285.59 | K873: -242.12 | L873: 16.65 | M873: =L873/12 -> 1.3875 | O873: 11658 | P873: 46261 | Q873: 218 | R873: VIC1-NSW1 | S873: 28.803738 | T873: 24.217387 | U873: =S873-T873 -> 4.5863513 | V873: =VLOOKUP(R873,'In-NonTI'!B:C,2,FALSE) -> VIC1 | W873: =IF(U873=0,0,U873-(VLOOKUP(R873,'In-NonTI'!$J$4:$K$7,2,FALSE)*M873)) -> 3.7538513 | X873: =IF(U873=0,0,-U873-((1-VLOOKUP(R873,'In-NonTI'!$J$4:$K$7,2,FALSE))*M873)) -> -5.1413513 | Y873: =VLOOKUP(R873,'In-NonTI'!$B$4:$F$7,5,FALSE) -> VIC1-NSW1 | Z873: =IF(SUMIFS(U:U,Q:Q,Q873,Y:Y,Y873)<=0,VLOOKUP(R873,'In-NonTI'!$B$4:$H$7,6,FALSE),VLOOKUP(R873,'In-NonTI'!$B$4:$H$7,7,FALSE)) -> NSW-VIC
G874: 46261.757 | H874: 218 | I874: V-SA | J874: 64.74 | K874: 669.98 | L874: 68.05 | M874: =L874/12 -> 5.6708333 | O874: 11658 | P874: 46261 | Q874: 218 | R874: V-SA | S874: 10.079779 | T874: 25.038049 | U874: =S874-T874 -> -14.958271 | V874: =VLOOKUP(R874,'In-NonTI'!B:C,2,FALSE) -> VIC1 | W874: =IF(U874=0,0,U874-(VLOOKUP(R874,'In-NonTI'!$J$4:$K$7,2,FALSE)*M874)) -> -17.623562 | X874: =IF(U874=0,0,-U874-((1-VLOOKUP(R874,'In-NonTI'!$J$4:$K$7,2,FALSE))*M874)) -> 11.952729 | Y874: =VLOOKUP(R874,'In-NonTI'!$B$4:$F$7,5,FALSE) -> V-SA | Z874: =IF(SUMIFS(U:U,Q:Q,Q874,Y:Y,Y874)<=0,VLOOKUP(R874,'In-NonTI'!$B$4:$H$7,6,FALSE),VLOOKUP(R874,'In-NonTI'!$B$4:$H$7,7,FALSE)) -> VIC-SA
G875: 46261.757 | H875: 218 | I875: V-S-MNSP1 | J875: 0 | K875: 28.56 | L875: 0.53 | M875: =L875/12 -> 0.044166667 | O875: 11658 | P875: 46261 | Q875: 218 | R875: V-S-MNSP1 | S875: 0 | T875: 0.1765987 | U875: =S875-T875 -> -0.1765987 | V875: =VLOOKUP(R875,'In-NonTI'!B:C,2,FALSE) -> VIC1 | W875: =IF(U875=0,0,U875-(VLOOKUP(R875,'In-NonTI'!$J$4:$K$7,2,FALSE)*M875)) -> -0.21590703 | X875: =IF(U875=0,0,-U875-((1-VLOOKUP(R875,'In-NonTI'!$J$4:$K$7,2,FALSE))*M875)) -> 0.17174037 | Y875: =VLOOKUP(R875,'In-NonTI'!$B$4:$F$7,5,FALSE) -> V-SA | Z875: =IF(SUMIFS(U:U,Q:Q,Q875,Y:Y,Y875)<=0,VLOOKUP(R875,'In-NonTI'!$B$4:$H$7,6,FALSE),VLOOKUP(R875,'In-NonTI'!$B$4:$H$7,7,FALSE)) -> VIC-SA
G876: 46261.76 | H876: 219 | I876: NSW1-SA1 | J876: -140.71 | K876: 41.55 | L876: 8.49 | M876: =L876/12 -> 0.7075 | O876: 11658 | P876: 46261 | Q876: 219 | R876: NSW1-SA1 | S876: 11.397632 | T876: 0 | U876: =S876-T876 -> 11.397632 | V876: =VLOOKUP(R876,'In-NonTI'!B:C,2,FALSE) -> NSW1 | W876: =IF(U876=0,0,U876-(VLOOKUP(R876,'In-NonTI'!$J$4:$K$7,2,FALSE)*M876)) -> 11.079257 | X876: =IF(U876=0,0,-U876-((1-VLOOKUP(R876,'In-NonTI'!$J$4:$K$7,2,FALSE))*M876)) -> -11.786757 | Y876: =VLOOKUP(R876,'In-NonTI'!$B$4:$F$7,5,FALSE) -> NSW1-SA1 | Z876: =IF(SUMIFS(U:U,Q:Q,Q876,Y:Y,Y876)<=0,VLOOKUP(R876,'In-NonTI'!$B$4:$H$7,6,FALSE),VLOOKUP(R876,'In-NonTI'!$B$4:$H$7,7,FALSE)) -> SA-NSW
G877: 46261.76 | H877: 219 | I877: VIC1-NSW1 | J877: -362.5 | K877: -238.92 | L877: 16.62 | M877: =L877/12 -> 1.385 | O877: 11658 | P877: 46261 | Q877: 219 | R877: VIC1-NSW1 | S877: 26.81174 | T877: 29.012954 | U877: =S877-T877 -> -2.2012138 | V877: =VLOOKUP(R877,'In-NonTI'!B:C,2,FALSE) -> VIC1 | W877: =IF(U877=0,0,U877-(VLOOKUP(R877,'In-NonTI'!$J$4:$K$7,2,FALSE)*M877)) -> -3.0322138 | X877: =IF(U877=0,0,-U877-((1-VLOOKUP(R877,'In-NonTI'!$J$4:$K$7,2,FALSE))*M877)) -> 1.6472138 | Y877: =VLOOKUP(R877,'In-NonTI'!$B$4:$F$7,5,FALSE) -> VIC1-NSW1 | Z877: =IF(SUMIFS(U:U,Q:Q,Q877,Y:Y,Y877)<=0,VLOOKUP(R877,'In-NonTI'!$B$4:$H$7,6,FALSE),VLOOKUP(R877,'In-NonTI'!$B$4:$H$7,7,FALSE)) -> VIC-NSW
G878: 46261.76 | H878: 219 | I878: V-SA | J878: 83.72 | K878: 679.56 | L878: 68.95 | M878: =L878/12 -> 5.7458333 | O878: 11658 | P878: 46261 | Q878: 219 | R878: V-SA | S878: 11.831274 | T878: 23.253217 | U878: =S878-T878 -> -11.421943 | V878: =VLOOKUP(R878,'In-NonTI'!B:C,2,FALSE) -> VIC1 | W878: =IF(U878=0,0,U878-(VLOOKUP(R878,'In-NonTI'!$J$4:$K$7,2,FALSE)*M878)) -> -14.122485 | X878: =IF(U878=0,0,-U878-((1-VLOOKUP(R878,'In-NonTI'!$J$4:$K$7,2,FALSE))*M878)) -> 8.3766517 | Y878: =VLOOKUP(R878,'In-NonTI'!$B$4:$F$7,5,FALSE) -> V-SA | Z878: =IF(SUMIFS(U:U,Q:Q,Q878,Y:Y,Y878)<=0,VLOOKUP(R878,'In-NonTI'!$B$4:$H$7,6,FALSE),VLOOKUP(R878,'In-NonTI'!$B$4:$H$7,7,FALSE)) -> VIC-SA
G879: 46261.76 | H879: 219 | I879: V-S-MNSP1 | J879: 0 | K879: 8.92 | L879: -0.1 | M879: =L879/12 -> -0.0083333333 | O879: 11658 | P879: 46261 | Q879: 219 | R879: V-S-MNSP1 | S879: 0 | T879: 0.1939297 | U879: =S879-T879 -> -0.1939297 | V879: =VLOOKUP(R879,'In-NonTI'!B:C,2,FALSE) -> VIC1 | W879: =IF(U879=0,0,U879-(VLOOKUP(R879,'In-NonTI'!$J$4:$K$7,2,FALSE)*M879)) -> -0.18651303 | X879: =IF(U879=0,0,-U879-((1-VLOOKUP(R879,'In-NonTI'!$J$4:$K$7,2,FALSE))*M879)) -> 0.19484637 | Y879: =VLOOKUP(R879,'In-NonTI'!$B$4:$F$7,5,FALSE) -> V-SA | Z879: =IF(SUMIFS(U:U,Q:Q,Q879,Y:Y,Y879)<=0,VLOOKUP(R879,'In-NonTI'!$B$4:$H$7,6,FALSE),VLOOKUP(R879,'In-NonTI'!$B$4:$H$7,7,FALSE)) -> VIC-SA
... G1155: 46262 | H1155: 288 | I1155: V-S-MNSP1 | J1155: 0 | K1155: 80 | L1155: 7.61 | M1155: =L1155/12 -> 0.63416667 | O1155: 11658 | P1155: 46261 | Q1155: 288 | R1155: V-S-MNSP1 | S1155: 8.2062124 | T1155: 0 | U1155: =S1155-T1155 -> 8.2062124 | V1155: =VLOOKUP(R1155,'In-NonTI'!B:C,2,FALSE) -> VIC1 | W1155: =IF(U1155=0,0,U1155-(VLOOKUP(R1155,'In-NonTI'!$J$4:$K$7,2,FALSE)*M1155)) -> 7.6418041 | X1155: =IF(U1155=0,0,-U1155-((1-VLOOKUP(R1155,'In-NonTI'!$J$4:$K$7,2,FALSE))*M1155)) -> -8.2759707 | Y1155: =VLOOKUP(R1155,'In-NonTI'!$B$4:$F$7,5,FALSE) -> V-SA | Z1155: =IF(SUMIFS(U:U,Q:Q,Q1155,Y:Y,Y1155)<=0,VLOOKUP(R1155,'In-NonTI'!$B$4:$H$7,6,FALSE),VLOOKUP(R1155,'In-NonTI'!$B$4:$H$7,7,FALSE)) -> VIC-SA

Sheet Calc
C2: Reginal Reference Prices | F2: Regional IC "From Region" Energy | I2: Regional IC "To Region" Energy | L2: Raw residues assigned to active D-IC's = RRP1 x Energy1 + RRP2 x Energy2 | R2: Net Loop Allocation (NLA) | S2: Negative NLA Regional Shares | V2: Net Regional Energy (NRE) negative if region exporting | Y2: Exporting Regions | Z2: Region Priority Order | AC2: D-ICs based on the Priorities and Exporting (Ex) Regions Number | AF2: Net Trade Quantity (NTQ) from abs(NRE) and Priorities/Ex Regions | AI2: NTQ assigned to the required D-IC's | AO2: Active D-IC's Notional Amount (NA) = NTQ x Price Difference except where 3 regions prices all equal, replace PriceDiff with 0.01 | AU2: Provisional Net Trade Amount (PA) = share NA * positive NLA | BA2: Net Trade Amount (NTA) = if PA<0 make 0 & scale down positive PA
B3: TI | C3: NSW1 | D3: SA1 | E3: VIC1 | F3: NSW1-SA1 | G3: VIC1-NSW1 | H3: V-SA | I3: NSW1-SA1 | J3: VIC1-NSW1 | K3: V-SA | L3: NSW-SA | M3: SA-NSW | N3: VIC-NSW | O3: NSW-VIC | P3: VIC-SA | Q3: SA-VIC | R3: Total | S3: NSW1 | T3: SA1 | U3: VIC1 | V3: NSW | W3: SA | X3: VIC | Y3: Count | Z3: 1st | AA3: 2nd | AB3: 3rd | AC3: 1st D-IC | AD3: 2nd D-IC | AE3: 3rd If 3 Ex | AF3: 1st D-IC | AG3: 2nd D-IC | AH3: 3rd If 3 Ex | AI3: NSW-SA | AJ3: SA-NSW | AK3: VIC-NSW | AL3: NSW-VIC | AM3: VIC-SA | AN3: SA-VIC | AO3: NSW-SA | AP3: SA-NSW | AQ3: VIC-NSW | AR3: NSW-VIC | AS3: VIC-SA | AT3: SA-VIC | AU3: NSW-SA | AV3: SA-NSW | AW3: VIC-NSW | AX3: NSW-VIC | AY3: VIC-SA | AZ3: SA-VIC | BA3: NSW-SA | BB3: SA-NSW | BC3: VIC-NSW | BD3: NSW-VIC | BE3: VIC-SA | BF3: SA-VIC
B4: 1 | C4: {=_xlfn.XLOOKUP(C$3&$B4,'In-TI'!$D$4:$D$867&'In-TI'!$C$4:$C$867,'In-TI'!$E$4:$E$867)} -> 500 | D4: {=_xlfn.XLOOKUP(D$3&$B4,'In-TI'!$D$4:$D$867&'In-TI'!$C$4:$C$867,'In-TI'!$E$4:$E$867)} -> 248.73 | E4: {=_xlfn.XLOOKUP(E$3&$B4,'In-TI'!$D$4:$D$867&'In-TI'!$C$4:$C$867,'In-TI'!$E$4:$E$867)} -> 35 | F4: =SUMIFS('In-TI'!$W$4:$W$1155,'In-TI'!$Y$4:$Y$1155,F$3,'In-TI'!$Q$4:$Q$1155,$B4) -> 9.2705538 | G4: =SUMIFS('In-TI'!$W$4:$W$1155,'In-TI'!$Y$4:$Y$1155,G$3,'In-TI'!$Q$4:$Q$1155,$B4) -> -18.664087 | H4: =SUMIFS('In-TI'!$W$4:$W$1155,'In-TI'!$Y$4:$Y$1155,H$3,'In-TI'!$Q$4:$Q$1155,$B4) -> -39.235229 | I4: =SUMIFS('In-TI'!$X$4:$X$1155,'In-TI'!$Y$4:$Y$1155,I$3,'In-TI'!$Q$4:$Q$1155,$B4) -> -10.118887 | J4: =SUMIFS('In-TI'!$X$4:$X$1155,'In-TI'!$Y$4:$Y$1155,J$3,'In-TI'!$Q$4:$Q$1155,$B4) -> 18.374921 | K4: =SUMIFS('In-TI'!$X$4:$X$1155,'In-TI'!$Y$4:$Y$1155,K$3,'In-TI'!$Q$4:$Q$1155,$B4) -> 32.361062 | L4: {=IF(_xlfn.XLOOKUP($B4&F$3,'In-TI'!$Q$4:$Q$1155&'In-TI'!$Y$4:$Y$1155,'In-TI'!$Z$4:$Z$1155)=L$3,F4*C4+I4*D4,0)} -> 0 | M4: {=IF(_xlfn.XLOOKUP($B4&I$3,'In-TI'!$Q$4:$Q$1155&'In-TI'!$Y$4:$Y$1155,'In-TI'!$Z$4:$Z$1155)=M$3,F4*C4+I4*D4,0)} -> 2118.4061 | N4: {=IF(_xlfn.XLOOKUP($B4&G$3,'In-TI'!$Q$4:$Q$1155&'In-TI'!$Y$4:$Y$1155,'In-TI'!$Z$4:$Z$1155)=N$3,G4*E4+J4*C4,0)} -> 8534.2173 | O4: {=IF(_xlfn.XLOOKUP($B4&J$3,'In-TI'!$Q$4:$Q$1155&'In-TI'!$Y$4:$Y$1155,'In-TI'!$Z$4:$Z$1155)=O$3,G4*E4+J4*C4,0)} -> 0 | P4: {=IF(_xlfn.XLOOKUP($B4&H$3,'In-TI'!$Q$4:$Q$1155&'In-TI'!$Y$4:$Y$1155,'In-TI'!$Z$4:$Z$1155)=P$3,H4*E4+K4*D4,0)} -> 6675.934 | Q4: {=IF(_xlfn.XLOOKUP($B4&K$3,'In-TI'!$Q$4:$Q$1155&'In-TI'!$Y$4:$Y$1155,'In-TI'!$Z$4:$Z$1155)=Q$3,H4*E4+K4*D4,0)} -> 0 | R4: =SUM(L4:Q4) -> 17328.557 | S4: =IF($R4>=0,0,$R4*VLOOKUP(S$3,'In-NonTI'!$S$4:$U$6,3,0)) -> 0 | T4: =IF($R4>=0,0,$R4*VLOOKUP(T$3,'In-NonTI'!$S$4:$U$6,3,0)) -> 0 | U4: =IF($R4>=0,0,$R4*VLOOKUP(U$3,'In-NonTI'!$S$4:$U$6,3,0)) -> 0 | V4: =F4+J4 -> 27.645474 | W4: =I4+K4 -> 22.242175 | X4: =G4+H4 -> -57.899316 | Y4: =COUNTIFS(V4:X4,"<0") -> 1 | Z4: =INDEX($V$3:$X$3,MATCH(LARGE($V4:$X4,3),$V4:$X4,0)) -> VIC | AA4: =INDEX($V$3:$X$3,MATCH(LARGE($V4:$X4,2),$V4:$X4,0)) -> SA | AB4: =INDEX($V$3:$X$3,MATCH(LARGE($V4:$X4,1),$V4:$X4,0)) -> NSW | AC4: =IF(Y4=2,Z4&"-"&AB4,Z4&"-"&AA4) -> VIC-SA | AD4: =IF(Y4=1,Z4&"-"&AB4,AA4&"-"&AB4) -> VIC-NSW | AE4: =IF(OR(Y4=3,Y4=0),AB4&"-"&Z4,0) -> 0 | AF4: =IF(Y4=1,ABS(_xlfn.XLOOKUP(AA4,$V$3:$X$3,V4:X4)),ABS(_xlfn.XLOOKUP(Z4,$V$3:$X$3,V4:X4))) -> 22.242175 | AG4: =IF(Y4=1,ABS(_xlfn.XLOOKUP(AB4,$V$3:$X$3,V4:X4)),ABS(_xlfn.XLOOKUP(AA4,$V$3:$X$3,V4:X4))) -> 27.645474 | AH4: =IF(Y4=3,ABS(_xlfn.XLOOKUP(AB4,$V$3:$X$3,V4:X4)),0) -> 0 | AI4: =IF($AC4=AI$3,$AF4,IF($AD4=AI$3,$AG4,IF($AE4=AI$3,$AH4,0))) -> 0 | AJ4: =IF($AC4=AJ$3,$AF4,IF($AD4=AJ$3,$AG4,IF($AE4=AJ$3,$AH4,0))) -> 0 | AK4: =IF($AC4=AK$3,$AF4,IF($AD4=AK$3,$AG4,IF($AE4=AK$3,$AH4,0))) -> 27.645474 | AL4: =IF($AC4=AL$3,$AF4,IF($AD4=AL$3,$AG4,IF($AE4=AL$3,$AH4,0))) -> 0 | AM4: =IF($AC4=AM$3,$AF4,IF($AD4=AM$3,$AG4,IF($AE4=AM$3,$AH4,0))) -> 22.242175 | AN4: =IF($AC4=AN$3,$AF4,IF($AD4=AN$3,$AG4,IF($AE4=AN$3,$AH4,0))) -> 0 | AO4: =IF(AND(C4=D4,D4=E4),AI4*0.01,AI4*(D4-C4)) -> 0 | AP4: =IF(AND(C4=D4,D4=E4),AJ4*0.01,AJ4*(C4-D4)) -> 0 | AQ4: =IF(AND(C4=D4,D4=E4),AK4*0.01,AK4*(C4-E4)) -> 12855.146 | AR4: =IF(AND(C4=D4,D4=E4),AL4*0.01,AL4*(E4-C4)) -> 0 | AS4: =IF(AND(C4=D4,D4=E4),AM4*0.01,AM4*(D4-E4)) -> 4753.82 | AT4: =IF(AND(C4=D4,D4=E4),AN4*0.01,AN4*(E4-D4)) -> 0 | AU4: =IF($R4<=0,0,(AO4/SUM($AO4:$AT4))*$R4) -> 0 | AV4: =IF($R4<=0,0,(AP4/SUM($AO4:$AT4))*$R4) -> 0 | AW4: =IF($R4<=0,0,(AQ4/SUM($AO4:$AT4))*$R4) -> 12650.438 | AX4: =IF($R4<=0,0,(AR4/SUM($AO4:$AT4))*$R4) -> 0 | AY4: =IF($R4<=0,0,(AS4/SUM($AO4:$AT4))*$R4) -> 4678.1194 | AZ4: =IF($R4<=0,0,(AT4/SUM($AO4:$AT4))*$R4) -> 0 | BA4: =IF($R4<=0,0,MAX((AU4/SUMIF($AU4:$AZ4,">0"))*$R4,0)) -> 0 | BB4: =IF($R4<=0,0,MAX((AV4/SUMIF($AU4:$AZ4,">0"))*$R4,0)) -> 0 | BC4: =IF($R4<=0,0,MAX((AW4/SUMIF($AU4:$AZ4,">0"))*$R4,0)) -> 12650.438 | BD4: =IF($R4<=0,0,MAX((AX4/SUMIF($AU4:$AZ4,">0"))*$R4,0)) -> 0 | BE4: =IF($R4<=0,0,MAX((AY4/SUMIF($AU4:$AZ4,">0"))*$R4,0)) -> 4678.1194 | BF4: =IF($R4<=0,0,MAX((AZ4/SUMIF($AU4:$AZ4,">0"))*$R4,0)) -> 0
B5: 2 | C5: {=_xlfn.XLOOKUP(C$3&$B5,'In-TI'!$D$4:$D$867&'In-TI'!$C$4:$C$867,'In-TI'!$E$4:$E$867)} -> 500 | D5: {=_xlfn.XLOOKUP(D$3&$B5,'In-TI'!$D$4:$D$867&'In-TI'!$C$4:$C$867,'In-TI'!$E$4:$E$867)} -> 220.63 | E5: {=_xlfn.XLOOKUP(E$3&$B5,'In-TI'!$D$4:$D$867&'In-TI'!$C$4:$C$867,'In-TI'!$E$4:$E$867)} -> 35 | F5: =SUMIFS('In-TI'!$W$4:$W$1155,'In-TI'!$Y$4:$Y$1155,F$3,'In-TI'!$Q$4:$Q$1155,$B5) -> 8.4974228 | G5: =SUMIFS('In-TI'!$W$4:$W$1155,'In-TI'!$Y$4:$Y$1155,G$3,'In-TI'!$Q$4:$Q$1155,$B5) -> -16.556532 | H5: =SUMIFS('In-TI'!$W$4:$W$1155,'In-TI'!$Y$4:$Y$1155,H$3,'In-TI'!$Q$4:$Q$1155,$B5) -> -38.811541 | I5: =SUMIFS('In-TI'!$X$4:$X$1155,'In-TI'!$Y$4:$Y$1155,I$3,'In-TI'!$Q$4:$Q$1155,$B5) -> -9.2974228 | J5: =SUMIFS('In-TI'!$X$4:$X$1155,'In-TI'!$Y$4:$Y$1155,J$3,'In-TI'!$Q$4:$Q$1155,$B5) -> 16.340699 | K5: =SUMIFS('In-TI'!$X$4:$X$1155,'In-TI'!$Y$4:$Y$1155,K$3,'In-TI'!$Q$4:$Q$1155,$B5) -> 31.819874 | L5: {=IF(_xlfn.XLOOKUP($B5&F$3,'In-TI'!$Q$4:$Q$1155&'In-TI'!$Y$4:$Y$1155,'In-TI'!$Z$4:$Z$1155)=L$3,F5*C5+I5*D5,0)} -> 0 | M5: {=IF(_xlfn.XLOOKUP($B5&I$3,'In-TI'!$Q$4:$Q$1155&'In-TI'!$Y$4:$Y$1155,'In-TI'!$Z$4:$Z$1155)=M$3,F5*C5+I5*D5,0)} -> 2197.421 | N5: {=IF(_xlfn.XLOOKUP($B5&G$3,'In-TI'!$Q$4:$Q$1155&'In-TI'!$Y$4:$Y$1155,'In-TI'!$Z$4:$Z$1155)=N$3,G5*E5+J5*C5,0)} -> 7590.8709 | O5: {=IF(_xlfn.XLOOKUP($B5&J$3,'In-TI'!$Q$4:$Q$1155&'In-TI'!$Y$4:$Y$1155,'In-TI'!$Z$4:$Z$1155)=O$3,G5*E5+J5*C5,0)} -> 0 | P5: {=IF(_xlfn.XLOOKUP($B5&H$3,'In-TI'!$Q$4:$Q$1155&'In-TI'!$Y$4:$Y$1155,'In-TI'!$Z$4:$Z$1155)=P$3,H5*E5+K5*D5,0)} -> 5662.0149 | Q5: {=IF(_xlfn.XLOOKUP($B5&K$3,'In-TI'!$Q$4:$Q$1155&'In-TI'!$Y$4:$Y$1155,'In-TI'!$Z$4:$Z$1155)=Q$3,H5*E5+K5*D5,0)} -> 0 | R5: =SUM(L5:Q5) -> 15450.307 | S5: =IF($R5>=0,0,$R5*VLOOKUP(S$3,'In-NonTI'!$S$4:$U$6,3,0)) -> 0 | T5: =IF($R5>=0,0,$R5*VLOOKUP(T$3,'In-NonTI'!$S$4:$U$6,3,0)) -> 0 | U5: =IF($R5>=0,0,$R5*VLOOKUP(U$3,'In-NonTI'!$S$4:$U$6,3,0)) -> 0 | V5: =F5+J5 -> 24.838122 | W5: =I5+K5 -> 22.522451 | X5: =G5+H5 -> -55.368073 | Y5: =COUNTIFS(V5:X5,"<0") -> 1 | Z5: =INDEX($V$3:$X$3,MATCH(LARGE($V5:$X5,3),$V5:$X5,0)) -> VIC | AA5: =INDEX($V$3:$X$3,MATCH(LARGE($V5:$X5,2),$V5:$X5,0)) -> SA | AB5: =INDEX($V$3:$X$3,MATCH(LARGE($V5:$X5,1),$V5:$X5,0)) -> NSW | AC5: =IF(Y5=2,Z5&"-"&AB5,Z5&"-"&AA5) -> VIC-SA | AD5: =IF(Y5=1,Z5&"-"&AB5,AA5&"-"&AB5) -> VIC-NSW | AE5: =IF(OR(Y5=3,Y5=0),AB5&"-"&Z5,0) -> 0 | AF5: =IF(Y5=1,ABS(_xlfn.XLOOKUP(AA5,$V$3:$X$3,V5:X5)),ABS(_xlfn.XLOOKUP(Z5,$V$3:$X$3,V5:X5))) -> 22.522451 | AG5: =IF(Y5=1,ABS(_xlfn.XLOOKUP(AB5,$V$3:$X$3,V5:X5)),ABS(_xlfn.XLOOKUP(AA5,$V$3:$X$3,V5:X5))) -> 24.838122 | AH5: =IF(Y5=3,ABS(_xlfn.XLOOKUP(AB5,$V$3:$X$3,V5:X5)),0) -> 0 | AI5: =IF($AC5=AI$3,$AF5,IF($AD5=AI$3,$AG5,IF($AE5=AI$3,$AH5,0))) -> 0 | AJ5: =IF($AC5=AJ$3,$AF5,IF($AD5=AJ$3,$AG5,IF($AE5=AJ$3,$AH5,0))) -> 0 | AK5: =IF($AC5=AK$3,$AF5,IF($AD5=AK$3,$AG5,IF($AE5=AK$3,$AH5,0))) -> 24.838122 | AL5: =IF($AC5=AL$3,$AF5,IF($AD5=AL$3,$AG5,IF($AE5=AL$3,$AH5,0))) -> 0 | AM5: =IF($AC5=AM$3,$AF5,IF($AD5=AM$3,$AG5,IF($AE5=AM$3,$AH5,0))) -> 22.522451 | AN5: =IF($AC5=AN$3,$AF5,IF($AD5=AN$3,$AG5,IF($AE5=AN$3,$AH5,0))) -> 0 | AO5: =IF(AND(C5=D5,D5=E5),AI5*0.01,AI5*(D5-C5)) -> 0 | AP5: =IF(AND(C5=D5,D5=E5),AJ5*0.01,AJ5*(C5-D5)) -> 0 | AQ5: =IF(AND(C5=D5,D5=E5),AK5*0.01,AK5*(C5-E5)) -> 11549.727 | AR5: =IF(AND(C5=D5,D5=E5),AL5*0.01,AL5*(E5-C5)) -> 0 | AS5: =IF(AND(C5=D5,D5=E5),AM5*0.01,AM5*(D5-E5)) -> 4180.8427 | AT5: =IF(AND(C5=D5,D5=E5),AN5*0.01,AN5*(E5-D5)) -> 0 | AU5: =IF($R5<=0,0,(AO5/SUM($AO5:$AT5))*$R5) -> 0 | AV5: =IF($R5<=0,0,(AP5/SUM($AO5:$AT5))*$R5) -> 0 | AW5: =IF($R5<=0,0,(AQ5/SUM($AO5:$AT5))*$R5) -> 11343.952 | AX5: =IF($R5<=0,0,(AR5/SUM($AO5:$AT5))*$R5) -> 0 | AY5: =IF($R5<=0,0,(AS5/SUM($AO5:$AT5))*$R5) -> 4106.355 | AZ5: =IF($R5<=0,0,(AT5/SUM($AO5:$AT5))*$R5) -> 0 | BA5: =IF($R5<=0,0,MAX((AU5/SUMIF($AU5:$AZ5,">0"))*$R5,0)) -> 0 | BB5: =IF($R5<=0,0,MAX((AV5/SUMIF($AU5:$AZ5,">0"))*$R5,0)) -> 0 | BC5: =IF($R5<=0,0,MAX((AW5/SUMIF($AU5:$AZ5,">0"))*$R5,0)) -> 11343.952 | BD5: =IF($R5<=0,0,MAX((AX5/SUMIF($AU5:$AZ5,">0"))*$R5,0)) -> 0 | BE5: =IF($R5<=0,0,MAX((AY5/SUMIF($AU5:$AZ5,">0"))*$R5,0)) -> 4106.355 | BF5: =IF($R5<=0,0,MAX((AZ5/SUMIF($AU5:$AZ5,">0"))*$R5,0)) -> 0
B6: 3 | C6: {=_xlfn.XLOOKUP(C$3&$B6,'In-TI'!$D$4:$D$867&'In-TI'!$C$4:$C$867,'In-TI'!$E$4:$E$867)} -> 500 | D6: {=_xlfn.XLOOKUP(D$3&$B6,'In-TI'!$D$4:$D$867&'In-TI'!$C$4:$C$867,'In-TI'!$E$4:$E$867)} -> 112.07 | E6: {=_xlfn.XLOOKUP(E$3&$B6,'In-TI'!$D$4:$D$867&'In-TI'!$C$4:$C$867,'In-TI'!$E$4:$E$867)} -> 35 | F6: =SUMIFS('In-TI'!$W$4:$W$1155,'In-TI'!$Y$4:$Y$1155,F$3,'In-TI'!$Q$4:$Q$1155,$B6) -> 7.3554946 | G6: =SUMIFS('In-TI'!$W$4:$W$1155,'In-TI'!$Y$4:$Y$1155,G$3,'In-TI'!$Q$4:$Q$1155,$B6) -> -12.93774 | H6: =SUMIFS('In-TI'!$W$4:$W$1155,'In-TI'!$Y$4:$Y$1155,H$3,'In-TI'!$Q$4:$Q$1155,$B6) -> -44.705866 | I6: =SUMIFS('In-TI'!$X$4:$X$1155,'In-TI'!$Y$4:$Y$1155,I$3,'In-TI'!$Q$4:$Q$1155,$B6) -> -8.1846613 | J6: =SUMIFS('In-TI'!$X$4:$X$1155,'In-TI'!$Y$4:$Y$1155,J$3,'In-TI'!$Q$4:$Q$1155,$B6) -> 12.721074 | K6: =SUMIFS('In-TI'!$X$4:$X$1155,'In-TI'!$Y$4:$Y$1155,K$3,'In-TI'!$Q$4:$Q$1155,$B6) -> 37.818366 | L6: {=IF(_xlfn.XLOOKUP($B6&F$3,'In-TI'!$Q$4:$Q$1155&'In-TI'!$Y$4:$Y$1155,'In-TI'!$Z$4:$Z$1155)=L$3,F6*C6+I6*D6,0)} -> 0 | M6: {=IF(_xlfn.XLOOKUP($B6&I$3,'In-TI'!$Q$4:$Q$1155&'In-TI'!$Y$4:$Y$1155,'In-TI'!$Z$4:$Z$1155)=M$3,F6*C6+I6*D6,0)} -> 2760.4923 | N6: {=IF(_xlfn.XLOOKUP($B6&G$3,'In-TI'!$Q$4:$Q$1155&'In-TI'!$Y$4:$Y$1155,'In-TI'!$Z$4:$Z$1155)=N$3,G6*E6+J6*C6,0)} -> 5907.716 | O6: {=IF(_xlfn.XLOOKUP($B6&J$3,'In-TI'!$Q$4:$Q$1155&'In-TI'!$Y$4:$Y$1155,'In-TI'!$Z$4:$Z$1155)=O$3,G6*E6+J6*C6,0)} -> 0 | P6: {=IF(_xlfn.XLOOKUP($B6&H$3,'In-TI'!$Q$4:$Q$1155&'In-TI'!$Y$4:$Y$1155,'In-TI'!$Z$4:$Z$1155)=P$3,H6*E6+K6*D6,0)} -> 2673.599 | Q6: {=IF(_xlfn.XLOOKUP($B6&K$3,'In-TI'!$Q$4:$Q$1155&'In-TI'!$Y$4:$Y$1155,'In-TI'!$Z$4:$Z$1155)=Q$3,H6*E6+K6*D6,0)} -> 0 | R6: =SUM(L6:Q6) -> 11341.807 | S6: =IF($R6>=0,0,$R6*VLOOKUP(S$3,'In-NonTI'!$S$4:$U$6,3,0)) -> 0 | T6: =IF($R6>=0,0,$R6*VLOOKUP(T$3,'In-NonTI'!$S$4:$U$6,3,0)) -> 0 | U6: =IF($R6>=0,0,$R6*VLOOKUP(U$3,'In-NonTI'!$S$4:$U$6,3,0)) -> 0 | V6: =F6+J6 -> 20.076568 | W6: =I6+K6 -> 29.633705 | X6: =G6+H6 -> -57.643607 | Y6: =COUNTIFS(V6:X6,"<0") -> 1 | Z6: =INDEX($V$3:$X$3,MATCH(LARGE($V6:$X6,3),$V6:$X6,0)) -> VIC | AA6: =INDEX($V$3:$X$3,MATCH(LARGE($V6:$X6,2),$V6:$X6,0)) -> NSW | AB6: =INDEX($V$3:$X$3,MATCH(LARGE($V6:$X6,1),$V6:$X6,0)) -> SA | AC6: =IF(Y6=2,Z6&"-"&AB6,Z6&"-"&AA6) -> VIC-NSW | AD6: =IF(Y6=1,Z6&"-"&AB6,AA6&"-"&AB6) -> VIC-SA | AE6: =IF(OR(Y6=3,Y6=0),AB6&"-"&Z6,0) -> 0 | AF6: =IF(Y6=1,ABS(_xlfn.XLOOKUP(AA6,$V$3:$X$3,V6:X6)),ABS(_xlfn.XLOOKUP(Z6,$V$3:$X$3,V6:X6))) -> 20.076568 | AG6: =IF(Y6=1,ABS(_xlfn.XLOOKUP(AB6,$V$3:$X$3,V6:X6)),ABS(_xlfn.XLOOKUP(AA6,$V$3:$X$3,V6:X6))) -> 29.633705 | AH6: =IF(Y6=3,ABS(_xlfn.XLOOKUP(AB6,$V$3:$X$3,V6:X6)),0) -> 0 | AI6: =IF($AC6=AI$3,$AF6,IF($AD6=AI$3,$AG6,IF($AE6=AI$3,$AH6,0))) -> 0 | AJ6: =IF($AC6=AJ$3,$AF6,IF($AD6=AJ$3,$AG6,IF($AE6=AJ$3,$AH6,0))) -> 0 | AK6: =IF($AC6=AK$3,$AF6,IF($AD6=AK$3,$AG6,IF($AE6=AK$3,$AH6,0))) -> 20.076568 | AL6: =IF($AC6=AL$3,$AF6,IF($AD6=AL$3,$AG6,IF($AE6=AL$3,$AH6,0))) -> 0 | AM6: =IF($AC6=AM$3,$AF6,IF($AD6=AM$3,$AG6,IF($AE6=AM$3,$AH6,0))) -> 29.633705 | AN6: =IF($AC6=AN$3,$AF6,IF($AD6=AN$3,$AG6,IF($AE6=AN$3,$AH6,0))) -> 0 | AO6: =IF(AND(C6=D6,D6=E6),AI6*0.01,AI6*(D6-C6)) -> 0 | AP6: =IF(AND(C6=D6,D6=E6),AJ6*0.01,AJ6*(C6-D6)) -> 0 | AQ6: =IF(AND(C6=D6,D6=E6),AK6*0.01,AK6*(C6-E6)) -> 9335.6043 | AR6: =IF(AND(C6=D6,D6=E6),AL6*0.01,AL6*(E6-C6)) -> 0 | AS6: =IF(AND(C6=D6,D6=E6),AM6*0.01,AM6*(D6-E6)) -> 2283.8696 | AT6: =IF(AND(C6=D6,D6=E6),AN6*0.01,AN6*(E6-D6)) -> 0 | AU6: =IF($R6<=0,0,(AO6/SUM($AO6:$AT6))*$R6) -> 0 | AV6: =IF($R6<=0,0,(AP6/SUM($AO6:$AT6))*$R6) -> 0 | AW6: =IF($R6<=0,0,(AQ6/SUM($AO6:$AT6))*$R6) -> 9112.5145 | AX6: =IF($R6<=0,0,(AR6/SUM($AO6:$AT6))*$R6) -> 0 | AY6: =IF($R6<=0,0,(AS6/SUM($AO6:$AT6))*$R6) -> 2229.2928 | AZ6: =IF($R6<=0,0,(AT6/SUM($AO6:$AT6))*$R6) -> 0 | BA6: =IF($R6<=0,0,MAX((AU6/SUMIF($AU6:$AZ6,">0"))*$R6,0)) -> 0 | BB6: =IF($R6<=0,0,MAX((AV6/SUMIF($AU6:$AZ6,">0"))*$R6,0)) -> 0 | BC6: =IF($R6<=0,0,MAX((AW6/SUMIF($AU6:$AZ6,">0"))*$R6,0)) -> 9112.5145 | BD6: =IF($R6<=0,0,MAX((AX6/SUMIF($AU6:$AZ6,">0"))*$R6,0)) -> 0 | BE6: =IF($R6<=0,0,MAX((AY6/SUMIF($AU6:$AZ6,">0"))*$R6,0)) -> 2229.2928 | BF6: =IF($R6<=0,0,MAX((AZ6/SUMIF($AU6:$AZ6,">0"))*$R6,0)) -> 0
B7: 4 | C7: {=_xlfn.XLOOKUP(C$3&$B7,'In-TI'!$D$4:$D$867&'In-TI'!$C$4:$C$867,'In-TI'!$E$4:$E$867)} -> 500 | D7: {=_xlfn.XLOOKUP(D$3&$B7,'In-TI'!$D$4:$D$867&'In-TI'!$C$4:$C$867,'In-TI'!$E$4:$E$867)} -> 296.03 | E7: {=_xlfn.XLOOKUP(E$3&$B7,'In-TI'!$D$4:$D$867&'In-TI'!$C$4:$C$867,'In-TI'!$E$4:$E$867)} -> 35 | F7: =SUMIFS('In-TI'!$W$4:$W$1155,'In-TI'!$Y$4:$Y$1155,F$3,'In-TI'!$Q$4:$Q$1155,$B7) -> 7.2635678 | G7: =SUMIFS('In-TI'!$W$4:$W$1155,'In-TI'!$Y$4:$Y$1155,G$3,'In-TI'!$Q$4:$Q$1155,$B7) -> -21.637404 | H7: =SUMIFS('In-TI'!$W$4:$W$1155,'In-TI'!$Y$4:$Y$1155,H$3,'In-TI'!$Q$4:$Q$1155,$B7) -> -47.623786 | I7: =SUMIFS('In-TI'!$X$4:$X$1155,'In-TI'!$Y$4:$Y$1155,I$3,'In-TI'!$Q$4:$Q$1155,$B7) -> -7.9952345 | J7: =SUMIFS('In-TI'!$X$4:$X$1155,'In-TI'!$Y$4:$Y$1155,J$3,'In-TI'!$Q$4:$Q$1155,$B7) -> 21.414904 | K7: =SUMIFS('In-TI'!$X$4:$X$1155,'In-TI'!$Y$4:$Y$1155,K$3,'In-TI'!$Q$4:$Q$1155,$B7) -> 41.038786 | L7: {=IF(_xlfn.XLOOKUP($B7&F$3,'In-TI'!$Q$4:$Q$1155&'In-TI'!$Y$4:$Y$1155,'In-TI'!$Z$4:$Z$1155)=L$3,F7*C7+I7*D7,0)} -> 0 | M7: {=IF(_xlfn.XLOOKUP($B7&I$3,'In-TI'!$Q$4:$Q$1155&'In-TI'!$Y$4:$Y$1155,'In-TI'!$Z$4:$Z$1155)=M$3,F7*C7+I7*D7,0)} -> 1264.9546 | N7: {=IF(_xlfn.XLOOKUP($B7&G$3,'In-TI'!$Q$4:$Q$1155&'In-TI'!$Y$4:$Y$1155,'In-TI'!$Z$4:$Z$1155)=N$3,G7*E7+J7*C7,0)} -> 9950.1428 | O7: {=IF(_xlfn.XLOOKUP($B7&J$3,'In-TI'!$Q$4:$Q$1155&'In-TI'!$Y$4:$Y$1155,'In-TI'!$Z$4:$Z$1155)=O$3,G7*E7+J7*C7,0)} -> 0 | P7: {=IF(_xlfn.XLOOKUP($B7&H$3,'In-TI'!$Q$4:$Q$1155&'In-TI'!$Y$4:$Y$1155,'In-TI'!$Z$4:$Z$1155)=P$3,H7*E7+K7*D7,0)} -> 10481.879 | Q7: {=IF(_xlfn.XLOOKUP($B7&K$3,'In-TI'!$Q$4:$Q$1155&'In-TI'!$Y$4:$Y$1155,'In-TI'!$Z$4:$Z$1155)=Q$3,H7*E7+K7*D7,0)} -> 0 | R7: =SUM(L7:Q7) -> 21696.977 | S7: =IF($R7>=0,0,$R7*VLOOKUP(S$3,'In-NonTI'!$S$4:$U$6,3,0)) -> 0 | T7: =IF($R7>=0,0,$R7*VLOOKUP(T$3,'In-NonTI'!$S$4:$U$6,3,0)) -> 0 | U7: =IF($R7>=0,0,$R7*VLOOKUP(U$3,'In-NonTI'!$S$4:$U$6,3,0)) -> 0 | V7: =F7+J7 -> 28.678472 | W7: =I7+K7 -> 33.043552 | X7: =G7+H7 -> -69.26119 | Y7: =COUNTIFS(V7:X7,"<0") -> 1 | Z7: =INDEX($V$3:$X$3,MATCH(LARGE($V7:$X7,3),$V7:$X7,0)) -> VIC | AA7: =INDEX($V$3:$X$3,MATCH(LARGE($V7:$X7,2),$V7:$X7,0)) -> NSW | AB7: =INDEX($V$3:$X$3,MATCH(LARGE($V7:$X7,1),$V7:$X7,0)) -> SA | AC7: =IF(Y7=2,Z7&"-"&AB7,Z7&"-"&AA7) -> VIC-NSW | AD7: =IF(Y7=1,Z7&"-"&AB7,AA7&"-"&AB7) -> VIC-SA | AE7: =IF(OR(Y7=3,Y7=0),AB7&"-"&Z7,0) -> 0 | AF7: =IF(Y7=1,ABS(_xlfn.XLOOKUP(AA7,$V$3:$X$3,V7:X7)),ABS(_xlfn.XLOOKUP(Z7,$V$3:$X$3,V7:X7))) -> 28.678472 | AG7: =IF(Y7=1,ABS(_xlfn.XLOOKUP(AB7,$V$3:$X$3,V7:X7)),ABS(_xlfn.XLOOKUP(AA7,$V$3:$X$3,V7:X7))) -> 33.043552 | AH7: =IF(Y7=3,ABS(_xlfn.XLOOKUP(AB7,$V$3:$X$3,V7:X7)),0) -> 0 | AI7: =IF($AC7=AI$3,$AF7,IF($AD7=AI$3,$AG7,IF($AE7=AI$3,$AH7,0))) -> 0 | AJ7: =IF($AC7=AJ$3,$AF7,IF($AD7=AJ$3,$AG7,IF($AE7=AJ$3,$AH7,0))) -> 0 | AK7: =IF($AC7=AK$3,$AF7,IF($AD7=AK$3,$AG7,IF($AE7=AK$3,$AH7,0))) -> 28.678472 | AL7: =IF($AC7=AL$3,$AF7,IF($AD7=AL$3,$AG7,IF($AE7=AL$3,$AH7,0))) -> 0 | AM7: =IF($AC7=AM$3,$AF7,IF($AD7=AM$3,$AG7,IF($AE7=AM$3,$AH7,0))) -> 33.043552 | AN7: =IF($AC7=AN$3,$AF7,IF($AD7=AN$3,$AG7,IF($AE7=AN$3,$AH7,0))) -> 0 | AO7: =IF(AND(C7=D7,D7=E7),AI7*0.01,AI7*(D7-C7)) -> 0 | AP7: =IF(AND(C7=D7,D7=E7),AJ7*0.01,AJ7*(C7-D7)) -> 0 | AQ7: =IF(AND(C7=D7,D7=E7),AK7*0.01,AK7*(C7-E7)) -> 13335.489 | AR7: =IF(AND(C7=D7,D7=E7),AL7*0.01,AL7*(E7-C7)) -> 0 | AS7: =IF(AND(C7=D7,D7=E7),AM7*0.01,AM7*(D7-E7)) -> 8625.3583 | AT7: =IF(AND(C7=D7,D7=E7),AN7*0.01,AN7*(E7-D7)) -> 0 | AU7: =IF($R7<=0,0,(AO7/SUM($AO7:$AT7))*$R7) -> 0 | AV7: =IF($R7<=0,0,(AP7/SUM($AO7:$AT7))*$R7) -> 0 | AW7: =IF($R7<=0,0,(AQ7/SUM($AO7:$AT7))*$R7) -> 13175.257 | AX7: =IF($R7<=0,0,(AR7/SUM($AO7:$AT7))*$R7) -> 0 | AY7: =IF($R7<=0,0,(AS7/SUM($AO7:$AT7))*$R7) -> 8521.7202 | AZ7: =IF($R7<=0,0,(AT7/SUM($AO7:$AT7))*$R7) -> 0 | BA7: =IF($R7<=0,0,MAX((AU7/SUMIF($AU7:$AZ7,">0"))*$R7,0)) -> 0 | BB7: =IF($R7<=0,0,MAX((AV7/SUMIF($AU7:$AZ7,">0"))*$R7,0)) -> 0 | BC7: =IF($R7<=0,0,MAX((AW7/SUMIF($AU7:$AZ7,">0"))*$R7,0)) -> 13175.257 | BD7: =IF($R7<=0,0,MAX((AX7/SUMIF($AU7:$AZ7,">0"))*$R7,0)) -> 0 | BE7: =IF($R7<=0,0,MAX((AY7/SUMIF($AU7:$AZ7,">0"))*$R7,0)) -> 8521.7202 | BF7: =IF($R7<=0,0,MAX((AZ7/SUMIF($AU7:$AZ7,">0"))*$R7,0)) -> 0
B8: 5 | C8: {=_xlfn.XLOOKUP(C$3&$B8,'In-TI'!$D$4:$D$867&'In-TI'!$C$4:$C$867,'In-TI'!$E$4:$E$867)} -> 500 | D8: {=_xlfn.XLOOKUP(D$3&$B8,'In-TI'!$D$4:$D$867&'In-TI'!$C$4:$C$867,'In-TI'!$E$4:$E$867)} -> 295.61 | E8: {=_xlfn.XLOOKUP(E$3&$B8,'In-TI'!$D$4:$D$867&'In-TI'!$C$4:$C$867,'In-TI'!$E$4:$E$867)} -> 35 | F8: =SUMIFS('In-TI'!$W$4:$W$1155,'In-TI'!$Y$4:$Y$1155,F$3,'In-TI'!$Q$4:$Q$1155,$B8) -> 6.8598008 | G8: =SUMIFS('In-TI'!$W$4:$W$1155,'In-TI'!$Y$4:$Y$1155,G$3,'In-TI'!$Q$4:$Q$1155,$B8) -> -21.400348 | H8: =SUMIFS('In-TI'!$W$4:$W$1155,'In-TI'!$Y$4:$Y$1155,H$3,'In-TI'!$Q$4:$Q$1155,$B8) -> -43.802562 | I8: =SUMIFS('In-TI'!$X$4:$X$1155,'In-TI'!$Y$4:$Y$1155,I$3,'In-TI'!$Q$4:$Q$1155,$B8) -> -7.6131341 | J8: =SUMIFS('In-TI'!$X$4:$X$1155,'In-TI'!$Y$4:$Y$1155,J$3,'In-TI'!$Q$4:$Q$1155,$B8) -> 21.170348 | K8: =SUMIFS('In-TI'!$X$4:$X$1155,'In-TI'!$Y$4:$Y$1155,K$3,'In-TI'!$Q$4:$Q$1155,$B8) -> 37.105062 | L8: {=IF(_xlfn.XLOOKUP($B8&F$3,'In-TI'!$Q$4:$Q$1155&'In-TI'!$Y$4:$Y$1155,'In-TI'!$Z$4:$Z$1155)=L$3,F8*C8+I8*D8,0)} -> 0 | M8: {=IF(_xlfn.XLOOKUP($B8&I$3,'In-TI'!$Q$4:$Q$1155&'In-TI'!$Y$4:$Y$1155,'In-TI'!$Z$4:$Z$1155)=M$3,F8*C8+I8*D8,0)} -> 1179.3818 | N8: {=IF(_xlfn.XLOOKUP($B8&G$3,'In-TI'!$Q$4:$Q$1155&'In-TI'!$Y$4:$Y$1155,'In-TI'!$Z$4:$Z$1155)=N$3,G8*E8+J8*C8,0)} -> 9836.1616 | O8: {=IF(_xlfn.XLOOKUP($B8&J$3,'In-TI'!$Q$4:$Q$1155&'In-TI'!$Y$4:$Y$1155,'In-TI'!$Z$4:$Z$1155)=O$3,G8*E8+J8*C8,0)} -> 0 | P8: {=IF(_xlfn.XLOOKUP($B8&H$3,'In-TI'!$Q$4:$Q$1155&'In-TI'!$Y$4:$Y$1155,'In-TI'!$Z$4:$Z$1155)=P$3,H8*E8+K8*D8,0)} -> 9435.5377 | Q8: {=IF(_xlfn.XLOOKUP($B8&K$3,'In-TI'!$Q$4:$Q$1155&'In-TI'!$Y$4:$Y$1155,'In-TI'!$Z$4:$Z$1155)=Q$3,H8*E8+K8*D8,0)} -> 0 | R8: =SUM(L8:Q8) -> 20451.081 | S8: =IF($R8>=0,0,$R8*VLOOKUP(S$3,'In-NonTI'!$S$4:$U$6,3,0)) -> 0 | T8: =IF($R8>=0,0,$R8*VLOOKUP(T$3,'In-NonTI'!$S$4:$U$6,3,0)) -> 0 | U8: =IF($R8>=0,0,$R8*VLOOKUP(U$3,'In-NonTI'!$S$4:$U$6,3,0)) -> 0 | V8: =F8+J8 -> 28.030148 | W8: =I8+K8 -> 29.491928 | X8: =G8+H8 -> -65.202909 | Y8: =COUNTIFS(V8:X8,"<0") -> 1 | Z8: =INDEX($V$3:$X$3,MATCH(LARGE($V8:$X8,3),$V8:$X8,0)) -> VIC | AA8: =INDEX($V$3:$X$3,MATCH(LARGE($V8:$X8,2),$V8:$X8,0)) -> NSW | AB8: =INDEX($V$3:$X$3,MATCH(LARGE($V8:$X8,1),$V8:$X8,0)) -> SA | AC8: =IF(Y8=2,Z8&"-"&AB8,Z8&"-"&AA8) -> VIC-NSW | AD8: =IF(Y8=1,Z8&"-"&AB8,AA8&"-"&AB8) -> VIC-SA | AE8: =IF(OR(Y8=3,Y8=0),AB8&"-"&Z8,0) -> 0 | AF8: =IF(Y8=1,ABS(_xlfn.XLOOKUP(AA8,$V$3:$X$3,V8:X8)),ABS(_xlfn.XLOOKUP(Z8,$V$3:$X$3,V8:X8))) -> 28.030148 | AG8: =IF(Y8=1,ABS(_xlfn.XLOOKUP(AB8,$V$3:$X$3,V8:X8)),ABS(_xlfn.XLOOKUP(AA8,$V$3:$X$3,V8:X8))) -> 29.491928 | AH8: =IF(Y8=3,ABS(_xlfn.XLOOKUP(AB8,$V$3:$X$3,V8:X8)),0) -> 0 | AI8: =IF($AC8=AI$3,$AF8,IF($AD8=AI$3,$AG8,IF($AE8=AI$3,$AH8,0))) -> 0 | AJ8: =IF($AC8=AJ$3,$AF8,IF($AD8=AJ$3,$AG8,IF($AE8=AJ$3,$AH8,0))) -> 0 | AK8: =IF($AC8=AK$3,$AF8,IF($AD8=AK$3,$AG8,IF($AE8=AK$3,$AH8,0))) -> 28.030148 | AL8: =IF($AC8=AL$3,$AF8,IF($AD8=AL$3,$AG8,IF($AE8=AL$3,$AH8,0))) -> 0 | AM8: =IF($AC8=AM$3,$AF8,IF($AD8=AM$3,$AG8,IF($AE8=AM$3,$AH8,0))) -> 29.491928 | AN8: =IF($AC8=AN$3,$AF8,IF($AD8=AN$3,$AG8,IF($AE8=AN$3,$AH8,0))) -> 0 | AO8: =IF(AND(C8=D8,D8=E8),AI8*0.01,AI8*(D8-C8)) -> 0 | AP8: =IF(AND(C8=D8,D8=E8),AJ8*0.01,AJ8*(C8-D8)) -> 0 | AQ8: =IF(AND(C8=D8,D8=E8),AK8*0.01,AK8*(C8-E8)) -> 13034.019 | AR8: =IF(AND(C8=D8,D8=E8),AL8*0.01,AL8*(E8-C8)) -> 0 | AS8: =IF(AND(C8=D8,D8=E8),AM8*0.01,AM8*(D8-E8)) -> 7685.8913 | AT8: =IF(AND(C8=D8,D8=E8),AN8*0.01,AN8*(E8-D8)) -> 0 | AU8: =IF($R8<=0,0,(AO8/SUM($AO8:$AT8))*$R8) -> 0 | AV8: =IF($R8<=0,0,(AP8/SUM($AO8:$AT8))*$R8) -> 0 | AW8: =IF($R8<=0,0,(AQ8/SUM($AO8:$AT8))*$R8) -> 12864.91 | AX8: =IF($R8<=0,0,(AR8/SUM($AO8:$AT8))*$R8) -> 0 | AY8: =IF($R8<=0,0,(AS8/SUM($AO8:$AT8))*$R8) -> 7586.1712 | AZ8: =IF($R8<=0,0,(AT8/SUM($AO8:$AT8))*$R8) -> 0 | BA8: =IF($R8<=0,0,MAX((AU8/SUMIF($AU8:$AZ8,">0"))*$R8,0)) -> 0 | BB8: =IF($R8<=0,0,MAX((AV8/SUMIF($AU8:$AZ8,">0"))*$R8,0)) -> 0 | BC8: =IF($R8<=0,0,MAX((AW8/SUMIF($AU8:$AZ8,">0"))*$R8,0)) -> 12864.91 | BD8: =IF($R8<=0,0,MAX((AX8/SUMIF($AU8:$AZ8,">0"))*$R8,0)) -> 0 | BE8: =IF($R8<=0,0,MAX((AY8/SUMIF($AU8:$AZ8,">0"))*$R8,0)) -> 7586.1712 | BF8: =IF($R8<=0,0,MAX((AZ8/SUMIF($AU8:$AZ8,">0"))*$R8,0)) -> 0
B9: 6 | C9: {=_xlfn.XLOOKUP(C$3&$B9,'In-TI'!$D$4:$D$867&'In-TI'!$C$4:$C$867,'In-TI'!$E$4:$E$867)} -> 500 | D9: {=_xlfn.XLOOKUP(D$3&$B9,'In-TI'!$D$4:$D$867&'In-TI'!$C$4:$C$867,'In-TI'!$E$4:$E$867)} -> 298.34 | E9: {=_xlfn.XLOOKUP(E$3&$B9,'In-TI'!$D$4:$D$867&'In-TI'!$C$4:$C$867,'In-TI'!$E$4:$E$867)} -> 35 | F9: =SUMIFS('In-TI'!$W$4:$W$1155,'In-TI'!$Y$4:$Y$1155,F$3,'In-TI'!$Q$4:$Q$1155,$B9) -> 6.433456 | G9: =SUMIFS('In-TI'!$W$4:$W$1155,'In-TI'!$Y$4:$Y$1155,G$3,'In-TI'!$Q$4:$Q$1155,$B9) -> -19.30646 | H9: =SUMIFS('In-TI'!$W$4:$W$1155,'In-TI'!$Y$4:$Y$1155,H$3,'In-TI'!$Q$4:$Q$1155,$B9) -> -39.943124 | I9: =SUMIFS('In-TI'!$X$4:$X$1155,'In-TI'!$Y$4:$Y$1155,I$3,'In-TI'!$Q$4:$Q$1155,$B9) -> -7.1517893 | J9: =SUMIFS('In-TI'!$X$4:$X$1155,'In-TI'!$Y$4:$Y$1155,J$3,'In-TI'!$Q$4:$Q$1155,$B9) -> 19.07396 | K9: =SUMIFS('In-TI'!$X$4:$X$1155,'In-TI'!$Y$4:$Y$1155,K$3,'In-TI'!$Q$4:$Q$1155,$B9) -> 33.36229 | L9: {=IF(_xlfn.XLOOKUP($B9&F$3,'In-TI'!$Q$4:$Q$1155&'In-TI'!$Y$4:$Y$1155,'In-TI'!$Z$4:$Z$1155)=L$3,F9*C9+I9*D9,0)} -> 0 | M9: {=IF(_xlfn.XLOOKUP($B9&I$3,'In-TI'!$Q$4:$Q$1155&'In-TI'!$Y$4:$Y$1155,'In-TI'!$Z$4:$Z$1155)=M$3,F9*C9+I9*D9,0)} -> 1083.0632 | N9: {=IF(_xlfn.XLOOKUP($B9&G$3,'In-TI'!$Q$4:$Q$1155&'In-TI'!$Y$4:$Y$1155,'In-TI'!$Z$4:$Z$1155)=N$3,G9*E9+J9*C9,0)} -> 8861.2538 | O9: {=IF(_xlfn.XLOOKUP($B9&J$3,'In-TI'!$Q$4:$Q$1155&'In-TI'!$Y$4:$Y$1155,'In-TI'!$Z$4:$Z$1155)=O$3,G9*E9+J9*C9,0)} -> 0 | P9: {=IF(_xlfn.XLOOKUP($B9&H$3,'In-TI'!$Q$4:$Q$1155&'In-TI'!$Y$4:$Y$1155,'In-TI'!$Z$4:$Z$1155)=P$3,H9*E9+K9*D9,0)} -> 8555.2964 | Q9: {=IF(_xlfn.XLOOKUP($B9&K$3,'In-TI'!$Q$4:$Q$1155&'In-TI'!$Y$4:$Y$1155,'In-TI'!$Z$4:$Z$1155)=Q$3,H9*E9+K9*D9,0)} -> 0 | R9: =SUM(L9:Q9) -> 18499.613 | S9: =IF($R9>=0,0,$R9*VLOOKUP(S$3,'In-NonTI'!$S$4:$U$6,3,0)) -> 0 | T9: =IF($R9>=0,0,$R9*VLOOKUP(T$3,'In-NonTI'!$S$4:$U$6,3,0)) -> 0 | U9: =IF($R9>=0,0,$R9*VLOOKUP(U$3,'In-NonTI'!$S$4:$U$6,3,0)) -> 0 | V9: =F9+J9 -> 25.507416 | W9: =I9+K9 -> 26.210501 | X9: =G9+H9 -> -59.249583 | Y9: =COUNTIFS(V9:X9,"<0") -> 1 | Z9: =INDEX($V$3:$X$3,MATCH(LARGE($V9:$X9,3),$V9:$X9,0)) -> VIC | AA9: =INDEX($V$3:$X$3,MATCH(LARGE($V9:$X9,2),$V9:$X9,0)) -> NSW | AB9: =INDEX($V$3:$X$3,MATCH(LARGE($V9:$X9,1),$V9:$X9,0)) -> SA | AC9: =IF(Y9=2,Z9&"-"&AB9,Z9&"-"&AA9) -> VIC-NSW | AD9: =IF(Y9=1,Z9&"-"&AB9,AA9&"-"&AB9) -> VIC-SA | AE9: =IF(OR(Y9=3,Y9=0),AB9&"-"&Z9,0) -> 0 | AF9: =IF(Y9=1,ABS(_xlfn.XLOOKUP(AA9,$V$3:$X$3,V9:X9)),ABS(_xlfn.XLOOKUP(Z9,$V$3:$X$3,V9:X9))) -> 25.507416 | AG9: =IF(Y9=1,ABS(_xlfn.XLOOKUP(AB9,$V$3:$X$3,V9:X9)),ABS(_xlfn.XLOOKUP(AA9,$V$3:$X$3,V9:X9))) -> 26.210501 | AH9: =IF(Y9=3,ABS(_xlfn.XLOOKUP(AB9,$V$3:$X$3,V9:X9)),0) -> 0 | AI9: =IF($AC9=AI$3,$AF9,IF($AD9=AI$3,$AG9,IF($AE9=AI$3,$AH9,0))) -> 0 | AJ9: =IF($AC9=AJ$3,$AF9,IF($AD9=AJ$3,$AG9,IF($AE9=AJ$3,$AH9,0))) -> 0 | AK9: =IF($AC9=AK$3,$AF9,IF($AD9=AK$3,$AG9,IF($AE9=AK$3,$AH9,0))) -> 25.507416 | AL9: =IF($AC9=AL$3,$AF9,IF($AD9=AL$3,$AG9,IF($AE9=AL$3,$AH9,0))) -> 0 | AM9: =IF($AC9=AM$3,$AF9,IF($AD9=AM$3,$AG9,IF($AE9=AM$3,$AH9,0))) -> 26.210501 | AN9: =IF($AC9=AN$3,$AF9,IF($AD9=AN$3,$AG9,IF($AE9=AN$3,$AH9,0))) -> 0 | AO9: =IF(AND(C9=D9,D9=E9),AI9*0.01,AI9*(D9-C9)) -> 0 | AP9: =IF(AND(C9=D9,D9=E9),AJ9*0.01,AJ9*(C9-D9)) -> 0 | AQ9: =IF(AND(C9=D9,D9=E9),AK9*0.01,AK9*(C9-E9)) -> 11860.948 | AR9: =IF(AND(C9=D9,D9=E9),AL9*0.01,AL9*(E9-C9)) -> 0 | AS9: =IF(AND(C9=D9,D9=E9),AM9*0.01,AM9*(D9-E9)) -> 6902.2733 | AT9: =IF(AND(C9=D9,D9=E9),AN9*0.01,AN9*(E9-D9)) -> 0 | AU9: =IF($R9<=0,0,(AO9/SUM($AO9:$AT9))*$R9) -> 0 | AV9: =IF($R9<=0,0,(AP9/SUM($AO9:$AT9))*$R9) -> 0 | AW9: =IF($R9<=0,0,(AQ9/SUM($AO9:$AT9))*$R9) -> 11694.311 | AX9: =IF($R9<=0,0,(AR9/SUM($AO9:$AT9))*$R9) -> 0 | AY9: =IF($R9<=0,0,(AS9/SUM($AO9:$AT9))*$R9) -> 6805.3019 | AZ9: =IF($R9<=0,0,(AT9/SUM($AO9:$AT9))*$R9) -> 0 | BA9: =IF($R9<=0,0,MAX((AU9/SUMIF($AU9:$AZ9,">0"))*$R9,0)) -> 0 | BB9: =IF($R9<=0,0,MAX((AV9/SUMIF($AU9:$AZ9,">0"))*$R9,0)) -> 0 | BC9: =IF($R9<=0,0,MAX((AW9/SUMIF($AU9:$AZ9,">0"))*$R9,0)) -> 11694.311 | BD9: =IF($R9<=0,0,MAX((AX9/SUMIF($AU9:$AZ9,">0"))*$R9,0)) -> 0 | BE9: =IF($R9<=0,0,MAX((AY9/SUMIF($AU9:$AZ9,">0"))*$R9,0)) -> 6805.3019 | BF9: =IF($R9<=0,0,MAX((AZ9/SUMIF($AU9:$AZ9,">0"))*$R9,0)) -> 0
B10: 7 | C10: {=_xlfn.XLOOKUP(C$3&$B10,'In-TI'!$D$4:$D$867&'In-TI'!$C$4:$C$867,'In-TI'!$E$4:$E$867)} -> 500 | D10: {=_xlfn.XLOOKUP(D$3&$B10,'In-TI'!$D$4:$D$867&'In-TI'!$C$4:$C$867,'In-TI'!$E$4:$E$867)} -> 294.47 | E10: {=_xlfn.XLOOKUP(E$3&$B10,'In-TI'!$D$4:$D$867&'In-TI'!$C$4:$C$867,'In-TI'!$E$4:$E$867)} -> 35 | F10: =SUMIFS('In-TI'!$W$4:$W$1155,'In-TI'!$Y$4:$Y$1155,F$3,'In-TI'!$Q$4:$Q$1155,$B10) -> 5.7813516 | G10: =SUMIFS('In-TI'!$W$4:$W$1155,'In-TI'!$Y$4:$Y$1155,G$3,'In-TI'!$Q$4:$Q$1155,$B10) -> -28.854964 | H10: =SUMIFS('In-TI'!$W$4:$W$1155,'In-TI'!$Y$4:$Y$1155,H$3,'In-TI'!$Q$4:$Q$1155,$B10) -> -37.601583 | I10: =SUMIFS('In-TI'!$X$4:$X$1155,'In-TI'!$Y$4:$Y$1155,I$3,'In-TI'!$Q$4:$Q$1155,$B10) -> -6.5488516 | J10: =SUMIFS('In-TI'!$X$4:$X$1155,'In-TI'!$Y$4:$Y$1155,J$3,'In-TI'!$Q$4:$Q$1155,$B10) -> 28.625797 | K10: =SUMIFS('In-TI'!$X$4:$X$1155,'In-TI'!$Y$4:$Y$1155,K$3,'In-TI'!$Q$4:$Q$1155,$B10) -> 30.649083 | L10: {=IF(_xlfn.XLOOKUP($B10&F$3,'In-TI'!$Q$4:$Q$1155&'In-TI'!$Y$4:$Y$1155,'In-TI'!$Z$4:$Z$1155)=L$3,F10*C10+I10*D10,0)} -> 0 | M10: {=IF(_xlfn.XLOOKUP($B10&I$3,'In-TI'!$Q$4:$Q$1155&'In-TI'!$Y$4:$Y$1155,'In-TI'!$Z$4:$Z$1155)=M$3,F10*C10+I10*D10,0)} -> 962.23547 | N10: {=IF(_xlfn.XLOOKUP($B10&G$3,'In-TI'!$Q$4:$Q$1155&'In-TI'!$Y$4:$Y$1155,'In-TI'!$Z$4:$Z$1155)=N$3,G10*E10+J10*C10,0)} -> 13302.975 | O10: {=IF(_xlfn.XLOOKUP($B10&J$3,'In-TI'!$Q$4:$Q$1155&'In-TI'!$Y$4:$Y$1155,'In-TI'!$Z$4:$Z$1155)=O$3,G10*E10+J10*C10,0)} -> 0 | P10: {=IF(_xlfn.XLOOKUP($B10&H$3,'In-TI'!$Q$4:$Q$1155&'In-TI'!$Y$4:$Y$1155,'In-TI'!$Z$4:$Z$1155)=P$3,H10*E10+K10*D10,0)} -> 7709.1801 | Q10: {=IF(_xlfn.XLOOKUP($B10&K$3,'In-TI'!$Q$4:$Q$1155&'In-TI'!$Y$4:$Y$1155,'In-TI'!$Z$4:$Z$1155)=Q$3,H10*E10+K10*D10,0)} -> 0 | R10: =SUM(L10:Q10) -> 21974.39 | S10: =IF($R10>=0,0,$R10*VLOOKUP(S$3,'In-NonTI'!$S$4:$U$6,3,0)) -> 0 | T10: =IF($R10>=0,0,$R10*VLOOKUP(T$3,'In-NonTI'!$S$4:$U$6,3,0)) -> 0 | U10: =IF($R10>=0,0,$R10*VLOOKUP(U$3,'In-NonTI'!$S$4:$U$6,3,0)) -> 0 | V10: =F10+J10 -> 34.407149 | W10: =I10+K10 -> 24.100232 | X10: =G10+H10 -> -66.456547 | Y10: =COUNTIFS(V10:X10,"<0") -> 1 | Z10: =INDEX($V$3:$X$3,MATCH(LARGE($V10:$X10,3),$V10:$X10,0)) -> VIC | AA10: =INDEX($V$3:$X$3,MATCH(LARGE($V10:$X10,2),$V10:$X10,0)) -> SA | AB10: =INDEX($V$3:$X$3,MATCH(LARGE($V10:$X10,1),$V10:$X10,0)) -> NSW | AC10: =IF(Y10=2,Z10&"-"&AB10,Z10&"-"&AA10) -> VIC-SA | AD10: =IF(Y10=1,Z10&"-"&AB10,AA10&"-"&AB10) -> VIC-NSW | AE10: =IF(OR(Y10=3,Y10=0),AB10&"-"&Z10,0) -> 0 | AF10: =IF(Y10=1,ABS(_xlfn.XLOOKUP(AA10,$V$3:$X$3,V10:X10)),ABS(_xlfn.XLOOKUP(Z10,$V$3:$X$3,V10:X10))) -> 24.100232 | AG10: =IF(Y10=1,ABS(_xlfn.XLOOKUP(AB10,$V$3:$X$3,V10:X10)),ABS(_xlfn.XLOOKUP(AA10,$V$3:$X$3,V10:X10))) -> 34.407149 | AH10: =IF(Y10=3,ABS(_xlfn.XLOOKUP(AB10,$V$3:$X$3,V10:X10)),0) -> 0 | AI10: =IF($AC10=AI$3,$AF10,IF($AD10=AI$3,$AG10,IF($AE10=AI$3,$AH10,0))) -> 0 | AJ10: =IF($AC10=AJ$3,$AF10,IF($AD10=AJ$3,$AG10,IF($AE10=AJ$3,$AH10,0))) -> 0 | AK10: =IF($AC10=AK$3,$AF10,IF($AD10=AK$3,$AG10,IF($AE10=AK$3,$AH10,0))) -> 34.407149 | AL10: =IF($AC10=AL$3,$AF10,IF($AD10=AL$3,$AG10,IF($AE10=AL$3,$AH10,0))) -> 0 | AM10: =IF($AC10=AM$3,$AF10,IF($AD10=AM$3,$AG10,IF($AE10=AM$3,$AH10,0))) -> 24.100232 | AN10: =IF($AC10=AN$3,$AF10,IF($AD10=AN$3,$AG10,IF($AE10=AN$3,$AH10,0))) -> 0 | AO10: =IF(AND(C10=D10,D10=E10),AI10*0.01,AI10*(D10-C10)) -> 0 | AP10: =IF(AND(C10=D10,D10=E10),AJ10*0.01,AJ10*(C10-D10)) -> 0 | AQ10: =IF(AND(C10=D10,D10=E10),AK10*0.01,AK10*(C10-E10)) -> 15999.324 | AR10: =IF(AND(C10=D10,D10=E10),AL10*0.01,AL10*(E10-C10)) -> 0 | AS10: =IF(AND(C10=D10,D10=E10),AM10*0.01,AM10*(D10-E10)) -> 6253.2871 | AT10: =IF(AND(C10=D10,D10=E10),AN10*0.01,AN10*(E10-D10)) -> 0 | AU10: =IF($R10<=0,0,(AO10/SUM($AO10:$AT10))*$R10) -> 0 | AV10: =IF($R10<=0,0,(AP10/SUM($AO10:$AT10))*$R10) -> 0 | AW10: =IF($R10<=0,0,(AQ10/SUM($AO10:$AT10))*$R10) -> 15799.287 | AX10: =IF($R10<=0,0,(AR10/SUM($AO10:$AT10))*$R10) -> 0 | AY10: =IF($R10<=0,0,(AS10/SUM($AO10:$AT10))*$R10) -> 6175.1033 | AZ10: =IF($R10<=0,0,(AT10/SUM($AO10:$AT10))*$R10) -> 0 | BA10: =IF($R10<=0,0,MAX((AU10/SUMIF($AU10:$AZ10,">0"))*$R10,0)) -> 0 | BB10: =IF($R10<=0,0,MAX((AV10/SUMIF($AU10:$AZ10,">0"))*$R10,0)) -> 0 | BC10: =IF($R10<=0,0,MAX((AW10/SUMIF($AU10:$AZ10,">0"))*$R10,0)) -> 15799.287 | BD10: =IF($R10<=0,0,MAX((AX10/SUMIF($AU10:$AZ10,">0"))*$R10,0)) -> 0 | BE10: =IF($R10<=0,0,MAX((AY10/SUMIF($AU10:$AZ10,">0"))*$R10,0)) -> 6175.1033 | BF10: =IF($R10<=0,0,MAX((AZ10/SUMIF($AU10:$AZ10,">0"))*$R10,0)) -> 0
B11: 8 | C11: {=_xlfn.XLOOKUP(C$3&$B11,'In-TI'!$D$4:$D$867&'In-TI'!$C$4:$C$867,'In-TI'!$E$4:$E$867)} -> 500 | D11: {=_xlfn.XLOOKUP(D$3&$B11,'In-TI'!$D$4:$D$867&'In-TI'!$C$4:$C$867,'In-TI'!$E$4:$E$867)} -> 311.24 | E11: {=_xlfn.XLOOKUP(E$3&$B11,'In-TI'!$D$4:$D$867&'In-TI'!$C$4:$C$867,'In-TI'!$E$4:$E$867)} -> 35 | F11: =SUMIFS('In-TI'!$W$4:$W$1155,'In-TI'!$Y$4:$Y$1155,F$3,'In-TI'!$Q$4:$Q$1155,$B11) -> 3.5879432 | G11: =SUMIFS('In-TI'!$W$4:$W$1155,'In-TI'!$Y$4:$Y$1155,G$3,'In-TI'!$Q$4:$Q$1155,$B11) -> -34.017563 | H11: =SUMIFS('In-TI'!$W$4:$W$1155,'In-TI'!$Y$4:$Y$1155,H$3,'In-TI'!$Q$4:$Q$1155,$B11) -> -41.198641 | I11: =SUMIFS('In-TI'!$X$4:$X$1155,'In-TI'!$Y$4:$Y$1155,I$3,'In-TI'!$Q$4:$Q$1155,$B11) -> -4.2296099 | J11: =SUMIFS('In-TI'!$X$4:$X$1155,'In-TI'!$Y$4:$Y$1155,J$3,'In-TI'!$Q$4:$Q$1155,$B11) -> 33.790897 | K11: =SUMIFS('In-TI'!$X$4:$X$1155,'In-TI'!$Y$4:$Y$1155,K$3,'In-TI'!$Q$4:$Q$1155,$B11) -> 34.848641 | L11: {=IF(_xlfn.XLOOKUP($B11&F$3,'In-TI'!$Q$4:$Q$1155&'In-TI'!$Y$4:$Y$1155,'In-TI'!$Z$4:$Z$1155)=L$3,F11*C11+I11*D11,0)} -> 0 | M11: {=IF(_xlfn.XLOOKUP($B11&I$3,'In-TI'!$Q$4:$Q$1155&'In-TI'!$Y$4:$Y$1155,'In-TI'!$Z$4:$Z$1155)=M$3,F11*C11+I11*D11,0)} -> 477.54783 | N11: {=IF(_xlfn.XLOOKUP($B11&G$3,'In-TI'!$Q$4:$Q$1155&'In-TI'!$Y$4:$Y$1155,'In-TI'!$Z$4:$Z$1155)=N$3,G11*E11+J11*C11,0)} -> 15704.834 | O11: {=IF(_xlfn.XLOOKUP($B11&J$3,'In-TI'!$Q$4:$Q$1155&'In-TI'!$Y$4:$Y$1155,'In-TI'!$Z$4:$Z$1155)=O$3,G11*E11+J11*C11,0)} -> 0 | P11: {=IF(_xlfn.XLOOKUP($B11&H$3,'In-TI'!$Q$4:$Q$1155&'In-TI'!$Y$4:$Y$1155,'In-TI'!$Z$4:$Z$1155)=P$3,H11*E11+K11*D11,0)} -> 9404.3385 | Q11: {=IF(_xlfn.XLOOKUP($B11&K$3,'In-TI'!$Q$4:$Q$1155&'In-TI'!$Y$4:$Y$1155,'In-TI'!$Z$4:$Z$1155)=Q$3,H11*E11+K11*D11,0)} -> 0 | R11: =SUM(L11:Q11) -> 25586.72 | S11: =IF($R11>=0,0,$R11*VLOOKUP(S$3,'In-NonTI'!$S$4:$U$6,3,0)) -> 0 | T11: =IF($R11>=0,0,$R11*VLOOKUP(T$3,'In-NonTI'!$S$4:$U$6,3,0)) -> 0 | U11: =IF($R11>=0,0,$R11*VLOOKUP(U$3,'In-NonTI'!$S$4:$U$6,3,0)) -> 0 | V11: =F11+J11 -> 37.37884 | W11: =I11+K11 -> 30.619031 | X11: =G11+H11 -> -75.216204 | Y11: =COUNTIFS(V11:X11,"<0") -> 1 | Z11: =INDEX($V$3:$X$3,MATCH(LARGE($V11:$X11,3),$V11:$X11,0)) -> VIC | AA11: =INDEX($V$3:$X$3,MATCH(LARGE($V11:$X11,2),$V11:$X11,0)) -> SA | AB11: =INDEX($V$3:$X$3,MATCH(LARGE($V11:$X11,1),$V11:$X11,0)) -> NSW | AC11: =IF(Y11=2,Z11&"-"&AB11,Z11&"-"&AA11) -> VIC-SA | AD11: =IF(Y11=1,Z11&"-"&AB11,AA11&"-"&AB11) -> VIC-NSW | AE11: =IF(OR(Y11=3,Y11=0),AB11&"-"&Z11,0) -> 0 | AF11: =IF(Y11=1,ABS(_xlfn.XLOOKUP(AA11,$V$3:$X$3,V11:X11)),ABS(_xlfn.XLOOKUP(Z11,$V$3:$X$3,V11:X11))) -> 30.619031 | AG11: =IF(Y11=1,ABS(_xlfn.XLOOKUP(AB11,$V$3:$X$3,V11:X11)),ABS(_xlfn.XLOOKUP(AA11,$V$3:$X$3,V11:X11))) -> 37.37884 | AH11: =IF(Y11=3,ABS(_xlfn.XLOOKUP(AB11,$V$3:$X$3,V11:X11)),0) -> 0 | AI11: =IF($AC11=AI$3,$AF11,IF($AD11=AI$3,$AG11,IF($AE11=AI$3,$AH11,0))) -> 0 | AJ11: =IF($AC11=AJ$3,$AF11,IF($AD11=AJ$3,$AG11,IF($AE11=AJ$3,$AH11,0))) -> 0 | AK11: =IF($AC11=AK$3,$AF11,IF($AD11=AK$3,$AG11,IF($AE11=AK$3,$AH11,0))) -> 37.37884 | AL11: =IF($AC11=AL$3,$AF11,IF($AD11=AL$3,$AG11,IF($AE11=AL$3,$AH11,0))) -> 0 | AM11: =IF($AC11=AM$3,$AF11,IF($AD11=AM$3,$AG11,IF($AE11=AM$3,$AH11,0))) -> 30.619031 | AN11: =IF($AC11=AN$3,$AF11,IF($AD11=AN$3,$AG11,IF($AE11=AN$3,$AH11,0))) -> 0 | AO11: =IF(AND(C11=D11,D11=E11),AI11*0.01,AI11*(D11-C11)) -> 0 | AP11: =IF(AND(C11=D11,D11=E11),AJ11*0.01,AJ11*(C11-D11)) -> 0 | AQ11: =IF(AND(C11=D11,D11=E11),AK11*0.01,AK11*(C11-E11)) -> 17381.161 | AR11: =IF(AND(C11=D11,D11=E11),AL11*0.01,AL11*(E11-C11)) -> 0 | AS11: =IF(AND(C11=D11,D11=E11),AM11*0.01,AM11*(D11-E11)) -> 8458.2011 | AT11: =IF(AND(C11=D11,D11=E11),AN11*0.01,AN11*(E11-D11)) -> 0 | AU11: =IF($R11<=0,0,(AO11/SUM($AO11:$AT11))*$R11) -> 0 | AV11: =IF($R11<=0,0,(AP11/SUM($AO11:$AT11))*$R11) -> 0 | AW11: =IF($R11<=0,0,(AQ11/SUM($AO11:$AT11))*$R11) -> 17211.218 | AX11: =IF($R11<=0,0,(AR11/SUM($AO11:$AT11))*$R11) -> 0 | AY11: =IF($R11<=0,0,(AS11/SUM($AO11:$AT11))*$R11) -> 8375.5019 | AZ11: =IF($R11<=0,0,(AT11/SUM($AO11:$AT11))*$R11) -> 0 | BA11: =IF($R11<=0,0,MAX((AU11/SUMIF($AU11:$AZ11,">0"))*$R11,0)) -> 0 | BB11: =IF($R11<=0,0,MAX((AV11/SUMIF($AU11:$AZ11,">0"))*$R11,0)) -> 0 | BC11: =IF($R11<=0,0,MAX((AW11/SUMIF($AU11:$AZ11,">0"))*$R11,0)) -> 17211.218 | BD11: =IF($R11<=0,0,MAX((AX11/SUMIF($AU11:$AZ11,">0"))*$R11,0)) -> 0 | BE11: =IF($R11<=0,0,MAX((AY11/SUMIF($AU11:$AZ11,">0"))*$R11,0)) -> 8375.5019 | BF11: =IF($R11<=0,0,MAX((AZ11/SUMIF($AU11:$AZ11,">0"))*$R11,0)) -> 0
B12: 9 | C12: {=_xlfn.XLOOKUP(C$3&$B12,'In-TI'!$D$4:$D$867&'In-TI'!$C$4:$C$867,'In-TI'!$E$4:$E$867)} -> 500 | D12: {=_xlfn.XLOOKUP(D$3&$B12,'In-TI'!$D$4:$D$867&'In-TI'!$C$4:$C$867,'In-TI'!$E$4:$E$867)} -> 311.24 | E12: {=_xlfn.XLOOKUP(E$3&$B12,'In-TI'!$D$4:$D$867&'In-TI'!$C$4:$C$867,'In-TI'!$E$4:$E$867)} -> 35 | F12: =SUMIFS('In-TI'!$W$4:$W$1155,'In-TI'!$Y$4:$Y$1155,F$3,'In-TI'!$Q$4:$Q$1155,$B12) -> 2.5715148 | G12: =SUMIFS('In-TI'!$W$4:$W$1155,'In-TI'!$Y$4:$Y$1155,G$3,'In-TI'!$Q$4:$Q$1155,$B12) -> -28.136499 | H12: =SUMIFS('In-TI'!$W$4:$W$1155,'In-TI'!$Y$4:$Y$1155,H$3,'In-TI'!$Q$4:$Q$1155,$B12) -> -43.29145 | I12: =SUMIFS('In-TI'!$X$4:$X$1155,'In-TI'!$Y$4:$Y$1155,I$3,'In-TI'!$Q$4:$Q$1155,$B12) -> -3.1865148 | J12: =SUMIFS('In-TI'!$X$4:$X$1155,'In-TI'!$Y$4:$Y$1155,J$3,'In-TI'!$Q$4:$Q$1155,$B12) -> 27.893165 | K12: =SUMIFS('In-TI'!$X$4:$X$1155,'In-TI'!$Y$4:$Y$1155,K$3,'In-TI'!$Q$4:$Q$1155,$B12) -> 37.164783 | L12: {=IF(_xlfn.XLOOKUP($B12&F$3,'In-TI'!$Q$4:$Q$1155&'In-TI'!$Y$4:$Y$1155,'In-TI'!$Z$4:$Z$1155)=L$3,F12*C12+I12*D12,0)} -> 0 | M12: {=IF(_xlfn.XLOOKUP($B12&I$3,'In-TI'!$Q$4:$Q$1155&'In-TI'!$Y$4:$Y$1155,'In-TI'!$Z$4:$Z$1155)=M$3,F12*C12+I12*D12,0)} -> 293.98653 | N12: {=IF(_xlfn.XLOOKUP($B12&G$3,'In-TI'!$Q$4:$Q$1155&'In-TI'!$Y$4:$Y$1155,'In-TI'!$Z$4:$Z$1155)=N$3,G12*E12+J12*C12,0)} -> 12961.805 | O12: {=IF(_xlfn.XLOOKUP($B12&J$3,'In-TI'!$Q$4:$Q$1155&'In-TI'!$Y$4:$Y$1155,'In-TI'!$Z$4:$Z$1155)=O$3,G12*E12+J12*C12,0)} -> 0 | P12: {=IF(_xlfn.XLOOKUP($B12&H$3,'In-TI'!$Q$4:$Q$1155&'In-TI'!$Y$4:$Y$1155,'In-TI'!$Z$4:$Z$1155)=P$3,H12*E12+K12*D12,0)} -> 10051.966 | Q12: {=IF(_xlfn.XLOOKUP($B12&K$3,'In-TI'!$Q$4:$Q$1155&'In-TI'!$Y$4:$Y$1155,'In-TI'!$Z$4:$Z$1155)=Q$3,H12*E12+K12*D12,0)} -> 0 | R12: =SUM(L12:Q12) -> 23307.758 | S12: =IF($R12>=0,0,$R12*VLOOKUP(S$3,'In-NonTI'!$S$4:$U$6,3,0)) -> 0 | T12: =IF($R12>=0,0,$R12*VLOOKUP(T$3,'In-NonTI'!$S$4:$U$6,3,0)) -> 0 | U12: =IF($R12>=0,0,$R12*VLOOKUP(U$3,'In-NonTI'!$S$4:$U$6,3,0)) -> 0 | V12: =F12+J12 -> 30.46468 | W12: =I12+K12 -> 33.978268 | X12: =G12+H12 -> -71.427948 | Y12: =COUNTIFS(V12:X12,"<0") -> 1 | Z12: =INDEX($V$3:$X$3,MATCH(LARGE($V12:$X12,3),$V12:$X12,0)) -> VIC | AA12: =INDEX($V$3:$X$3,MATCH(LARGE($V12:$X12,2),$V12:$X12,0)) -> NSW | AB12: =INDEX($V$3:$X$3,MATCH(LARGE($V12:$X12,1),$V12:$X12,0)) -> SA | AC12: =IF(Y12=2,Z12&"-"&AB12,Z12&"-"&AA12) -> VIC-NSW | AD12: =IF(Y12=1,Z12&"-"&AB12,AA12&"-"&AB12) -> VIC-SA | AE12: =IF(OR(Y12=3,Y12=0),AB12&"-"&Z12,0) -> 0 | AF12: =IF(Y12=1,ABS(_xlfn.XLOOKUP(AA12,$V$3:$X$3,V12:X12)),ABS(_xlfn.XLOOKUP(Z12,$V$3:$X$3,V12:X12))) -> 30.46468 | AG12: =IF(Y12=1,ABS(_xlfn.XLOOKUP(AB12,$V$3:$X$3,V12:X12)),ABS(_xlfn.XLOOKUP(AA12,$V$3:$X$3,V12:X12))) -> 33.978268 | AH12: =IF(Y12=3,ABS(_xlfn.XLOOKUP(AB12,$V$3:$X$3,V12:X12)),0) -> 0 | AI12: =IF($AC12=AI$3,$AF12,IF($AD12=AI$3,$AG12,IF($AE12=AI$3,$AH12,0))) -> 0 | AJ12: =IF($AC12=AJ$3,$AF12,IF($AD12=AJ$3,$AG12,IF($AE12=AJ$3,$AH12,0))) -> 0 | AK12: =IF($AC12=AK$3,$AF12,IF($AD12=AK$3,$AG12,IF($AE12=AK$3,$AH12,0))) -> 30.46468 | AL12: =IF($AC12=AL$3,$AF12,IF($AD12=AL$3,$AG12,IF($AE12=AL$3,$AH12,0))) -> 0 | AM12: =IF($AC12=AM$3,$AF12,IF($AD12=AM$3,$AG12,IF($AE12=AM$3,$AH12,0))) -> 33.978268 | AN12: =IF($AC12=AN$3,$AF12,IF($AD12=AN$3,$AG12,IF($AE12=AN$3,$AH12,0))) -> 0 | AO12: =IF(AND(C12=D12,D12=E12),AI12*0.01,AI12*(D12-C12)) -> 0 | AP12: =IF(AND(C12=D12,D12=E12),AJ12*0.01,AJ12*(C12-D12)) -> 0 | AQ12: =IF(AND(C12=D12,D12=E12),AK12*0.01,AK12*(C12-E12)) -> 14166.076 | AR12: =IF(AND(C12=D12,D12=E12),AL12*0.01,AL12*(E12-C12)) -> 0 | AS12: =IF(AND(C12=D12,D12=E12),AM12*0.01,AM12*(D12-E12)) -> 9386.1568 | AT12: =IF(AND(C12=D12,D12=E12),AN12*0.01,AN12*(E12-D12)) -> 0 | AU12: =IF($R12<=0,0,(AO12/SUM($AO12:$AT12))*$R12) -> 0 | AV12: =IF($R12<=0,0,(AP12/SUM($AO12:$AT12))*$R12) -> 0 | AW12: =IF($R12<=0,0,(AQ12/SUM($AO12:$AT12))*$R12) -> 14019.031 | AX12: =IF($R12<=0,0,(AR12/SUM($AO12:$AT12))*$R12) -> 0 | AY12: =IF($R12<=0,0,(AS12/SUM($AO12:$AT12))*$R12) -> 9288.7273 | AZ12: =IF($R12<=0,0,(AT12/SUM($AO12:$AT12))*$R12) -> 0 | BA12: =IF($R12<=0,0,MAX((AU12/SUMIF($AU12:$AZ12,">0"))*$R12,0)) -> 0 | BB12: =IF($R12<=0,0,MAX((AV12/SUMIF($AU12:$AZ12,">0"))*$R12,0)) -> 0 | BC12: =IF($R12<=0,0,MAX((AW12/SUMIF($AU12:$AZ12,">0"))*$R12,0)) -> 14019.031 | BD12: =IF($R12<=0,0,MAX((AX12/SUMIF($AU12:$AZ12,">0"))*$R12,0)) -> 0 | BE12: =IF($R12<=0,0,MAX((AY12/SUMIF($AU12:$AZ12,">0"))*$R12,0)) -> 9288.7273 | BF12: =IF($R12<=0,0,MAX((AZ12/SUMIF($AU12:$AZ12,">0"))*$R12,0)) -> 0
B13: 10 | C13: {=_xlfn.XLOOKUP(C$3&$B13,'In-TI'!$D$4:$D$867&'In-TI'!$C$4:$C$867,'In-TI'!$E$4:$E$867)} -> 500 | D13: {=_xlfn.XLOOKUP(D$3&$B13,'In-TI'!$D$4:$D$867&'In-TI'!$C$4:$C$867,'In-TI'!$E$4:$E$867)} -> 360.55 | E13: {=_xlfn.XLOOKUP(E$3&$B13,'In-TI'!$D$4:$D$867&'In-TI'!$C$4:$C$867,'In-TI'!$E$4:$E$867)} -> 35 | F13: =SUMIFS('In-TI'!$W$4:$W$1155,'In-TI'!$Y$4:$Y$1155,F$3,'In-TI'!$Q$4:$Q$1155,$B13) -> 1.9926468 | G13: =SUMIFS('In-TI'!$W$4:$W$1155,'In-TI'!$Y$4:$Y$1155,G$3,'In-TI'!$Q$4:$Q$1155,$B13) -> -24.212475 | H13: =SUMIFS('In-TI'!$W$4:$W$1155,'In-TI'!$Y$4:$Y$1155,H$3,'In-TI'!$Q$4:$Q$1155,$B13) -> -45.763741 | I13: =SUMIFS('In-TI'!$X$4:$X$1155,'In-TI'!$Y$4:$Y$1155,I$3,'In-TI'!$Q$4:$Q$1155,$B13) -> -2.6268135 | J13: =SUMIFS('In-TI'!$X$4:$X$1155,'In-TI'!$Y$4:$Y$1155,J$3,'In-TI'!$Q$4:$Q$1155,$B13) -> 23.944975 | K13: =SUMIFS('In-TI'!$X$4:$X$1155,'In-TI'!$Y$4:$Y$1155,K$3,'In-TI'!$Q$4:$Q$1155,$B13) -> 39.491241 | L13: {=IF(_xlfn.XLOOKUP($B13&F$3,'In-TI'!$Q$4:$Q$1155&'In-TI'!$Y$4:$Y$1155,'In-TI'!$Z$4:$Z$1155)=L$3,F13*C13+I13*D13,0)} -> 0 | M13: {=IF(_xlfn.XLOOKUP($B13&I$3,'In-TI'!$Q$4:$Q$1155&'In-TI'!$Y$4:$Y$1155,'In-TI'!$Z$4:$Z$1155)=M$3,F13*C13+I13*D13,0)} -> 49.225805 | N13: {=IF(_xlfn.XLOOKUP($B13&G$3,'In-TI'!$Q$4:$Q$1155&'In-TI'!$Y$4:$Y$1155,'In-TI'!$Z$4:$Z$1155)=N$3,G13*E13+J13*C13,0)} -> 11125.051 | O13: {=IF(_xlfn.XLOOKUP($B13&J$3,'In-TI'!$Q$4:$Q$1155&'In-TI'!$Y$4:$Y$1155,'In-TI'!$Z$4:$Z$1155)=O$3,G13*E13+J13*C13,0)} -> 0 | P13: {=IF(_xlfn.XLOOKUP($B13&H$3,'In-TI'!$Q$4:$Q$1155&'In-TI'!$Y$4:$Y$1155,'In-TI'!$Z$4:$Z$1155)=P$3,H13*E13+K13*D13,0)} -> 12636.836 | Q13: {=IF(_xlfn.XLOOKUP($B13&K$3,'In-TI'!$Q$4:$Q$1155&'In-TI'!$Y$4:$Y$1155,'In-TI'!$Z$4:$Z$1155)=Q$3,H13*E13+K13*D13,0)} -> 0 | R13: =SUM(L13:Q13) -> 23811.113 | S13: =IF($R13>=0,0,$R13*VLOOKUP(S$3,'In-NonTI'!$S$4:$U$6,3,0)) -> 0 | T13: =IF($R13>=0,0,$R13*VLOOKUP(T$3,'In-NonTI'!$S$4:$U$6,3,0)) -> 0 | U13: =IF($R13>=0,0,$R13*VLOOKUP(U$3,'In-NonTI'!$S$4:$U$6,3,0)) -> 0 | V13: =F13+J13 -> 25.937621 | W13: =I13+K13 -> 36.864428 | X13: =G13+H13 -> -69.976216 | Y13: =COUNTIFS(V13:X13,"<0") -> 1 | Z13: =INDEX($V$3:$X$3,MATCH(LARGE($V13:$X13,3),$V13:$X13,0)) -> VIC | AA13: =INDEX($V$3:$X$3,MATCH(LARGE($V13:$X13,2),$V13:$X13,0)) -> NSW | AB13: =INDEX($V$3:$X$3,MATCH(LARGE($V13:$X13,1),$V13:$X13,0)) -> SA | AC13: =IF(Y13=2,Z13&"-"&AB13,Z13&"-"&AA13) -> VIC-NSW | AD13: =IF(Y13=1,Z13&"-"&AB13,AA13&"-"&AB13) -> VIC-SA | AE13: =IF(OR(Y13=3,Y13=0),AB13&"-"&Z13,0) -> 0 | AF13: =IF(Y13=1,ABS(_xlfn.XLOOKUP(AA13,$V$3:$X$3,V13:X13)),ABS(_xlfn.XLOOKUP(Z13,$V$3:$X$3,V13:X13))) -> 25.937621 | AG13: =IF(Y13=1,ABS(_xlfn.XLOOKUP(AB13,$V$3:$X$3,V13:X13)),ABS(_xlfn.XLOOKUP(AA13,$V$3:$X$3,V13:X13))) -> 36.864428 | AH13: =IF(Y13=3,ABS(_xlfn.XLOOKUP(AB13,$V$3:$X$3,V13:X13)),0) -> 0 | AI13: =IF($AC13=AI$3,$AF13,IF($AD13=AI$3,$AG13,IF($AE13=AI$3,$AH13,0))) -> 0 | AJ13: =IF($AC13=AJ$3,$AF13,IF($AD13=AJ$3,$AG13,IF($AE13=AJ$3,$AH13,0))) -> 0 | AK13: =IF($AC13=AK$3,$AF13,IF($AD13=AK$3,$AG13,IF($AE13=AK$3,$AH13,0))) -> 25.937621 | AL13: =IF($AC13=AL$3,$AF13,IF($AD13=AL$3,$AG13,IF($AE13=AL$3,$AH13,0))) -> 0 | AM13: =IF($AC13=AM$3,$AF13,IF($AD13=AM$3,$AG13,IF($AE13=AM$3,$AH13,0))) -> 36.864428 | AN13: =IF($AC13=AN$3,$AF13,IF($AD13=AN$3,$AG13,IF($AE13=AN$3,$AH13,0))) -> 0 | AO13: =IF(AND(C13=D13,D13=E13),AI13*0.01,AI13*(D13-C13)) -> 0 | AP13: =IF(AND(C13=D13,D13=E13),AJ13*0.01,AJ13*(C13-D13)) -> 0 | AQ13: =IF(AND(C13=D13,D13=E13),AK13*0.01,AK13*(C13-E13)) -> 12060.994 | AR13: =IF(AND(C13=D13,D13=E13),AL13*0.01,AL13*(E13-C13)) -> 0 | AS13: =IF(AND(C13=D13,D13=E13),AM13*0.01,AM13*(D13-E13)) -> 12001.214 | AT13: =IF(AND(C13=D13,D13=E13),AN13*0.01,AN13*(E13-D13)) -> 0 | AU13: =IF($R13<=0,0,(AO13/SUM($AO13:$AT13))*$R13) -> 0 | AV13: =IF($R13<=0,0,(AP13/SUM($AO13:$AT13))*$R13) -> 0 | AW13: =IF($R13<=0,0,(AQ13/SUM($AO13:$AT13))*$R13) -> 11935.134 | AX13: =IF($R13<=0,0,(AR13/SUM($AO13:$AT13))*$R13) -> 0 | AY13: =IF($R13<=0,0,(AS13/SUM($AO13:$AT13))*$R13) -> 11875.978 | AZ13: =IF($R13<=0,0,(AT13/SUM($AO13:$AT13))*$R13) -> 0 | BA13: =IF($R13<=0,0,MAX((AU13/SUMIF($AU13:$AZ13,">0"))*$R13,0)) -> 0 | BB13: =IF($R13<=0,0,MAX((AV13/SUMIF($AU13:$AZ13,">0"))*$R13,0)) -> 0 | BC13: =IF($R13<=0,0,MAX((AW13/SUMIF($AU13:$AZ13,">0"))*$R13,0)) -> 11935.134 | BD13: =IF($R13<=0,0,MAX((AX13/SUMIF($AU13:$AZ13,">0"))*$R13,0)) -> 0 | BE13: =IF($R13<=0,0,MAX((AY13/SUMIF($AU13:$AZ13,">0"))*$R13,0)) -> 11875.978 | BF13: =IF($R13<=0,0,MAX((AZ13/SUMIF($AU13:$AZ13,">0"))*$R13,0)) -> 0
B14: 11 | C14: {=_xlfn.XLOOKUP(C$3&$B14,'In-TI'!$D$4:$D$867&'In-TI'!$C$4:$C$867,'In-TI'!$E$4:$E$867)} -> 500 | D14: {=_xlfn.XLOOKUP(D$3&$B14,'In-TI'!$D$4:$D$867&'In-TI'!$C$4:$C$867,'In-TI'!$E$4:$E$867)} -> 360.55 | E14: {=_xlfn.XLOOKUP(E$3&$B14,'In-TI'!$D$4:$D$867&'In-TI'!$C$4:$C$867,'In-TI'!$E$4:$E$867)} -> 35 | F14: =SUMIFS('In-TI'!$W$4:$W$1155,'In-TI'!$Y$4:$Y$1155,F$3,'In-TI'!$Q$4:$Q$1155,$B14) -> 1.8413196 | G14: =SUMIFS('In-TI'!$W$4:$W$1155,'In-TI'!$Y$4:$Y$1155,G$3,'In-TI'!$Q$4:$Q$1155,$B14) -> -28.054938 | H14: =SUMIFS('In-TI'!$W$4:$W$1155,'In-TI'!$Y$4:$Y$1155,H$3,'In-TI'!$Q$4:$Q$1155,$B14) -> -45.239035 | I14: =SUMIFS('In-TI'!$X$4:$X$1155,'In-TI'!$Y$4:$Y$1155,I$3,'In-TI'!$Q$4:$Q$1155,$B14) -> -2.4621529 | J14: =SUMIFS('In-TI'!$X$4:$X$1155,'In-TI'!$Y$4:$Y$1155,J$3,'In-TI'!$Q$4:$Q$1155,$B14) -> 27.788272 | K14: =SUMIFS('In-TI'!$X$4:$X$1155,'In-TI'!$Y$4:$Y$1155,K$3,'In-TI'!$Q$4:$Q$1155,$B14) -> 38.981535 | L14: {=IF(_xlfn.XLOOKUP($B14&F$3,'In-TI'!$Q$4:$Q$1155&'In-TI'!$Y$4:$Y$1155,'In-TI'!$Z$4:$Z$1155)=L$3,F14*C14+I14*D14,0)} -> 0 | M14: {=IF(_xlfn.XLOOKUP($B14&I$3,'In-TI'!$Q$4:$Q$1155&'In-TI'!$Y$4:$Y$1155,'In-TI'!$Z$4:$Z$1155)=M$3,F14*C14+I14*D14,0)} -> 32.93056 | N14: {=IF(_xlfn.XLOOKUP($B14&G$3,'In-TI'!$Q$4:$Q$1155&'In-TI'!$Y$4:$Y$1155,'In-TI'!$Z$4:$Z$1155)=N$3,G14*E14+J14*C14,0)} -> 12912.213 | O14: {=IF(_xlfn.XLOOKUP($B14&J$3,'In-TI'!$Q$4:$Q$1155&'In-TI'!$Y$4:$Y$1155,'In-TI'!$Z$4:$Z$1155)=O$3,G14*E14+J14*C14,0)} -> 0 | P14: {=IF(_xlfn.XLOOKUP($B14&H$3,'In-TI'!$Q$4:$Q$1155&'In-TI'!$Y$4:$Y$1155,'In-TI'!$Z$4:$Z$1155)=P$3,H14*E14+K14*D14,0)} -> 12471.426 | Q14: {=IF(_xlfn.XLOOKUP($B14&K$3,'In-TI'!$Q$4:$Q$1155&'In-TI'!$Y$4:$Y$1155,'In-TI'!$Z$4:$Z$1155)=Q$3,H14*E14+K14*D14,0)} -> 0 | R14: =SUM(L14:Q14) -> 25416.57 | S14: =IF($R14>=0,0,$R14*VLOOKUP(S$3,'In-NonTI'!$S$4:$U$6,3,0)) -> 0 | T14: =IF($R14>=0,0,$R14*VLOOKUP(T$3,'In-NonTI'!$S$4:$U$6,3,0)) -> 0 | U14: =IF($R14>=0,0,$R14*VLOOKUP(U$3,'In-NonTI'!$S$4:$U$6,3,0)) -> 0 | V14: =F14+J14 -> 29.629591 | W14: =I14+K14 -> 36.519382 | X14: =G14+H14 -> -73.293973 | Y14: =COUNTIFS(V14:X14,"<0") -> 1 | Z14: =INDEX($V$3:$X$3,MATCH(LARGE($V14:$X14,3),$V14:$X14,0)) -> VIC | AA14: =INDEX($V$3:$X$3,MATCH(LARGE($V14:$X14,2),$V14:$X14,0)) -> NSW | AB14: =INDEX($V$3:$X$3,MATCH(LARGE($V14:$X14,1),$V14:$X14,0)) -> SA | AC14: =IF(Y14=2,Z14&"-"&AB14,Z14&"-"&AA14) -> VIC-NSW | AD14: =IF(Y14=1,Z14&"-"&AB14,AA14&"-"&AB14) -> VIC-SA | AE14: =IF(OR(Y14=3,Y14=0),AB14&"-"&Z14,0) -> 0 | AF14: =IF(Y14=1,ABS(_xlfn.XLOOKUP(AA14,$V$3:$X$3,V14:X14)),ABS(_xlfn.XLOOKUP(Z14,$V$3:$X$3,V14:X14))) -> 29.629591 | AG14: =IF(Y14=1,ABS(_xlfn.XLOOKUP(AB14,$V$3:$X$3,V14:X14)),ABS(_xlfn.XLOOKUP(AA14,$V$3:$X$3,V14:X14))) -> 36.519382 | AH14: =IF(Y14=3,ABS(_xlfn.XLOOKUP(AB14,$V$3:$X$3,V14:X14)),0) -> 0 | AI14: =IF($AC14=AI$3,$AF14,IF($AD14=AI$3,$AG14,IF($AE14=AI$3,$AH14,0))) -> 0 | AJ14: =IF($AC14=AJ$3,$AF14,IF($AD14=AJ$3,$AG14,IF($AE14=AJ$3,$AH14,0))) -> 0 | AK14: =IF($AC14=AK$3,$AF14,IF($AD14=AK$3,$AG14,IF($AE14=AK$3,$AH14,0))) -> 29.629591 | AL14: =IF($AC14=AL$3,$AF14,IF($AD14=AL$3,$AG14,IF($AE14=AL$3,$AH14,0))) -> 0 | AM14: =IF($AC14=AM$3,$AF14,IF($AD14=AM$3,$AG14,IF($AE14=AM$3,$AH14,0))) -> 36.519382 | AN14: =IF($AC14=AN$3,$AF14,IF($AD14=AN$3,$AG14,IF($AE14=AN$3,$AH14,0))) -> 0 | AO14: =IF(AND(C14=D14,D14=E14),AI14*0.01,AI14*(D14-C14)) -> 0 | AP14: =IF(AND(C14=D14,D14=E14),AJ14*0.01,AJ14*(C14-D14)) -> 0 | AQ14: =IF(AND(C14=D14,D14=E14),AK14*0.01,AK14*(C14-E14)) -> 13777.76 | AR14: =IF(AND(C14=D14,D14=E14),AL14*0.01,AL14*(E14-C14)) -> 0 | AS14: =IF(AND(C14=D14,D14=E14),AM14*0.01,AM14*(D14-E14)) -> 11888.885 | AT14: =IF(AND(C14=D14,D14=E14),AN14*0.01,AN14*(E14-D14)) -> 0 | AU14: =IF($R14<=0,0,(AO14/SUM($AO14:$AT14))*$R14) -> 0 | AV14: =IF($R14<=0,0,(AP14/SUM($AO14:$AT14))*$R14) -> 0 | AW14: =IF($R14<=0,0,(AQ14/SUM($AO14:$AT14))*$R14) -> 13643.521 | AX14: =IF($R14<=0,0,(AR14/SUM($AO14:$AT14))*$R14) -> 0 | AY14: =IF($R14<=0,0,(AS14/SUM($AO14:$AT14))*$R14) -> 11773.049 | AZ14: =IF($R14<=0,0,(AT14/SUM($AO14:$AT14))*$R14) -> 0 | BA14: =IF($R14<=0,0,MAX((AU14/SUMIF($AU14:$AZ14,">0"))*$R14,0)) -> 0 | BB14: =IF($R14<=0,0,MAX((AV14/SUMIF($AU14:$AZ14,">0"))*$R14,0)) -> 0 | BC14: =IF($R14<=0,0,MAX((AW14/SUMIF($AU14:$AZ14,">0"))*$R14,0)) -> 13643.521 | BD14: =IF($R14<=0,0,MAX((AX14/SUMIF($AU14:$AZ14,">0"))*$R14,0)) -> 0 | BE14: =IF($R14<=0,0,MAX((AY14/SUMIF($AU14:$AZ14,">0"))*$R14,0)) -> 11773.049 | BF14: =IF($R14<=0,0,MAX((AZ14/SUMIF($AU14:$AZ14,">0"))*$R14,0)) -> 0
B15: 12 | C15: {=_xlfn.XLOOKUP(C$3&$B15,'In-TI'!$D$4:$D$867&'In-TI'!$C$4:$C$867,'In-TI'!$E$4:$E$867)} -> 500 | D15: {=_xlfn.XLOOKUP(D$3&$B15,'In-TI'!$D$4:$D$867&'In-TI'!$C$4:$C$867,'In-TI'!$E$4:$E$867)} -> 360.55 | E15: {=_xlfn.XLOOKUP(E$3&$B15,'In-TI'!$D$4:$D$867&'In-TI'!$C$4:$C$867,'In-TI'!$E$4:$E$867)} -> 35 | F15: =SUMIFS('In-TI'!$W$4:$W$1155,'In-TI'!$Y$4:$Y$1155,F$3,'In-TI'!$Q$4:$Q$1155,$B15) -> 2.240824 | G15: =SUMIFS('In-TI'!$W$4:$W$1155,'In-TI'!$Y$4:$Y$1155,G$3,'In-TI'!$Q$4:$Q$1155,$B15) -> -27.484519 | H15: =SUMIFS('In-TI'!$W$4:$W$1155,'In-TI'!$Y$4:$Y$1155,H$3,'In-TI'!$Q$4:$Q$1155,$B15) -> -44.167706 | I15: =SUMIFS('In-TI'!$X$4:$X$1155,'In-TI'!$Y$4:$Y$1155,I$3,'In-TI'!$Q$4:$Q$1155,$B15) -> -2.860824 | J15: =SUMIFS('In-TI'!$X$4:$X$1155,'In-TI'!$Y$4:$Y$1155,J$3,'In-TI'!$Q$4:$Q$1155,$B15) -> 27.223685 | K15: =SUMIFS('In-TI'!$X$4:$X$1155,'In-TI'!$Y$4:$Y$1155,K$3,'In-TI'!$Q$4:$Q$1155,$B15) -> 37.903539 | L15: {=IF(_xlfn.XLOOKUP($B15&F$3,'In-TI'!$Q$4:$Q$1155&'In-TI'!$Y$4:$Y$1155,'In-TI'!$Z$4:$Z$1155)=L$3,F15*C15+I15*D15,0)} -> 0 | M15: {=IF(_xlfn.XLOOKUP($B15&I$3,'In-TI'!$Q$4:$Q$1155&'In-TI'!$Y$4:$Y$1155,'In-TI'!$Z$4:$Z$1155)=M$3,F15*C15+I15*D15,0)} -> 88.941907 | N15: {=IF(_xlfn.XLOOKUP($B15&G$3,'In-TI'!$Q$4:$Q$1155&'In-TI'!$Y$4:$Y$1155,'In-TI'!$Z$4:$Z$1155)=N$3,G15*E15+J15*C15,0)} -> 12649.884 | O15: {=IF(_xlfn.XLOOKUP($B15&J$3,'In-TI'!$Q$4:$Q$1155&'In-TI'!$Y$4:$Y$1155,'In-TI'!$Z$4:$Z$1155)=O$3,G15*E15+J15*C15,0)} -> 0 | P15: {=IF(_xlfn.XLOOKUP($B15&H$3,'In-TI'!$Q$4:$Q$1155&'In-TI'!$Y$4:$Y$1155,'In-TI'!$Z$4:$Z$1155)=P$3,H15*E15+K15*D15,0)} -> 12120.251 | Q15: {=IF(_xlfn.XLOOKUP($B15&K$3,'In-TI'!$Q$4:$Q$1155&'In-TI'!$Y$4:$Y$1155,'In-TI'!$Z$4:$Z$1155)=Q$3,H15*E15+K15*D15,0)} -> 0 | R15: =SUM(L15:Q15) -> 24859.078 | S15: =IF($R15>=0,0,$R15*VLOOKUP(S$3,'In-NonTI'!$S$4:$U$6,3,0)) -> 0 | T15: =IF($R15>=0,0,$R15*VLOOKUP(T$3,'In-NonTI'!$S$4:$U$6,3,0)) -> 0 | U15: =IF($R15>=0,0,$R15*VLOOKUP(U$3,'In-NonTI'!$S$4:$U$6,3,0)) -> 0 | V15: =F15+J15 -> 29.464509 | W15: =I15+K15 -> 35.042715 | X15: =G15+H15 -> -71.652224 | Y15: =COUNTIFS(V15:X15,"<0") -> 1 | Z15: =INDEX($V$3:$X$3,MATCH(LARGE($V15:$X15,3),$V15:$X15,0)) -> VIC | AA15: =INDEX($V$3:$X$3,MATCH(LARGE($V15:$X15,2),$V15:$X15,0)) -> NSW | AB15: =INDEX($V$3:$X$3,MATCH(LARGE($V15:$X15,1),$V15:$X15,0)) -> SA | AC15: =IF(Y15=2,Z15&"-"&AB15,Z15&"-"&AA15) -> VIC-NSW | AD15: =IF(Y15=1,Z15&"-"&AB15,AA15&"-"&AB15) -> VIC-SA | AE15: =IF(OR(Y15=3,Y15=0),AB15&"-"&Z15,0) -> 0 | AF15: =IF(Y15=1,ABS(_xlfn.XLOOKUP(AA15,$V$3:$X$3,V15:X15)),ABS(_xlfn.XLOOKUP(Z15,$V$3:$X$3,V15:X15))) -> 29.464509 | AG15: =IF(Y15=1,ABS(_xlfn.XLOOKUP(AB15,$V$3:$X$3,V15:X15)),ABS(_xlfn.XLOOKUP(AA15,$V$3:$X$3,V15:X15))) -> 35.042715 | AH15: =IF(Y15=3,ABS(_xlfn.XLOOKUP(AB15,$V$3:$X$3,V15:X15)),0) -> 0 | AI15: =IF($AC15=AI$3,$AF15,IF($AD15=AI$3,$AG15,IF($AE15=AI$3,$AH15,0))) -> 0 | AJ15: =IF($AC15=AJ$3,$AF15,IF($AD15=AJ$3,$AG15,IF($AE15=AJ$3,$AH15,0))) -> 0 | AK15: =IF($AC15=AK$3,$AF15,IF($AD15=AK$3,$AG15,IF($AE15=AK$3,$AH15,0))) -> 29.464509 | AL15: =IF($AC15=AL$3,$AF15,IF($AD15=AL$3,$AG15,IF($AE15=AL$3,$AH15,0))) -> 0 | AM15: =IF($AC15=AM$3,$AF15,IF($AD15=AM$3,$AG15,IF($AE15=AM$3,$AH15,0))) -> 35.042715 | AN15: =IF($AC15=AN$3,$AF15,IF($AD15=AN$3,$AG15,IF($AE15=AN$3,$AH15,0))) -> 0 | AO15: =IF(AND(C15=D15,D15=E15),AI15*0.01,AI15*(D15-C15)) -> 0 | AP15: =IF(AND(C15=D15,D15=E15),AJ15*0.01,AJ15*(C15-D15)) -> 0 | AQ15: =IF(AND(C15=D15,D15=E15),AK15*0.01,AK15*(C15-E15)) -> 13700.997 | AR15: =IF(AND(C15=D15,D15=E15),AL15*0.01,AL15*(E15-C15)) -> 0 | AS15: =IF(AND(C15=D15,D15=E15),AM15*0.01,AM15*(D15-E15)) -> 11408.156 | AT15: =IF(AND(C15=D15,D15=E15),AN15*0.01,AN15*(E15-D15)) -> 0 | AU15: =IF($R15<=0,0,(AO15/SUM($AO15:$AT15))*$R15) -> 0 | AV15: =IF($R15<=0,0,(AP15/SUM($AO15:$AT15))*$R15) -> 0 | AW15: =IF($R15<=0,0,(AQ15/SUM($AO15:$AT15))*$R15) -> 13564.541 | AX15: =IF($R15<=0,0,(AR15/SUM($AO15:$AT15))*$R15) -> 0 | AY15: =IF($R15<=0,0,(AS15/SUM($AO15:$AT15))*$R15) -> 11294.536 | AZ15: =IF($R15<=0,0,(AT15/SUM($AO15:$AT15))*$R15) -> 0 | BA15: =IF($R15<=0,0,MAX((AU15/SUMIF($AU15:$AZ15,">0"))*$R15,0)) -> 0 | BB15: =IF($R15<=0,0,MAX((AV15/SUMIF($AU15:$AZ15,">0"))*$R15,0)) -> 0 | BC15: =IF($R15<=0,0,MAX((AW15/SUMIF($AU15:$AZ15,">0"))*$R15,0)) -> 13564.541 | BD15: =IF($R15<=0,0,MAX((AX15/SUMIF($AU15:$AZ15,">0"))*$R15,0)) -> 0 | BE15: =IF($R15<=0,0,MAX((AY15/SUMIF($AU15:$AZ15,">0"))*$R15,0)) -> 11294.536 | BF15: =IF($R15<=0,0,MAX((AZ15/SUMIF($AU15:$AZ15,">0"))*$R15,0)) -> 0
... B291: 288 | C291: {=_xlfn.XLOOKUP(C$3&$B291,'In-TI'!$D$4:$D$867&'In-TI'!$C$4:$C$867,'In-TI'!$E$4:$E$867)} -> 500 | D291: {=_xlfn.XLOOKUP(D$3&$B291,'In-TI'!$D$4:$D$867&'In-TI'!$C$4:$C$867,'In-TI'!$E$4:$E$867)} -> 360.55 | E291: {=_xlfn.XLOOKUP(E$3&$B291,'In-TI'!$D$4:$D$867&'In-TI'!$C$4:$C$867,'In-TI'!$E$4:$E$867)} -> 35 | F291: =SUMIFS('In-TI'!$W$4:$W$1155,'In-TI'!$Y$4:$Y$1155,F$3,'In-TI'!$Q$4:$Q$1155,$B291) -> 4.7176406 | G291: =SUMIFS('In-TI'!$W$4:$W$1155,'In-TI'!$Y$4:$Y$1155,G$3,'In-TI'!$Q$4:$Q$1155,$B291) -> -18.423427 | H291: =SUMIFS('In-TI'!$W$4:$W$1155,'In-TI'!$Y$4:$Y$1155,H$3,'In-TI'!$Q$4:$Q$1155,$B291) -> -24.458114 | I291: =SUMIFS('In-TI'!$X$4:$X$1155,'In-TI'!$Y$4:$Y$1155,I$3,'In-TI'!$Q$4:$Q$1155,$B291) -> -6.5801406 | J291: =SUMIFS('In-TI'!$X$4:$X$1155,'In-TI'!$Y$4:$Y$1155,J$3,'In-TI'!$Q$4:$Q$1155,$B291) -> 16.985094 | K291: =SUMIFS('In-TI'!$X$4:$X$1155,'In-TI'!$Y$4:$Y$1155,K$3,'In-TI'!$Q$4:$Q$1155,$B291) -> 16.448113 | L291: {=IF(_xlfn.XLOOKUP($B291&F$3,'In-TI'!$Q$4:$Q$1155&'In-TI'!$Y$4:$Y$1155,'In-TI'!$Z$4:$Z$1155)=L$3,F291*C291+I291*D291,0)} -> 0 | M291: {=IF(_xlfn.XLOOKUP($B291&I$3,'In-TI'!$Q$4:$Q$1155&'In-TI'!$Y$4:$Y$1155,'In-TI'!$Z$4:$Z$1155)=M$3,F291*C291+I291*D291,0)} -> -13.649393 | N291: {=IF(_xlfn.XLOOKUP($B291&G$3,'In-TI'!$Q$4:$Q$1155&'In-TI'!$Y$4:$Y$1155,'In-TI'!$Z$4:$Z$1155)=N$3,G291*E291+J291*C291,0)} -> 7847.727 | O291: {=IF(_xlfn.XLOOKUP($B291&J$3,'In-TI'!$Q$4:$Q$1155&'In-TI'!$Y$4:$Y$1155,'In-TI'!$Z$4:$Z$1155)=O$3,G291*E291+J291*C291,0)} -> 0 | P291: {=IF(_xlfn.XLOOKUP($B291&H$3,'In-TI'!$Q$4:$Q$1155&'In-TI'!$Y$4:$Y$1155,'In-TI'!$Z$4:$Z$1155)=P$3,H291*E291+K291*D291,0)} -> 5074.3333 | Q291: {=IF(_xlfn.XLOOKUP($B291&K$3,'In-TI'!$Q$4:$Q$1155&'In-TI'!$Y$4:$Y$1155,'In-TI'!$Z$4:$Z$1155)=Q$3,H291*E291+K291*D291,0)} -> 0 | R291: =SUM(L291:Q291) -> 12908.411 | S291: =IF($R291>=0,0,$R291*VLOOKUP(S$3,'In-NonTI'!$S$4:$U$6,3,0)) -> 0 | T291: =IF($R291>=0,0,$R291*VLOOKUP(T$3,'In-NonTI'!$S$4:$U$6,3,0)) -> 0 | U291: =IF($R291>=0,0,$R291*VLOOKUP(U$3,'In-NonTI'!$S$4:$U$6,3,0)) -> 0 | V291: =F291+J291 -> 21.702735 | W291: =I291+K291 -> 9.8679729 | X291: =G291+H291 -> -42.881541 | Y291: =COUNTIFS(V291:X291,"<0") -> 1 | Z291: =INDEX($V$3:$X$3,MATCH(LARGE($V291:$X291,3),$V291:$X291,0)) -> VIC | AA291: =INDEX($V$3:$X$3,MATCH(LARGE($V291:$X291,2),$V291:$X291,0)) -> SA | AB291: =INDEX($V$3:$X$3,MATCH(LARGE($V291:$X291,1),$V291:$X291,0)) -> NSW | AC291: =IF(Y291=2,Z291&"-"&AB291,Z291&"-"&AA291) -> VIC-SA | AD291: =IF(Y291=1,Z291&"-"&AB291,AA291&"-"&AB291) -> VIC-NSW | AE291: =IF(OR(Y291=3,Y291=0),AB291&"-"&Z291,0) -> 0 | AF291: =IF(Y291=1,ABS(_xlfn.XLOOKUP(AA291,$V$3:$X$3,V291:X291)),ABS(_xlfn.XLOOKUP(Z291,$V$3:$X$3,V291:X291))) -> 9.8679729 | AG291: =IF(Y291=1,ABS(_xlfn.XLOOKUP(AB291,$V$3:$X$3,V291:X291)),ABS(_xlfn.XLOOKUP(AA291,$V$3:$X$3,V291:X291))) -> 21.702735 | AH291: =IF(Y291=3,ABS(_xlfn.XLOOKUP(AB291,$V$3:$X$3,V291:X291)),0) -> 0 | AI291: =IF($AC291=AI$3,$AF291,IF($AD291=AI$3,$AG291,IF($AE291=AI$3,$AH291,0))) -> 0 | AJ291: =IF($AC291=AJ$3,$AF291,IF($AD291=AJ$3,$AG291,IF($AE291=AJ$3,$AH291,0))) -> 0 | AK291: =IF($AC291=AK$3,$AF291,IF($AD291=AK$3,$AG291,IF($AE291=AK$3,$AH291,0))) -> 21.702735 | AL291: =IF($AC291=AL$3,$AF291,IF($AD291=AL$3,$AG291,IF($AE291=AL$3,$AH291,0))) -> 0 | AM291: =IF($AC291=AM$3,$AF291,IF($AD291=AM$3,$AG291,IF($AE291=AM$3,$AH291,0))) -> 9.8679729 | AN291: =IF($AC291=AN$3,$AF291,IF($AD291=AN$3,$AG291,IF($AE291=AN$3,$AH291,0))) -> 0 | AO291: =IF(AND(C291=D291,D291=E291),AI291*0.01,AI291*(D291-C291)) -> 0 | AP291: =IF(AND(C291=D291,D291=E291),AJ291*0.01,AJ291*(C291-D291)) -> 0 | AQ291: =IF(AND(C291=D291,D291=E291),AK291*0.01,AK291*(C291-E291)) -> 10091.772 | AR291: =IF(AND(C291=D291,D291=E291),AL291*0.01,AL291*(E291-C291)) -> 0 | AS291: =IF(AND(C291=D291,D291=E291),AM291*0.01,AM291*(D291-E291)) -> 3212.5186 | AT291: =IF(AND(C291=D291,D291=E291),AN291*0.01,AN291*(E291-D291)) -> 0 | AU291: =IF($R291<=0,0,(AO291/SUM($AO291:$AT291))*$R291) -> 0 | AV291: =IF($R291<=0,0,(AP291/SUM($AO291:$AT291))*$R291) -> 0 | AW291: =IF($R291<=0,0,(AQ291/SUM($AO291:$AT291))*$R291) -> 9791.4833 | AX291: =IF($R291<=0,0,(AR291/SUM($AO291:$AT291))*$R291) -> 0 | AY291: =IF($R291<=0,0,(AS291/SUM($AO291:$AT291))*$R291) -> 3116.9277 | AZ291: =IF($R291<=0,0,(AT291/SUM($AO291:$AT291))*$R291) -> 0 | BA291: =IF($R291<=0,0,MAX((AU291/SUMIF($AU291:$AZ291,">0"))*$R291,0)) -> 0 | BB291: =IF($R291<=0,0,MAX((AV291/SUMIF($AU291:$AZ291,">0"))*$R291,0)) -> 0 | BC291: =IF($R291<=0,0,MAX((AW291/SUMIF($AU291:$AZ291,">0"))*$R291,0)) -> 9791.4833 | BD291: =IF($R291<=0,0,MAX((AX291/SUMIF($AU291:$AZ291,">0"))*$R291,0)) -> 0 | BE291: =IF($R291<=0,0,MAX((AY291/SUMIF($AU291:$AZ291,">0"))*$R291,0)) -> 3116.9277 | BF291: =IF($R291<=0,0,MAX((AZ291/SUMIF($AU291:$AZ291,">0"))*$R291,0)) -> 0

Sheet Outputs
B2: SET_IRSR_LOOP_NETTRADE_AMOUNT | V2: SET_IRSR_LOOP_REGION_SUMMARY | AH2: SET_IRSR_DIRECTIONAL_LINK | AR2: SETIRSURPLUS
B3: SETTLEMENTDATE | C3: PERIODID | D3: VERSIONNO | E3: InterconnectorLoopId | F3: InterconnectorId | G3: FromRegionId | H3: NLA | I3: NetRegional_MWh | J3: RegionRRP | K3: RRPDiff | L3: NotionalAmount | M3: ProvNetTradeAmount | N3: FinalNetTradeAmount | O3: Calc Value | P3: Diff | R3: InterconnectorId | S3: FromRegionId | T3: Calc column | V3: SETTLEMENTDATE | W3: PERIODID | X3: VersionNo | Y3: InterconnectorLoopId | Z3: RegionId | AA3: PosLoopAllocation | AB3: NegLoopAllocation | AC3: NLA | AD3: Export_MWh | AE3: Import_MWh | AF3: NetRegional_MWh | AH3: SETTLEMENTDATE | AI3: PERIODID | AJ3: VersionNo | AK3: InterconnectorLoopId | AL3: InterconnectorId | AM3: FromRegionId | AN3: MWFLOW | AO3: SurplusValue | AP3: Org_SurplusValue | AR3: SETTLEMENTDATE | AS3: PERIODID | AT3: SETTLEMENTRUNNO | AU3: INTERCONNECTORID | AV3: REGIONID | AW3: MWFLOW | AX3: LOSSFACTOR | AY3: SURPLUSVALUE | AZ3: UNADJUSTED_IRSR | BA3: CSP_DEROGATION_AMOUNT
B4: 46261 | C4: 1 | D4: 3 | E4: NSW1-SA1-VIC1 | F4: NSW1-SA1 | G4: NSW1 | H4: 17328.557 | I4: 0 | J4: 500 | K4: -251.27 | L4: 0 | M4: 0 | N4: 0 | O4: {=VLOOKUP(C4,Calc!$B$4:$BF$291,_xlfn.XLOOKUP(F4&G4,$R$4:$R$9&$S$4:$S$9,$T$4:$T$9),FALSE)} -> 0 | P4: =O4-N4 -> 0 | R4: NSW1-SA1 | S4: NSW1 | T4: 52 | V4: 46261 | W4: 1 | X4: 3 | Y4: NSW1-SA1-VIC1 | Z4: NSW1 | AA4: 17328.557 | AB4: 0 | AC4: 17328.557 | AD4: 0 | AE4: 27.645474 | AF4: 27.645474 | AH4: 46261 | AI4: 1 | AJ4: 3 | AL4: NSW1-QLD1 | AM4: NSW1 | AN4: -64.278009 | AO4: -83641.181 | AP4: -83641.181 | AR4: 46261 | AS4: 1 | AT4: 3 | AU4: N-Q-MNSP1 | AV4: NSW1 | AW4: -0.5362636 | AX4: 0.24583333 | AY4: -558.56207 | AZ4: -558.56207 | BA4: 0
B5: 46261 | C5: 1 | D5: 3 | E5: NSW1-SA1-VIC1 | F5: NSW1-SA1 | G5: SA1 | H5: 17328.557 | I5: 0 | J5: 248.73 | K5: 251.27 | L5: 0 | M5: 0 | N5: 0 | O5: {=VLOOKUP(C5,Calc!$B$4:$BF$291,_xlfn.XLOOKUP(F5&G5,$R$4:$R$9&$S$4:$S$9,$T$4:$T$9),FALSE)} -> 0 | P5: =O5-N5 -> 0 | R5: NSW1-SA1 | S5: SA1 | T5: 53 | V5: 46261 | W5: 1 | X5: 3 | Y5: NSW1-SA1-VIC1 | Z5: SA1 | AA5: 17328.557 | AB5: 0 | AC5: 17328.557 | AD5: -10.118887 | AE5: 32.361062 | AF5: 22.242175 | AH5: 46261 | AI5: 1 | AJ5: 3 | AL5: NSW1-QLD1 | AM5: QLD1 | AN5: 51.502176 | AO5: 0 | AP5: 0 | AR5: 46261 | AS5: 1 | AT5: 3 | AU5: N-Q-MNSP1 | AV5: QLD1 | AW5: 0.29043026 | AX5: 0.24583333 | AY5: 0 | AZ5: 0 | BA5: 0
B6: 46261 | C6: 1 | D6: 3 | E6: NSW1-SA1-VIC1 | F6: VIC1-NSW1 | G6: NSW1 | H6: 17328.557 | I6: 0 | J6: 500 | K6: -465 | L6: 0 | M6: 0 | N6: 0 | O6: {=VLOOKUP(C6,Calc!$B$4:$BF$291,_xlfn.XLOOKUP(F6&G6,$R$4:$R$9&$S$4:$S$9,$T$4:$T$9),FALSE)} -> 0 | P6: =O6-N6 -> 0 | R6: VIC1-NSW1 | S6: VIC1 | T6: 54 | V6: 46261 | W6: 1 | X6: 3 | Y6: NSW1-SA1-VIC1 | Z6: VIC1 | AA6: 17328.557 | AB6: 0 | AC6: 17328.557 | AD6: -57.899316 | AE6: 0 | AF6: -57.899316 | AH6: 46261 | AI6: 1 | AJ6: 3 | AK6: NSW1-SA1-VIC1 | AL6: NSW1-SA1 | AM6: NSW1 | AN6: 9.2705538 | AO6: 0 | AP6: 0 | AR6: 46261 | AS6: 1 | AT6: 3 | AU6: NSW1-QLD1 | AV6: NSW1 | AW6: -63.741746 | AX6: 12.53 | AY6: -83082.619 | AZ6: -83082.619 | BA6: 0
B7: 46261 | C7: 1 | D7: 3 | E7: NSW1-SA1-VIC1 | F7: VIC1-NSW1 | G7: VIC1 | H7: 17328.557 | I7: 27.645474 | J7: 35 | K7: 465 | L7: 12855.146 | M7: 12650.438 | N7: 12650.438 | O7: {=VLOOKUP(C7,Calc!$B$4:$BF$291,_xlfn.XLOOKUP(F7&G7,$R$4:$R$9&$S$4:$S$9,$T$4:$T$9),FALSE)} -> 12650.438 | P7: =O7-N7 -> 5.2041287e-09 | R7: VIC1-NSW1 | S7: NSW1 | T7: 55 | V7: 46261 | W7: 2 | X7: 3 | Y7: NSW1-SA1-VIC1 | Z7: NSW1 | AA7: 15450.307 | AB7: 0 | AC7: 15450.307 | AD7: 0 | AE7: 24.838122 | AF7: 24.838122 | AH7: 46261 | AI7: 1 | AJ7: 3 | AK7: NSW1-SA1-VIC1 | AL7: NSW1-SA1 | AM7: SA1 | AN7: -10.118887 | AO7: 0 | AP7: 2118.4061 | AR7: 46261 | AS7: 1 | AT7: 3 | AU7: NSW1-QLD1 | AV7: QLD1 | AW7: 51.211746 | AX7: 12.53 | AY7: 0 | AZ7: 0 | BA7: 0
B8: 46261 | C8: 1 | D8: 3 | E8: NSW1-SA1-VIC1 | F8: V-SA | G8: SA1 | H8: 17328.557 | I8: 0 | J8: 248.73 | K8: -213.73 | L8: 0 | M8: 0 | N8: 0 | O8: {=VLOOKUP(C8,Calc!$B$4:$BF$291,_xlfn.XLOOKUP(F8&G8,$R$4:$R$9&$S$4:$S$9,$T$4:$T$9),FALSE)} -> 0 | P8: =O8-N8 -> 0 | R8: V-SA | S8: VIC1 | T8: 56 | V8: 46261 | W8: 2 | X8: 3 | Y8: NSW1-SA1-VIC1 | Z8: SA1 | AA8: 15450.307 | AB8: 0 | AC8: 15450.307 | AD8: -9.2974228 | AE8: 31.819874 | AF8: 22.522451 | AH8: 46261 | AI8: 1 | AJ8: 3 | AL8: T-V-MNSP1 | AM8: TAS1 | AN8: 0 | AO8: 0 | AP8: 0 | AR8: 46261 | AS8: 1 | AT8: 3 | AU8: NSW1-SA1 | AV8: NSW1 | AW8: 9.2705538 | AX8: 0.84833333 | AY8: 0 | AZ8: 0 | BA8: 0
B9: 46261 | C9: 1 | D9: 3 | E9: NSW1-SA1-VIC1 | F9: V-SA | G9: VIC1 | H9: 17328.557 | I9: 22.242175 | J9: 35 | K9: 213.73 | L9: 4753.82 | M9: 4678.1194 | N9: 4678.1194 | O9: {=VLOOKUP(C9,Calc!$B$4:$BF$291,_xlfn.XLOOKUP(F9&G9,$R$4:$R$9&$S$4:$S$9,$T$4:$T$9),FALSE)} -> 4678.1194 | P9: =O9-N9 -> 2.7966962e-09 | R9: V-SA | S9: SA1 | T9: 57 | V9: 46261 | W9: 2 | X9: 3 | Y9: NSW1-SA1-VIC1 | Z9: VIC1 | AA9: 15450.307 | AB9: 0 | AC9: 15450.307 | AD9: -55.368073 | AE9: 0 | AF9: -55.368073 | AH9: 46261 | AI9: 1 | AJ9: 3 | AL9: T-V-MNSP1 | AM9: VIC1 | AN9: 0 | AO9: 0 | AP9: 0 | AR9: 46261 | AS9: 1 | AT9: 3 | AU9: NSW1-SA1 | AV9: SA1 | AW9: -10.118887 | AX9: 0.84833333 | AY9: 0 | AZ9: 2118.4061 | BA9: 0
B10: 46261 | C10: 2 | D10: 3 | E10: NSW1-SA1-VIC1 | F10: NSW1-SA1 | G10: NSW1 | H10: 15450.307 | I10: 0 | J10: 500 | K10: -279.37 | L10: 0 | M10: 0 | N10: 0 | O10: {=VLOOKUP(C10,Calc!$B$4:$BF$291,_xlfn.XLOOKUP(F10&G10,$R$4:$R$9&$S$4:$S$9,$T$4:$T$9),FALSE)} -> 0 | P10: =O10-N10 -> 0 | V10: 46261 | W10: 3 | X10: 3 | Y10: NSW1-SA1-VIC1 | Z10: NSW1 | AA10: 11341.807 | AB10: 0 | AC10: 11341.807 | AD10: 0 | AE10: 20.076568 | AF10: 20.076568 | AH10: 46261 | AI10: 1 | AJ10: 3 | AK10: NSW1-SA1-VIC1 | AL10: VIC1-NSW1 | AM10: NSW1 | AN10: 18.374921 | AO10: 0 | AP10: 0 | AR10: 46261 | AS10: 1 | AT10: 3 | AU10: T-V-MNSP1 | AV10: TAS1 | AW10: 0 | AX10: 0.81166666 | AY10: 0 | AZ10: 0 | BA10: 0
B11: 46261 | C11: 2 | D11: 3 | E11: NSW1-SA1-VIC1 | F11: NSW1-SA1 | G11: SA1 | H11: 15450.307 | I11: 0 | J11: 220.63 | K11: 279.37 | L11: 0 | M11: 0 | N11: 0 | O11: {=VLOOKUP(C11,Calc!$B$4:$BF$291,_xlfn.XLOOKUP(F11&G11,$R$4:$R$9&$S$4:$S$9,$T$4:$T$9),FALSE)} -> 0 | P11: =O11-N11 -> 0 | V11: 46261 | W11: 3 | X11: 3 | Y11: NSW1-SA1-VIC1 | Z11: SA1 | AA11: 11341.807 | AB11: 0 | AC11: 11341.807 | AD11: -8.1846613 | AE11: 37.818366 | AF11: 29.633705 | AH11: 46261 | AI11: 1 | AJ11: 3 | AK11: NSW1-SA1-VIC1 | AL11: VIC1-NSW1 | AM11: VIC1 | AN11: -18.664087 | AO11: 12650.438 | AP11: 8534.2173 | AR11: 46261 | AS11: 1 | AT11: 3 | AU11: T-V-MNSP1 | AV11: VIC1 | AW11: 0 | AX11: 0.81166666 | AY11: 0 | AZ11: 0 | BA11: 0
B12: 46261 | C12: 2 | D12: 3 | E12: NSW1-SA1-VIC1 | F12: VIC1-NSW1 | G12: NSW1 | H12: 15450.307 | I12: 0 | J12: 500 | K12: -465 | L12: 0 | M12: 0 | N12: 0 | O12: {=VLOOKUP(C12,Calc!$B$4:$BF$291,_xlfn.XLOOKUP(F12&G12,$R$4:$R$9&$S$4:$S$9,$T$4:$T$9),FALSE)} -> 0 | P12: =O12-N12 -> 0 | V12: 46261 | W12: 3 | X12: 3 | Y12: NSW1-SA1-VIC1 | Z12: VIC1 | AA12: 11341.807 | AB12: 0 | AC12: 11341.807 | AD12: -57.643607 | AE12: 0 | AF12: -57.643607 | AH12: 46261 | AI12: 1 | AJ12: 3 | AK12: NSW1-SA1-VIC1 | AL12: V-SA | AM12: SA1 | AN12: 32.361062 | AO12: 0 | AP12: 0 | AR12: 46261 | AS12: 1 | AT12: 3 | AU12: VIC1-NSW1 | AV12: NSW1 | AW12: 18.374921 | AX12: 0.28916666 | AY12: 0 | AZ12: 0 | BA12: 0
B13: 46261 | C13: 2 | D13: 3 | E13: NSW1-SA1-VIC1 | F13: VIC1-NSW1 | G13: VIC1 | H13: 15450.307 | I13: 24.838122 | J13: 35 | K13: 465 | L13: 11549.727 | M13: 11343.952 | N13: 11343.952 | O13: {=VLOOKUP(C13,Calc!$B$4:$BF$291,_xlfn.XLOOKUP(F13&G13,$R$4:$R$9&$S$4:$S$9,$T$4:$T$9),FALSE)} -> 11343.952 | P13: =O13-N13 -> 7.7816367e-09 | V13: 46261 | W13: 4 | X13: 3 | Y13: NSW1-SA1-VIC1 | Z13: NSW1 | AA13: 21696.977 | AB13: 0 | AC13: 21696.977 | AD13: 0 | AE13: 28.678472 | AF13: 28.678472 | AH13: 46261 | AI13: 1 | AJ13: 3 | AK13: NSW1-SA1-VIC1 | AL13: V-SA | AM13: VIC1 | AN13: -39.235229 | AO13: 4678.1194 | AP13: 6675.934 | AR13: 46261 | AS13: 1 | AT13: 3 | AU13: VIC1-NSW1 | AV13: VIC1 | AW13: -18.664087 | AX13: 0.28916666 | AY13: 12650.438 | AZ13: 8534.2173 | BA13: 0
B14: 46261 | C14: 2 | D14: 3 | E14: NSW1-SA1-VIC1 | F14: V-SA | G14: SA1 | H14: 15450.307 | I14: 0 | J14: 220.63 | K14: -185.63 | L14: 0 | M14: 0 | N14: 0 | O14: {=VLOOKUP(C14,Calc!$B$4:$BF$291,_xlfn.XLOOKUP(F14&G14,$R$4:$R$9&$S$4:$S$9,$T$4:$T$9),FALSE)} -> 0 | P14: =O14-N14 -> 0 | V14: 46261 | W14: 4 | X14: 3 | Y14: NSW1-SA1-VIC1 | Z14: SA1 | AA14: 21696.977 | AB14: 0 | AC14: 21696.977 | AD14: -7.9952345 | AE14: 41.038786 | AF14: 33.043552 | AH14: 46261 | AI14: 2 | AJ14: 3 | AL14: NSW1-QLD1 | AM14: NSW1 | AN14: -61.915263 | AO14: -80093.728 | AP14: -80093.728 | AR14: 46261 | AS14: 1 | AT14: 3 | AU14: V-SA | AV14: SA1 | AW14: 32.361062 | AX14: 6.8741667 | AY14: 0 | AZ14: 0 | BA14: 0
B15: 46261 | C15: 2 | D15: 3 | E15: NSW1-SA1-VIC1 | F15: V-SA | G15: VIC1 | H15: 15450.307 | I15: 22.522451 | J15: 35 | K15: 185.63 | L15: 4180.8427 | M15: 4106.355 | N15: 4106.355 | O15: {=VLOOKUP(C15,Calc!$B$4:$BF$291,_xlfn.XLOOKUP(F15&G15,$R$4:$R$9&$S$4:$S$9,$T$4:$T$9),FALSE)} -> 4106.355 | P15: =O15-N15 -> 9.5506039e-09 | V15: 46261 | W15: 4 | X15: 3 | Y15: NSW1-SA1-VIC1 | Z15: VIC1 | AA15: 21696.977 | AB15: 0 | AC15: 21696.977 | AD15: -69.26119 | AE15: 0 | AF15: -69.26119 | AH15: 46261 | AI15: 2 | AJ15: 3 | AL15: NSW1-QLD1 | AM15: QLD1 | AN15: 49.136096 | AO15: 0 | AP15: 0 | AR15: 46261 | AS15: 1 | AT15: 3 | AU15: V-SA | AV15: VIC1 | AW15: -39.235229 | AX15: 6.8741667 | AY15: 4678.1194 | AZ15: 6675.934 | BA15: 0
B16: 46261 | C16: 3 | D16: 3 | E16: NSW1-SA1-VIC1 | F16: NSW1-SA1 | G16: NSW1 | H16: 11341.807 | I16: 0 | J16: 500 | K16: -387.93 | L16: 0 | M16: 0 | N16: 0 | O16: {=VLOOKUP(C16,Calc!$B$4:$BF$291,_xlfn.XLOOKUP(F16&G16,$R$4:$R$9&$S$4:$S$9,$T$4:$T$9),FALSE)} -> 0 | P16: =O16-N16 -> 0 | V16: 46261 | W16: 5 | X16: 3 | Y16: NSW1-SA1-VIC1 | Z16: NSW1 | AA16: 20451.081 | AB16: 0 | AC16: 20451.081 | AD16: 0 | AE16: 28.030148 | AF16: 28.030148 | AH16: 46261 | AI16: 2 | AJ16: 3 | AK16: NSW1-SA1-VIC1 | AL16: NSW1-SA1 | AM16: NSW1 | AN16: 8.4974228 | AO16: 0 | AP16: 0 | AR16: 46261 | AS16: 1 | AT16: 3 | AU16: V-S-MNSP1 | AV16: SA1 | AW16: 0 | AX16: 0 | AY16: 0 | AZ16: 0 | BA16: 0
B17: 46261 | C17: 3 | D17: 3 | E17: NSW1-SA1-VIC1 | F17: NSW1-SA1 | G17: SA1 | H17: 11341.807 | I17: 0 | J17: 112.07 | K17: 387.93 | L17: 0 | M17: 0 | N17: 0 | O17: {=VLOOKUP(C17,Calc!$B$4:$BF$291,_xlfn.XLOOKUP(F17&G17,$R$4:$R$9&$S$4:$S$9,$T$4:$T$9),FALSE)} -> 0 | P17: =O17-N17 -> 0 | V17: 46261 | W17: 5 | X17: 3 | Y17: NSW1-SA1-VIC1 | Z17: SA1 | AA17: 20451.081 | AB17: 0 | AC17: 20451.081 | AD17: -7.6131341 | AE17: 37.105062 | AF17: 29.491928 | AH17: 46261 | AI17: 2 | AJ17: 3 | AK17: NSW1-SA1-VIC1 | AL17: NSW1-SA1 | AM17: SA1 | AN17: -9.2974228 | AO17: 0 | AP17: 2197.421 | AR17: 46261 | AS17: 1 | AT17: 3 | AU17: V-S-MNSP1 | AV17: VIC1 | AW17: 0 | AX17: 0 | AY17: 0 | AZ17: 0 | BA17: 0
B18: 46261 | C18: 3 | D18: 3 | E18: NSW1-SA1-VIC1 | F18: VIC1-NSW1 | G18: NSW1 | H18: 11341.807 | I18: 0 | J18: 500 | K18: -465 | L18: 0 | M18: 0 | N18: 0 | O18: {=VLOOKUP(C18,Calc!$B$4:$BF$291,_xlfn.XLOOKUP(F18&G18,$R$4:$R$9&$S$4:$S$9,$T$4:$T$9),FALSE)} -> 0 | P18: =O18-N18 -> 0 | V18: 46261 | W18: 5 | X18: 3 | Y18: NSW1-SA1-VIC1 | Z18: VIC1 | AA18: 20451.081 | AB18: 0 | AC18: 20451.081 | AD18: -65.202909 | AE18: 0 | AF18: -65.202909 | AH18: 46261 | AI18: 2 | AJ18: 3 | AL18: T-V-MNSP1 | AM18: TAS1 | AN18: 0 | AO18: 0 | AP18: 0 | AR18: 46261 | AS18: 2 | AT18: 3 | AU18: N-Q-MNSP1 | AV18: NSW1 | AW18: -0.6785034 | AX18: 0.2425 | AY18: -775.2551 | AZ18: -775.2551 | BA18: 0
B19: 46261 | C19: 3 | D19: 3 | E19: NSW1-SA1-VIC1 | F19: VIC1-NSW1 | G19: VIC1 | H19: 11341.807 | I19: 20.076568 | J19: 35 | K19: 465 | L19: 9335.6043 | M19: 9112.5145 | N19: 9112.5145 | O19: {=VLOOKUP(C19,Calc!$B$4:$BF$291,_xlfn.XLOOKUP(F19&G19,$R$4:$R$9&$S$4:$S$9,$T$4:$T$9),FALSE)} -> 9112.5145 | P19: =O19-N19 -> 8.5383363e-09 | V19: 46261 | W19: 6 | X19: 3 | Y19: NSW1-SA1-VIC1 | Z19: NSW1 | AA19: 18499.613 | AB19: 0 | AC19: 18499.613 | AD19: 0 | AE19: 25.507416 | AF19: 25.507416 | AH19: 46261 | AI19: 2 | AJ19: 3 | AL19: T-V-MNSP1 | AM19: VIC1 | AN19: 0 | AO19: 0 | AP19: 0 | AR19: 46261 | AS19: 2 | AT19: 3 | AU19: N-Q-MNSP1 | AV19: QLD1 | AW19: 0.4360034 | AX19: 0.2425 | AY19: 0 | AZ19: 0 | BA19: 0
B20: 46261 | C20: 3 | D20: 3 | E20: NSW1-SA1-VIC1 | F20: V-SA | G20: SA1 | H20: 11341.807 | I20: 0 | J20: 112.07 | K20: -77.07 | L20: 0 | M20: 0 | N20: 0 | O20: {=VLOOKUP(C20,Calc!$B$4:$BF$291,_xlfn.XLOOKUP(F20&G20,$R$4:$R$9&$S$4:$S$9,$T$4:$T$9),FALSE)} -> 0 | P20: =O20-N20 -> 0 | V20: 46261 | W20: 6 | X20: 3 | Y20: NSW1-SA1-VIC1 | Z20: SA1 | AA20: 18499.613 | AB20: 0 | AC20: 18499.613 | AD20: -7.1517893 | AE20: 33.36229 | AF20: 26.210501 | AH20: 46261 | AI20: 2 | AJ20: 3 | AK20: NSW1-SA1-VIC1 | AL20: VIC1-NSW1 | AM20: NSW1 | AN20: 16.340699 | AO20: 0 | AP20: 0 | AR20: 46261 | AS20: 2 | AT20: 3 | AU20: NSW1-QLD1 | AV20: NSW1 | AW20: -61.236759 | AX20: 12.536667 | AY20: -79318.472 | AZ20: -79318.472 | BA20: 0
B21: 46261 | C21: 3 | D21: 3 | E21: NSW1-SA1-VIC1 | F21: V-SA | G21: VIC1 | H21: 11341.807 | I21: 29.633705 | J21: 35 | K21: 77.07 | L21: 2283.8696 | M21: 2229.2928 | N21: 2229.2928 | O21: {=VLOOKUP(C21,Calc!$B$4:$BF$291,_xlfn.XLOOKUP(F21&G21,$R$4:$R$9&$S$4:$S$9,$T$4:$T$9),FALSE)} -> 2229.2928 | P21: =O21-N21 -> 6.7916517e-09 | V21: 46261 | W21: 6 | X21: 3 | Y21: NSW1-SA1-VIC1 | Z21: VIC1 | AA21: 18499.613 | AB21: 0 | AC21: 18499.613 | AD21: -59.249583 | AE21: 0 | AF21: -59.249583 | AH21: 46261 | AI21: 2 | AJ21: 3 | AK21: NSW1-SA1-VIC1 | AL21: VIC1-NSW1 | AM21: VIC1 | AN21: -16.556532 | AO21: 11343.952 | AP21: 7590.8709 | AR21: 46261 | AS21: 2 | AT21: 3 | AU21: NSW1-QLD1 | AV21: QLD1 | AW21: 48.700093 | AX21: 12.536667 | AY21: 0 | AZ21: 0 | BA21: 0
B22: 46261 | C22: 4 | D22: 3 | E22: NSW1-SA1-VIC1 | F22: NSW1-SA1 | G22: NSW1 | H22: 21696.977 | I22: 0 | J22: 500 | K22: -203.97 | L22: 0 | M22: 0 | N22: 0 | O22: {=VLOOKUP(C22,Calc!$B$4:$BF$291,_xlfn.XLOOKUP(F22&G22,$R$4:$R$9&$S$4:$S$9,$T$4:$T$9),FALSE)} -> 0 | P22: =O22-N22 -> 0 | V22: 46261 | W22: 7 | X22: 3 | Y22: NSW1-SA1-VIC1 | Z22: NSW1 | AA22: 21974.39 | AB22: 0 | AC22: 21974.39 | AD22: 0 | AE22: 34.407149 | AF22: 34.407149 | AH22: 46261 | AI22: 2 | AJ22: 3 | AK22: NSW1-SA1-VIC1 | AL22: V-SA | AM22: SA1 | AN22: 31.819874 | AO22: 0 | AP22: 0 | AR22: 46261 | AS22: 2 | AT22: 3 | AU22: NSW1-SA1 | AV22: NSW1 | AW22: 8.4974228 | AX22: 0.8 | AY22: 0 | AZ22: 0 | BA22: 0
B23: 46261 | C23: 4 | D23: 3 | E23: NSW1-SA1-VIC1 | F23: NSW1-SA1 | G23: SA1 | H23: 21696.977 | I23: 0 | J23: 296.03 | K23: 203.97 | L23: 0 | M23: 0 | N23: 0 | O23: {=VLOOKUP(C23,Calc!$B$4:$BF$291,_xlfn.XLOOKUP(F23&G23,$R$4:$R$9&$S$4:$S$9,$T$4:$T$9),FALSE)} -> 0 | P23: =O23-N23 -> 0 | V23: 46261 | W23: 7 | X23: 3 | Y23: NSW1-SA1-VIC1 | Z23: SA1 | AA23: 21974.39 | AB23: 0 | AC23: 21974.39 | AD23: -6.5488516 | AE23: 30.649083 | AF23: 24.100232 | AH23: 46261 | AI23: 2 | AJ23: 3 | AK23: NSW1-SA1-VIC1 | AL23: V-SA | AM23: VIC1 | AN23: -38.811541 | AO23: 4106.355 | AP23: 5662.0149 | AR23: 46261 | AS23: 2 | AT23: 3 | AU23: NSW1-SA1 | AV23: SA1 | AW23: -9.2974228 | AX23: 0.8 | AY23: 0 | AZ23: 2197.421 | BA23: 0
B24: 46261 | C24: 4 | D24: 3 | E24: NSW1-SA1-VIC1 | F24: VIC1-NSW1 | G24: NSW1 | H24: 21696.977 | I24: 0 | J24: 500 | K24: -465 | L24: 0 | M24: 0 | N24: 0 | O24: {=VLOOKUP(C24,Calc!$B$4:$BF$291,_xlfn.XLOOKUP(F24&G24,$R$4:$R$9&$S$4:$S$9,$T$4:$T$9),FALSE)} -> 0 | P24: =O24-N24 -> 0 | V24: 46261 | W24: 7 | X24: 3 | Y24: NSW1-SA1-VIC1 | Z24: VIC1 | AA24: 21974.39 | AB24: 0 | AC24: 21974.39 | AD24: -66.456547 | AE24: 0 | AF24: -66.456547 | AH24: 46261 | AI24: 3 | AJ24: 3 | AL24: NSW1-QLD1 | AM24: NSW1 | AN24: -59.366476 | AO24: -76254.713 | AP24: -76254.713 | AR24: 46261 | AS24: 2 | AT24: 3 | AU24: T-V-MNSP1 | AV24: TAS1 | AW24: 0 | AX24: 0.795 | AY24: 0 | AZ24: 0 | BA24: 0
B25: 46261 | C25: 4 | D25: 3 | E25: NSW1-SA1-VIC1 | F25: VIC1-NSW1 | G25: VIC1 | H25: 21696.977 | I25: 28.678472 | J25: 35 | K25: 465 | L25: 13335.489 | M25: 13175.257 | N25: 13175.257 | O25: {=VLOOKUP(C25,Calc!$B$4:$BF$291,_xlfn.XLOOKUP(F25&G25,$R$4:$R$9&$S$4:$S$9,$T$4:$T$9),FALSE)} -> 13175.257 | P25: =O25-N25 -> 4.9312803e-09 | V25: 46261 | W25: 8 | X25: 3 | Y25: NSW1-SA1-VIC1 | Z25: NSW1 | AA25: 25586.72 | AB25: 0 | AC25: 25586.72 | AD25: 0 | AE25: 37.37884 | AF25: 37.37884 | AH25: 46261 | AI25: 3 | AJ25: 3 | AL25: NSW1-QLD1 | AM25: QLD1 | AN25: 46.571476 | AO25: 0 | AP25: 0 | AR25: 46261 | AS25: 2 | AT25: 3 | AU25: T-V-MNSP1 | AV25: VIC1 | AW25: 0 | AX25: 0.795 | AY25: 0 | AZ25: 0 | BA25: 0
B26: 46261 | C26: 4 | D26: 3 | E26: NSW1-SA1-VIC1 | F26: V-SA | G26: SA1 | H26: 21696.977 | I26: 0 | J26: 296.03 | K26: -261.03 | L26: 0 | M26: 0 | N26: 0 | O26: {=VLOOKUP(C26,Calc!$B$4:$BF$291,_xlfn.XLOOKUP(F26&G26,$R$4:$R$9&$S$4:$S$9,$T$4:$T$9),FALSE)} -> 0 | P26: =O26-N26 -> 0 | V26: 46261 | W26: 8 | X26: 3 | Y26: NSW1-SA1-VIC1 | Z26: SA1 | AA26: 25586.72 | AB26: 0 | AC26: 25586.72 | AD26: -4.2296099 | AE26: 34.848641 | AF26: 30.619031 | AH26: 46261 | AI26: 3 | AJ26: 3 | AK26: NSW1-SA1-VIC1 | AL26: NSW1-SA1 | AM26: NSW1 | AN26: 7.3554946 | AO26: 0 | AP26: 0 | AR26: 46261 | AS26: 2 | AT26: 3 | AU26: VIC1-NSW1 | AV26: NSW1 | AW26: 16.340699 | AX26: 0.21583333 | AY26: 0 | AZ26: 0 | BA26: 0
B27: 46261 | C27: 4 | D27: 3 | E27: NSW1-SA1-VIC1 | F27: V-SA | G27: VIC1 | H27: 21696.977 | I27: 33.043552 | J27: 35 | K27: 261.03 | L27: 8625.3583 | M27: 8521.7202 | N27: 8521.7202 | O27: {=VLOOKUP(C27,Calc!$B$4:$BF$291,_xlfn.XLOOKUP(F27&G27,$R$4:$R$9&$S$4:$S$9,$T$4:$T$9),FALSE)} -> 8521.7202 | P27: =O27-N27 -> 7.3669071e-10 | V27: 46261 | W27: 8 | X27: 3 | Y27: NSW1-SA1-VIC1 | Z27: VIC1 | AA27: 25586.72 | AB27: 0 | AC27: 25586.72 | AD27: -75.216204 | AE27: 0 | AF27: -75.216204 | AH27: 46261 | AI27: 3 | AJ27: 3 | AK27: NSW1-SA1-VIC1 | AL27: NSW1-SA1 | AM27: SA1 | AN27: -8.1846613 | AO27: 0 | AP27: 2760.4923 | AR27: 46261 | AS27: 2 | AT27: 3 | AU27: VIC1-NSW1 | AV27: VIC1 | AW27: -16.556532 | AX27: 0.21583333 | AY27: 11343.952 | AZ27: 7590.8709 | BA27: 0
B28: 46261 | C28: 5 | D28: 3 | E28: NSW1-SA1-VIC1 | F28: NSW1-SA1 | G28: NSW1 | H28: 20451.081 | I28: 0 | J28: 500 | K28: -204.39 | L28: 0 | M28: 0 | N28: 0 | O28: {=VLOOKUP(C28,Calc!$B$4:$BF$291,_xlfn.XLOOKUP(F28&G28,$R$4:$R$9&$S$4:$S$9,$T$4:$T$9),FALSE)} -> 0 | P28: =O28-N28 -> 0 | V28: 46261 | W28: 9 | X28: 3 | Y28: NSW1-SA1-VIC1 | Z28: NSW1 | AA28: 23307.758 | AB28: 0 | AC28: 23307.758 | AD28: 0 | AE28: 30.46468 | AF28: 30.46468 | AH28: 46261 | AI28: 3 | AJ28: 3 | AL28: T-V-MNSP1 | AM28: TAS1 | AN28: 0 | AO28: 0 | AP28: 0 | AR28: 46261 | AS28: 2 | AT28: 3 | AU28: V-SA | AV28: SA1 | AW28: 31.819874 | AX28: 6.9916667 | AY28: 0 | AZ28: 0 | BA28: 0
B29: 46261 | C29: 5 | D29: 3 | E29: NSW1-SA1-VIC1 | F29: NSW1-SA1 | G29: SA1 | H29: 20451.081 | I29: 0 | J29: 295.61 | K29: 204.39 | L29: 0 | M29: 0 | N29: 0 | O29: {=VLOOKUP(C29,Calc!$B$4:$BF$291,_xlfn.XLOOKUP(F29&G29,$R$4:$R$9&$S$4:$S$9,$T$4:$T$9),FALSE)} -> 0 | P29: =O29-N29 -> 0 | V29: 46261 | W29: 9 | X29: 3 | Y29: NSW1-SA1-VIC1 | Z29: SA1 | AA29: 23307.758 | AB29: 0 | AC29: 23307.758 | AD29: -3.1865148 | AE29: 37.164783 | AF29: 33.978268 | AH29: 46261 | AI29: 3 | AJ29: 3 | AL29: T-V-MNSP1 | AM29: VIC1 | AN29: 0 | AO29: 0 | AP29: 0 | AR29: 46261 | AS29: 2 | AT29: 3 | AU29: V-SA | AV29: VIC1 | AW29: -38.811541 | AX29: 6.9916667 | AY29: 4106.355 | AZ29: 5662.0149 | BA29: 0
B30: 46261 | C30: 5 | D30: 3 | E30: NSW1-SA1-VIC1 | F30: VIC1-NSW1 | G30: NSW1 | H30: 20451.081 | I30: 0 | J30: 500 | K30: -465 | L30: 0 | M30: 0 | N30: 0 | O30: {=VLOOKUP(C30,Calc!$B$4:$BF$291,_xlfn.XLOOKUP(F30&G30,$R$4:$R$9&$S$4:$S$9,$T$4:$T$9),FALSE)} -> 0 | P30: =O30-N30 -> 0 | V30: 46261 | W30: 9 | X30: 3 | Y30: NSW1-SA1-VIC1 | Z30: VIC1 | AA30: 23307.758 | AB30: 0 | AC30: 23307.758 | AD30: -71.427948 | AE30: 0 | AF30: -71.427948 | AH30: 46261 | AI30: 3 | AJ30: 3 | AK30: NSW1-SA1-VIC1 | AL30: VIC1-NSW1 | AM30: NSW1 | AN30: 12.721074 | AO30: 0 | AP30: 0 | AR30: 46261 | AS30: 2 | AT30: 3 | AU30: V-S-MNSP1 | AV30: SA1 | AW30: 0 | AX30: 0 | AY30: 0 | AZ30: 0 | BA30: 0
B31: 46261 | C31: 5 | D31: 3 | E31: NSW1-SA1-VIC1 | F31: VIC1-NSW1 | G31: VIC1 | H31: 20451.081 | I31: 28.030148 | J31: 35 | K31: 465 | L31: 13034.019 | M31: 12864.91 | N31: 12864.91 | O31: {=VLOOKUP(C31,Calc!$B$4:$BF$291,_xlfn.XLOOKUP(F31&G31,$R$4:$R$9&$S$4:$S$9,$T$4:$T$9),FALSE)} -> 12864.91 | P31: =O31-N31 -> 2.1827873e-09 | V31: 46261 | W31: 10 | X31: 3 | Y31: NSW1-SA1-VIC1 | Z31: NSW1 | AA31: 23811.113 | AB31: 0 | AC31: 23811.113 | AD31: 0 | AE31: 25.937621 | AF31: 25.937621 | AH31: 46261 | AI31: 3 | AJ31: 3 | AK31: NSW1-SA1-VIC1 | AL31: VIC1-NSW1 | AM31: VIC1 | AN31: -12.93774 | AO31: 9112.5145 | AP31: 5907.716 | AR31: 46261 | AS31: 2 | AT31: 3 | AU31: V-S-MNSP1 | AV31: VIC1 | AW31: 0 | AX31: 0 | AY31: 0 | AZ31: 0 | BA31: 0
B32: 46261 | C32: 5 | D32: 3 | E32: NSW1-SA1-VIC1 | F32: V-SA | G32: SA1 | H32: 20451.081 | I32: 0 | J32: 295.61 | K32: -260.61 | L32: 0 | M32: 0 | N32: 0 | O32: {=VLOOKUP(C32,Calc!$B$4:$BF$291,_xlfn.XLOOKUP(F32&G32,$R$4:$R$9&$S$4:$S$9,$T$4:$T$9),FALSE)} -> 0 | P32: =O32-N32 -> 0 | V32: 46261 | W32: 10 | X32: 3 | Y32: NSW1-SA1-VIC1 | Z32: SA1 | AA32: 23811.113 | AB32: 0 | AC32: 23811.113 | AD32: -2.6268135 | AE32: 39.491241 | AF32: 36.864428 | AH32: 46261 | AI32: 3 | AJ32: 3 | AK32: NSW1-SA1-VIC1 | AL32: V-SA | AM32: SA1 | AN32: 37.818366 | AO32: 0 | AP32: 0 | AR32: 46261 | AS32: 3 | AT32: 3 | AU32: N-Q-MNSP1 | AV32: NSW1 | AW32: -0.8354924 | AX32: 0.2425 | AY32: -1010.7386 | AZ32: -1010.7386 | BA32: 0
B33: 46261 | C33: 5 | D33: 3 | E33: NSW1-SA1-VIC1 | F33: V-SA | G33: VIC1 | H33: 20451.081 | I33: 29.491928 | J33: 35 | K33: 260.61 | L33: 7685.8913 | M33: 7586.1712 | N33: 7586.1712 | O33: {=VLOOKUP(C33,Calc!$B$4:$BF$291,_xlfn.XLOOKUP(F33&G33,$R$4:$R$9&$S$4:$S$9,$T$4:$T$9),FALSE)} -> 7586.1712 | P33: =O33-N33 -> 1.1532393e-09 | V33: 46261 | W33: 10 | X33: 3 | Y33: NSW1-SA1-VIC1 | Z33: VIC1 | AA33: 23811.113 | AB33: 0 | AC33: 23811.113 | AD33: -69.976216 | AE33: 0 | AF33: -69.976216 | AH33: 46261 | AI33: 3 | AJ33: 3 | AK33: NSW1-SA1-VIC1 | AL33: V-SA | AM33: VIC1 | AN33: -44.705866 | AO33: 2229.2928 | AP33: 2673.599 | AR33: 46261 | AS33: 3 | AT33: 3 | AU33: N-Q-MNSP1 | AV33: QLD1 | AW33: 0.5929924 | AX33: 0.2425 | AY33: 0 | AZ33: 0 | BA33: 0
B34: 46261 | C34: 6 | D34: 3 | E34: NSW1-SA1-VIC1 | F34: NSW1-SA1 | G34: NSW1 | H34: 18499.613 | I34: 0 | J34: 500 | K34: -201.66 | L34: 0 | M34: 0 | N34: 0 | O34: {=VLOOKUP(C34,Calc!$B$4:$BF$291,_xlfn.XLOOKUP(F34&G34,$R$4:$R$9&$S$4:$S$9,$T$4:$T$9),FALSE)} -> 0 | P34: =O34-N34 -> 0 | V34: 46261 | W34: 11 | X34: 3 | Y34: NSW1-SA1-VIC1 | Z34: NSW1 | AA34: 25416.57 | AB34: 0 | AC34: 25416.57 | AD34: 0 | AE34: 29.629591 | AF34: 29.629591 | AH34: 46261 | AI34: 4 | AJ34: 3 | AL34: NSW1-QLD1 | AM34: NSW1 | AN34: -59.878871 | AO34: -77088.307 | AP34: -77088.307 | AR34: 46261 | AS34: 3 | AT34: 3 | AU34: NSW1-QLD1 | AV34: NSW1 | AW34: -58.530983 | AX34: 12.5525 | AY34: -75243.975 | AZ34: -75243.975 | BA34: 0
B35: 46261 | C35: 6 | D35: 3 | E35: NSW1-SA1-VIC1 | F35: NSW1-SA1 | G35: SA1 | H35: 18499.613 | I35: 0 | J35: 298.34 | K35: 201.66 | L35: 0 | M35: 0 | N35: 0 | O35: {=VLOOKUP(C35,Calc!$B$4:$BF$291,_xlfn.XLOOKUP(F35&G35,$R$4:$R$9&$S$4:$S$9,$T$4:$T$9),FALSE)} -> 0 | P35: =O35-N35 -> 0 | V35: 46261 | W35: 11 | X35: 3 | Y35: NSW1-SA1-VIC1 | Z35: SA1 | AA35: 25416.57 | AB35: 0 | AC35: 25416.57 | AD35: -2.4621529 | AE35: 38.981535 | AF35: 36.519382 | AH35: 46261 | AI35: 4 | AJ35: 3 | AL35: NSW1-QLD1 | AM35: QLD1 | AN35: 47.148871 | AO35: 0 | AP35: 0 | AR35: 46261 | AS35: 3 | AT35: 3 | AU35: NSW1-QLD1 | AV35: QLD1 | AW35: 45.978483 | AX35: 12.5525 | AY35: 0 | AZ35: 0 | BA35: 0
B36: 46261 | C36: 6 | D36: 3 | E36: NSW1-SA1-VIC1 | F36: VIC1-NSW1 | G36: NSW1 | H36: 18499.613 | I36: 0 | J36: 500 | K36: -465 | L36: 0 | M36: 0 | N36: 0 | O36: {=VLOOKUP(C36,Calc!$B$4:$BF$291,_xlfn.XLOOKUP(F36&G36,$R$4:$R$9&$S$4:$S$9,$T$4:$T$9),FALSE)} -> 0 | P36: =O36-N36 -> 0 | V36: 46261 | W36: 11 | X36: 3 | Y36: NSW1-SA1-VIC1 | Z36: VIC1 | AA36: 25416.57 | AB36: 0 | AC36: 25416.57 | AD36: -73.293973 | AE36: 0 | AF36: -73.293973 | AH36: 46261 | AI36: 4 | AJ36: 3 | AK36: NSW1-SA1-VIC1 | AL36: NSW1-SA1 | AM36: NSW1 | AN36: 7.2635678 | AO36: 0 | AP36: 0 | AR36: 46261 | AS36: 3 | AT36: 3 | AU36: NSW1-SA1 | AV36: NSW1 | AW36: 7.3554946 | AX36: 0.82916666 | AY36: 0 | AZ36: 0 | BA36: 0
B37: 46261 | C37: 6 | D37: 3 | E37: NSW1-SA1-VIC1 | F37: VIC1-NSW1 | G37: VIC1 | H37: 18499.613 | I37: 25.507416 | J37: 35 | K37: 465 | L37: 11860.948 | M37: 11694.311 | N37: 11694.311 | O37: {=VLOOKUP(C37,Calc!$B$4:$BF$291,_xlfn.XLOOKUP(F37&G37,$R$4:$R$9&$S$4:$S$9,$T$4:$T$9),FALSE)} -> 11694.311 | P37: =O37-N37 -> 3.8889993e-09 | V37: 46261 | W37: 12 | X37: 3 | Y37: NSW1-SA1-VIC1 | Z37: NSW1 | AA37: 24859.078 | AB37: 0 | AC37: 24859.078 | AD37: 0 | AE37: 29.464509 | AF37: 29.464509 | AH37: 46261 | AI37: 4 | AJ37: 3 | AK37: NSW1-SA1-VIC1 | AL37: NSW1-SA1 | AM37: SA1 | AN37: -7.9952345 | AO37: 0 | AP37: 1264.9546 | AR37: 46261 | AS37: 3 | AT37: 3 | AU37: NSW1-SA1 | AV37: SA1 | AW37: -8.1846613 | AX37: 0.82916666 | AY37: 0 | AZ37: 2760.4923 | BA37: 0
B38: 46261 | C38: 6 | D38: 3 | E38: NSW1-SA1-VIC1 | F38: V-SA | G38: SA1 | H38: 18499.613 | I38: 0 | J38: 298.34 | K38: -263.34 | L38: 0 | M38: 0 | N38: 0 | O38: {=VLOOKUP(C38,Calc!$B$4:$BF$291,_xlfn.XLOOKUP(F38&G38,$R$4:$R$9&$S$4:$S$9,$T$4:$T$9),FALSE)} -> 0 | P38: =O38-N38 -> 0 | V38: 46261 | W38: 12 | X38: 3 | Y38: NSW1-SA1-VIC1 | Z38: SA1 | AA38: 24859.078 | AB38: 0 | AC38: 24859.078 | AD38: -2.860824 | AE38: 37.903539 | AF38: 35.042715 | AH38: 46261 | AI38: 4 | AJ38: 3 | AL38: T-V-MNSP1 | AM38: TAS1 | AN38: 0 | AO38: 0 | AP38: 0 | AR38: 46261 | AS38: 3 | AT38: 3 | AU38: T-V-MNSP1 | AV38: TAS1 | AW38: 0 | AX38: 0.79333333 | AY38: 0 | AZ38: 0 | BA38: 0
B39: 46261 | C39: 6 | D39: 3 | E39: NSW1-SA1-VIC1 | F39: V-SA | G39: VIC1 | H39: 18499.613 | I39: 26.210501 | J39: 35 | K39: 263.34 | L39: 6902.2733 | M39: 6805.3019 | N39: 6805.3019 | O39: {=VLOOKUP(C39,Calc!$B$4:$BF$291,_xlfn.XLOOKUP(F39&G39,$R$4:$R$9&$S$4:$S$9,$T$4:$T$9),FALSE)} -> 6805.3019 | P39: =O39-N39 -> 2.7757778e-09 | V39: 46261 | W39: 12 | X39: 3 | Y39: NSW1-SA1-VIC1 | Z39: VIC1 | AA39: 24859.078 | AB39: 0 | AC39: 24859.078 | AD39: -71.652224 | AE39: 0 | AF39: -71.652224 | AH39: 46261 | AI39: 4 | AJ39: 3 | AL39: T-V-MNSP1 | AM39: VIC1 | AN39: 0 | AO39: 0 | AP39: 0 | AR39: 46261 | AS39: 3 | AT39: 3 | AU39: T-V-MNSP1 | AV39: VIC1 | AW39: 0 | AX39: 0.79333333 | AY39: 0 | AZ39: 0 | BA39: 0
B40: 46261 | C40: 7 | D40: 3 | E40: NSW1-SA1-VIC1 | F40: NSW1-SA1 | G40: NSW1 | H40: 21974.39 | I40: 0 | J40: 500 | K40: -205.53 | L40: 0 | M40: 0 | N40: 0 | O40: {=VLOOKUP(C40,Calc!$B$4:$BF$291,_xlfn.XLOOKUP(F40&G40,$R$4:$R$9&$S$4:$S$9,$T$4:$T$9),FALSE)} -> 0 | P40: =O40-N40 -> 0 | V40: 46261 | W40: 13 | X40: 3 | Y40: NSW1-SA1-VIC1 | Z40: NSW1 | AA40: 8804.7998 | AB40: -7238.9089 | AC40: 1565.8908 | AD40: 0 | AE40: 32.832794 | AF40: 32.832794 | AH40: 46261 | AI40: 4 | AJ40: 3 | AK40: NSW1-SA1-VIC1 | AL40: VIC1-NSW1 | AM40: NSW1 | AN40: 21.414904 | AO40: 0 | AP40: 0 | AR40: 46261 | AS40: 3 | AT40: 3 | AU40: VIC1-NSW1 | AV40: NSW1 | AW40: 12.721074 | AX40: 0.21666666 | AY40: 0 | AZ40: 0 | BA40: 0
B41: 46261 | C41: 7 | D41: 3 | E41: NSW1-SA1-VIC1 | F41: NSW1-SA1 | G41: SA1 | H41: 21974.39 | I41: 0 | J41: 294.47 | K41: 205.53 | L41: 0 | M41: 0 | N41: 0 | O41: {=VLOOKUP(C41,Calc!$B$4:$BF$291,_xlfn.XLOOKUP(F41&G41,$R$4:$R$9&$S$4:$S$9,$T$4:$T$9),FALSE)} -> 0 | P41: =O41-N41 -> 0 | V41: 46261 | W41: 13 | X41: 3 | Y41: NSW1-SA1-VIC1 | Z41: SA1 | AA41: 8804.7998 | AB41: -7238.9089 | AC41: 1565.8908 | AD41: -3.7577114 | AE41: 32.686522 | AF41: 28.92881 | AH41: 46261 | AI41: 4 | AJ41: 3 | AK41: NSW1-SA1-VIC1 | AL41: VIC1-NSW1 | AM41: VIC1 | AN41: -21.637404 | AO41: 13175.257 | AP41: 9950.1428 | AR41: 46261 | AS41: 3 | AT41: 3 | AU41: VIC1-NSW1 | AV41: VIC1 | AW41: -12.93774 | AX41: 0.21666666 | AY41: 9112.5145 | AZ41: 5907.716 | BA41: 0
B42: 46261 | C42: 7 | D42: 3 | E42: NSW1-SA1-VIC1 | F42: VIC1-NSW1 | G42: NSW1 | H42: 21974.39 | I42: 0 | J42: 500 | K42: -465 | L42: 0 | M42: 0 | N42: 0 | O42: {=VLOOKUP(C42,Calc!$B$4:$BF$291,_xlfn.XLOOKUP(F42&G42,$R$4:$R$9&$S$4:$S$9,$T$4:$T$9),FALSE)} -> 0 | P42: =O42-N42 -> 0 | V42: 46261 | W42: 13 | X42: 3 | Y42: NSW1-SA1-VIC1 | Z42: VIC1 | AA42: 8804.7998 | AB42: -7238.9089 | AC42: 1565.8908 | AD42: -69.323271 | AE42: 0 | AF42: -69.323271 | AH42: 46261 | AI42: 4 | AJ42: 3 | AK42: NSW1-SA1-VIC1 | AL42: V-SA | AM42: SA1 | AN42: 41.038786 | AO42: 0 | AP42: 0 | AR42: 46261 | AS42: 3 | AT42: 3 | AU42: V-SA | AV42: SA1 | AW42: 37.818366 | AX42: 6.8875 | AY42: 0 | AZ42: 0 | BA42: 0
B43: 46261 | C43: 7 | D43: 3 | E43: NSW1-SA1-VIC1 | F43: VIC1-NSW1 | G43: VIC1 | H43: 21974.39 | I43: 34.407149 | J43: 35 | K43: 465 | L43: 15999.324 | M43: 15799.287 | N43: 15799.287 | O43: {=VLOOKUP(C43,Calc!$B$4:$BF$291,_xlfn.XLOOKUP(F43&G43,$R$4:$R$9&$S$4:$S$9,$T$4:$T$9),FALSE)} -> 15799.287 | P43: =O43-N43 -> 9.8189048e-09 | V43: 46261 | W43: 14 | X43: 3 | Y43: NSW1-SA1-VIC1 | Z43: NSW1 | AA43: 12049.184 | AB43: -5263.0819 | AC43: 6786.1023 | AD43: 0 | AE43: 28.521658 | AF43: 28.521658 | AH43: 46261 | AI43: 4 | AJ43: 3 | AK43: NSW1-SA1-VIC1 | AL43: V-SA | AM43: VIC1 | AN43: -47.623786 | AO43: 8521.7202 | AP43: 10481.879 | AR43: 46261 | AS43: 3 | AT43: 3 | AU43: V-SA | AV43: VIC1 | AW43: -44.705866 | AX43: 6.8875 | AY43: 2229.2928 | AZ43: 2673.599 | BA43: 0
B44: 46261 | C44: 7 | D44: 3 | E44: NSW1-SA1-VIC1 | F44: V-SA | G44: SA1 | H44: 21974.39 | I44: 0 | J44: 294.47 | K44: -259.47 | L44: 0 | M44: 0 | N44: 0 | O44: {=VLOOKUP(C44,Calc!$B$4:$BF$291,_xlfn.XLOOKUP(F44&G44,$R$4:$R$9&$S$4:$S$9,$T$4:$T$9),FALSE)} -> 0 | P44: =O44-N44 -> 0 | V44: 46261 | W44: 14 | X44: 3 | Y44: NSW1-SA1-VIC1 | Z44: SA1 | AA44: 12049.184 | AB44: -5263.0819 | AC44: 6786.1023 | AD44: -3.0475691 | AE44: 37.714358 | AF44: 34.666789 | AH44: 46261 | AI44: 5 | AJ44: 3 | AL44: NSW1-QLD1 | AM44: NSW1 | AN44: -60.531481 | AO44: -78074.722 | AP44: -78074.722 | AR44: 46261 | AS44: 3 | AT44: 3 | AU44: V-S-MNSP1 | AV44: SA1 | AW44: 0 | AX44: 0 | AY44: 0 | AZ44: 0 | BA44: 0
B45: 46261 | C45: 7 | D45: 3 | E45: NSW1-SA1-VIC1 | F45: V-SA | G45: VIC1 | H45: 21974.39 | I45: 24.100232 | J45: 35 | K45: 259.47 | L45: 6253.2871 | M45: 6175.1033 | N45: 6175.1033 | O45: {=VLOOKUP(C45,Calc!$B$4:$BF$291,_xlfn.XLOOKUP(F45&G45,$R$4:$R$9&$S$4:$S$9,$T$4:$T$9),FALSE)} -> 6175.1033 | P45: =O45-N45 -> 5.8498699e-09 | V45: 46261 | W45: 14 | X45: 3 | Y45: NSW1-SA1-VIC1 | Z45: VIC1 | AA45: 12049.184 | AB45: -5263.0819 | AC45: 6786.1023 | AD45: -70.753447 | AE45: 0 | AF45: -70.753447 | AH45: 46261 | AI45: 5 | AJ45: 3 | AL45: NSW1-QLD1 | AM45: QLD1 | AN45: 47.808981 | AO45: 0 | AP45: 0 | AR45: 46261 | AS45: 3 | AT45: 3 | AU45: V-S-MNSP1 | AV45: VIC1 | AW45: 0 | AX45: 0 | AY45: 0 | AZ45: 0 | BA45: 0
B46: 46261 | C46: 8 | D46: 3 | E46: NSW1-SA1-VIC1 | F46: NSW1-SA1 | G46: NSW1 | H46: 25586.72 | I46: 0 | J46: 500 | K46: -188.76 | L46: 0 | M46: 0 | N46: 0 | O46: {=VLOOKUP(C46,Calc!$B$4:$BF$291,_xlfn.XLOOKUP(F46&G46,$R$4:$R$9&$S$4:$S$9,$T$4:$T$9),FALSE)} -> 0 | P46: =O46-N46 -> 0 | V46: 46261 | W46: 15 | X46: 3 | Y46: NSW1-SA1-VIC1 | Z46: NSW1 | AA46: 13032.138 | AB46: -4881.6268 | AC46: 8150.5115 | AD46: 0 | AE46: 27.188443 | AF46: 27.188443 | AH46: 46261 | AI46: 5 | AJ46: 3 | AK46: NSW1-SA1-VIC1 | AL46: NSW1-SA1 | AM46: NSW1 | AN46: 6.8598008 | AO46: 0 | AP46: 0 | AR46: 46261 | AS46: 4 | AT46: 3 | AU46: N-Q-MNSP1 | AV46: NSW1 | AW46: -0.7382353 | AX46: 0.17083333 | AY46: -936.51962 | AZ46: -936.51962 | BA46: 0
B47: 46261 | C47: 8 | D47: 3 | E47: NSW1-SA1-VIC1 | F47: NSW1-SA1 | G47: SA1 | H47: 25586.72 | I47: 0 | J47: 311.24 | K47: 188.76 | L47: 0 | M47: 0 | N47: 0 | O47: {=VLOOKUP(C47,Calc!$B$4:$BF$291,_xlfn.XLOOKUP(F47&G47,$R$4:$R$9&$S$4:$S$9,$T$4:$T$9),FALSE)} -> 0 | P47: =O47-N47 -> 0 | V47: 46261 | W47: 15 | X47: 3 | Y47: NSW1-SA1-VIC1 | Z47: SA1 | AA47: 13032.138 | AB47: -4881.6268 | AC47: 8150.5115 | AD47: -2.3658349 | AE47: 39.608287 | AF47: 37.242452 | AH47: 46261 | AI47: 5 | AJ47: 3 | AK47: NSW1-SA1-VIC1 | AL47: NSW1-SA1 | AM47: SA1 | AN47: -7.6131341 | AO47: 0 | AP47: 1179.3818 | AR47: 46261 | AS47: 4 | AT47: 3 | AU47: N-Q-MNSP1 | AV47: QLD1 | AW47: 0.56740196 | AX47: 0.17083333 | AY47: 0 | AZ47: 0 | BA47: 0
B48: 46261 | C48: 8 | D48: 3 | E48: NSW1-SA1-VIC1 | F48: VIC1-NSW1 | G48: NSW1 | H48: 25586.72 | I48: 0 | J48: 500 | K48: -465 | L48: 0 | M48: 0 | N48: 0 | O48: {=VLOOKUP(C48,Calc!$B$4:$BF$291,_xlfn.XLOOKUP(F48&G48,$R$4:$R$9&$S$4:$S$9,$T$4:$T$9),FALSE)} -> 0 | P48: =O48-N48 -> 0 | V48: 46261 | W48: 15 | X48: 3 | Y48: NSW1-SA1-VIC1 | Z48: VIC1 | AA48: 13032.138 | AB48: -4881.6268 | AC48: 8150.5115 | AD48: -71.710896 | AE48: 0 | AF48: -71.710896 | AH48: 46261 | AI48: 5 | AJ48: 3 | AL48: T-V-MNSP1 | AM48: TAS1 | AN48: 0 | AO48: 0 | AP48: 0 | AR48: 46261 | AS48: 4 | AT48: 3 | AU48: NSW1-QLD1 | AV48: NSW1 | AW48: -59.140636 | AX48: 12.559167 | AY48: -76151.787 | AZ48: -76151.787 | BA48: 0
B49: 46261 | C49: 8 | D49: 3 | E49: NSW1-SA1-VIC1 | F49: VIC1-NSW1 | G49: VIC1 | H49: 25586.72 | I49: 37.37884 | J49: 35 | K49: 465 | L49: 17381.161 | M49: 17211.218 | N49: 17211.218 | O49: {=VLOOKUP(C49,Calc!$B$4:$BF$291,_xlfn.XLOOKUP(F49&G49,$R$4:$R$9&$S$4:$S$9,$T$4:$T$9),FALSE)} -> 17211.218 | P49: =O49-N49 -> 1.1241355e-09 | V49: 46261 | W49: 16 | X49: 3 | Y49: NSW1-SA1-VIC1 | Z49: NSW1 | AA49: 12680.61 | AB49: -3971.1746 | AC49: 8709.435 | AD49: 0 | AE49: 26.778525 | AF49: 26.778525 | AH49: 46261 | AI49: 5 | AJ49: 3 | AL49: T-V-MNSP1 | AM49: VIC1 | AN49: 0 | AO49: 0 | AP49: 0 | AR49: 46261 | AS49: 4 | AT49: 3 | AU49: NSW1-QLD1 | AV49: QLD1 | AW49: 46.581469 | AX49: 12.559167 | AY49: 0 | AZ49: 0 | BA49: 0
B50: 46261 | C50: 8 | D50: 3 | E50: NSW1-SA1-VIC1 | F50: V-SA | G50: SA1 | H50: 25586.72 | I50: 0 | J50: 311.24 | K50: -276.24 | L50: 0 | M50: 0 | N50: 0 | O50: {=VLOOKUP(C50,Calc!$B$4:$BF$291,_xlfn.XLOOKUP(F50&G50,$R$4:$R$9&$S$4:$S$9,$T$4:$T$9),FALSE)} -> 0 | P50: =O50-N50 -> 0 | V50: 46261 | W50: 16 | X50: 3 | Y50: NSW1-SA1-VIC1 | Z50: SA1 | AA50: 12680.61 | AB50: -3971.1746 | AC50: 8709.435 | AD50: -1.1411557 | AE50: 38.552359 | AF50: 37.411204 | AH50: 46261 | AI50: 5 | AJ50: 3 | AK50: NSW1-SA1-VIC1 | AL50: VIC1-NSW1 | AM50: NSW1 | AN50: 21.170347 | AO50: 0 | AP50: 0 | AR50: 46261 | AS50: 4 | AT50: 3 | AU50: NSW1-SA1 | AV50: NSW1 | AW50: 7.2635678 | AX50: 0.73166666 | AY50: 0 | AZ50: 0 | BA50: 0
B51: 46261 | C51: 8 | D51: 3 | E51: NSW1-SA1-VIC1 | F51: V-SA | G51: VIC1 | H51: 25586.72 | I51: 30.619031 | J51: 35 | K51: 276.24 | L51: 8458.2011 | M51: 8375.5019 | N51: 8375.5019 | O51: {=VLOOKUP(C51,Calc!$B$4:$BF$291,_xlfn.XLOOKUP(F51&G51,$R$4:$R$9&$S$4:$S$9,$T$4:$T$9),FALSE)} -> 8375.5019 | P51: =O51-N51 -> 6.2154868e-09 | V51: 46261 | W51: 16 | X51: 3 | Y51: NSW1-SA1-VIC1 | Z51: VIC1 | AA51: 12680.61 | AB51: -3971.1746 | AC51: 8709.435 | AD51: -71.371396 | AE51: 0 | AF51: -71.371396 | AH51: 46261 | AI51: 5 | AJ51: 3 | AK51: NSW1-SA1-VIC1 | AL51: VIC1-NSW1 | AM51: VIC1 | AN51: -21.400347 | AO51: 12864.91 | AP51: 9836.1616 | AR51: 46261 | AS51: 4 | AT51: 3 | AU51: NSW1-SA1 | AV51: SA1 | AW51: -7.9952345 | AX51: 0.73166666 | AY51: 0 | AZ51: 1264.9546 | BA51: 0
B52: 46261 | C52: 9 | D52: 3 | E52: NSW1-SA1-VIC1 | F52: NSW1-SA1 | G52: NSW1 | H52: 23307.758 | I52: 0 | J52: 500 | K52: -188.76 | L52: 0 | M52: 0 | N52: 0 | O52: {=VLOOKUP(C52,Calc!$B$4:$BF$291,_xlfn.XLOOKUP(F52&G52,$R$4:$R$9&$S$4:$S$9,$T$4:$T$9),FALSE)} -> 0 | P52: =O52-N52 -> 0 | V52: 46261 | W52: 17 | X52: 3 | Y52: NSW1-SA1-VIC1 | Z52: NSW1 | AA52: 13460.112 | AB52: -4193.3419 | AC52: 9266.7703 | AD52: -0.9749458 | AE52: 28.010841 | AF52: 27.035895 | AH52: 46261 | AI52: 5 | AJ52: 3 | AK52: NSW1-SA1-VIC1 | AL52: V-SA | AM52: SA1 | AN52: 37.105062 | AO52: 0 | AP52: 0 | AR52: 46261 | AS52: 4 | AT52: 3 | AU52: T-V-MNSP1 | AV52: TAS1 | AW52: 0 | AX52: 0.7925 | AY52: 0 | AZ52: 0 | BA52: 0
B53: 46261 | C53: 9 | D53: 3 | E53: NSW1-SA1-VIC1 | F53: NSW1-SA1 | G53: SA1 | H53: 23307.758 | I53: 0 | J53: 311.24 | K53: 188.76 | L53: 0 | M53: 0 | N53: 0 | O53: {=VLOOKUP(C53,Calc!$B$4:$BF$291,_xlfn.XLOOKUP(F53&G53,$R$4:$R$9&$S$4:$S$9,$T$4:$T$9),FALSE)} -> 0 | P53: =O53-N53 -> 0 | V53: 46261 | W53: 17 | X53: 3 | Y53: NSW1-SA1-VIC1 | Z53: SA1 | AA53: 13460.112 | AB53: -4193.3419 | AC53: 9266.7703 | AD53: 0 | AE53: 40.466919 | AF53: 40.466919 | AH53: 46261 | AI53: 5 | AJ53: 3 | AK53: NSW1-SA1-VIC1 | AL53: V-SA | AM53: VIC1 | AN53: -43.802562 | AO53: 7586.1712 | AP53: 9435.5377 | AR53: 46261 | AS53: 4 | AT53: 3 | AU53: T-V-MNSP1 | AV53: VIC1 | AW53: 0 | AX53: 0.7925 | AY53: 0 | AZ53: 0 | BA53: 0
B54: 46261 | C54: 9 | D54: 3 | E54: NSW1-SA1-VIC1 | F54: VIC1-NSW1 | G54: NSW1 | H54: 23307.758 | I54: 0 | J54: 500 | K54: -465 | L54: 0 | M54: 0 | N54: 0 | O54: {=VLOOKUP(C54,Calc!$B$4:$BF$291,_xlfn.XLOOKUP(F54&G54,$R$4:$R$9&$S$4:$S$9,$T$4:$T$9),FALSE)} -> 0 | P54: =O54-N54 -> 0 | V54: 46261 | W54: 17 | X54: 3 | Y54: NSW1-SA1-VIC1 | Z54: VIC1 | AA54: 13460.112 | AB54: -4193.3419 | AC54: 9266.7703 | AD54: -74.301147 | AE54: 0 | AF54: -74.301147 | AH54: 46261 | AI54: 6 | AJ54: 3 | AL54: NSW1-QLD1 | AM54: NSW1 | AN54: -55.591164 | AO54: -70718.413 | AP54: -70718.413 | AR54: 46261 | AS54: 4 | AT54: 3 | AU54: VIC1-NSW1 | AV54: NSW1 | AW54: 21.414904 | AX54: 0.2225 | AY54: 0 | AZ54: 0 | BA54: 0
B55: 46261 | C55: 9 | D55: 3 | E55: NSW1-SA1-VIC1 | F55: VIC1-NSW1 | G55: VIC1 | H55: 23307.758 | I55: 30.46468 | J55: 35 | K55: 465 | L55: 14166.076 | M55: 14019.031 | N55: 14019.031 | O55: {=VLOOKUP(C55,Calc!$B$4:$BF$291,_xlfn.XLOOKUP(F55&G55,$R$4:$R$9&$S$4:$S$9,$T$4:$T$9),FALSE)} -> 14019.031 | P55: =O55-N55 -> 3.4178811e-09 | V55: 46261 | W55: 18 | X55: 3 | Y55: NSW1-SA1-VIC1 | Z55: NSW1 | AA55: 14709.908 | AB55: -3264.1133 | AC55: 11445.795 | AD55: -0.5807658 | AE55: 29.278788 | AF55: 28.698023 | AH55: 46261 | AI55: 6 | AJ55: 3 | AL55: NSW1-QLD1 | AM55: QLD1 | AN55: 42.922831 | AO55: 0 | AP55: 0 | AR55: 46261 | AS55: 4 | AT55: 3 | AU55: VIC1-NSW1 | AV55: VIC1 | AW55: -21.637404 | AX55: 0.2225 | AY55: 13175.257 | AZ55: 9950.1428 | BA55: 0
B56: 46261 | C56: 9 | D56: 3 | E56: NSW1-SA1-VIC1 | F56: V-SA | G56: SA1 | H56: 23307.758 | I56: 0 | J56: 311.24 | K56: -276.24 | L56: 0 | M56: 0 | N56: 0 | O56: {=VLOOKUP(C56,Calc!$B$4:$BF$291,_xlfn.XLOOKUP(F56&G56,$R$4:$R$9&$S$4:$S$9,$T$4:$T$9),FALSE)} -> 0 | P56: =O56-N56 -> 0 | V56: 46261 | W56: 18 | X56: 3 | Y56: NSW1-SA1-VIC1 | Z56: SA1 | AA56: 14709.908 | AB56: -3264.1133 | AC56: 11445.795 | AD56: 0 | AE56: 43.048741 | AF56: 43.048741 | AH56: 46261 | AI56: 6 | AJ56: 3 | AK56: NSW1-SA1-VIC1 | AL56: NSW1-SA1 | AM56: NSW1 | AN56: 6.433456 | AO56: 0 | AP56: 0 | AR56: 46261 | AS56: 4 | AT56: 3 | AU56: V-SA | AV56: SA1 | AW56: 41.038786 | AX56: 6.585 | AY56: 0 | AZ56: 0 | BA56: 0
B57: 46261 | C57: 9 | D57: 3 | E57: NSW1-SA1-VIC1 | F57: V-SA | G57: VIC1 | H57: 23307.758 | I57: 33.978268 | J57: 35 | K57: 276.24 | L57: 9386.1568 | M57: 9288.7273 | N57: 9288.7273 | O57: {=VLOOKUP(C57,Calc!$B$4:$BF$291,_xlfn.XLOOKUP(F57&G57,$R$4:$R$9&$S$4:$S$9,$T$4:$T$9),FALSE)} -> 9288.7273 | P57: =O57-N57 -> 2.582965e-09 | V57: 46261 | W57: 18 | X57: 3 | Y57: NSW1-SA1-VIC1 | Z57: VIC1 | AA57: 14709.908 | AB57: -3264.1133 | AC57: 11445.795 | AD57: -78.49343 | AE57: 0 | AF57: -78.49343 | AH57: 46261 | AI57: 6 | AJ57: 3 | AK57: NSW1-SA1-VIC1 | AL57: NSW1-SA1 | AM57: SA1 | AN57: -7.1517893 | AO57: 0 | AP57: 1083.0632 | AR57: 46261 | AS57: 4 | AT57: 3 | AU57: V-SA | AV57: VIC1 | AW57: -47.623786 | AX57: 6.585 | AY57: 8521.7202 | AZ57: 10481.879 | BA57: 0
B58: 46261 | C58: 10 | D58: 3 | E58: NSW1-SA1-VIC1 | F58: NSW1-SA1 | G58: NSW1 | H58: 23811.113 | I58: 0 | J58: 500 | K58: -139.45 | L58: 0 | M58: 0 | N58: 0 | O58: {=VLOOKUP(C58,Calc!$B$4:$BF$291,_xlfn.XLOOKUP(F58&G58,$R$4:$R$9&$S$4:$S$9,$T$4:$T$9),FALSE)} -> 0 | P58: =O58-N58 -> 0 | V58: 46261 | W58: 19 | X58: 3 | Y58: NSW1-SA1-VIC1 | Z58: NSW1 | AA58: 13171.081 | AB58: -3576.998 | AC58: 9594.0828 | AD58: 0 | AE58: 36.218501 | AF58: 36.218501 | AH58: 46261 | AI58: 6 | AJ58: 3 | AL58: T-V-MNSP1 | AM58: TAS1 | AN58: 0 | AO58: 0 | AP58: 0 | AR58: 46261 | AS58: 4 | AT58: 3 | AU58: V-S-MNSP1 | AV58: SA1 | AW58: 0 | AX58: 0 | AY58: 0 | AZ58: 0 | BA58: 0
B59: 46261 | C59: 10 | D59: 3 | E59: NSW1-SA1-VIC1 | F59: NSW1-SA1 | G59: SA1 | H59: 23811.113 | I59: 0 | J59: 360.55 | K59: 139.45 | L59: 0 | M59: 0 | N59: 0 | O59: {=VLOOKUP(C59,Calc!$B$4:$BF$291,_xlfn.XLOOKUP(F59&G59,$R$4:$R$9&$S$4:$S$9,$T$4:$T$9),FALSE)} -> 0 | P59: =O59-N59 -> 0 | V59: 46261 | W59: 19 | X59: 3 | Y59: NSW1-SA1-VIC1 | Z59: SA1 | AA59: 13171.081 | AB59: -3576.998 | AC59: 9594.0828 | AD59: -0.7898818 | AE59: 38.093968 | AF59: 37.304086 | AH59: 46261 | AI59: 6 | AJ59: 3 | AL59: T-V-MNSP1 | AM59: VIC1 | AN59: 0 | AO59: 0 | AP59: 0 | AR59: 46261 | AS59: 4 | AT59: 3 | AU59: V-S-MNSP1 | AV59: VIC1 | AW59: 0 | AX59: 0 | AY59: 0 | AZ59: 0 | BA59: 0
B60: 46261 | C60: 10 | D60: 3 | E60: NSW1-SA1-VIC1 | F60: VIC1-NSW1 | G60: NSW1 | H60: 23811.113 | I60: 0 | J60: 500 | K60: -465 | L60: 0 | M60: 0 | N60: 0 | O60: {=VLOOKUP(C60,Calc!$B$4:$BF$291,_xlfn.XLOOKUP(F60&G60,$R$4:$R$9&$S$4:$S$9,$T$4:$T$9),FALSE)} -> 0 | P60: =O60-N60 -> 0 | V60: 46261 | W60: 19 | X60: 3 | Y60: NSW1-SA1-VIC1 | Z60: VIC1 | AA60: 13171.081 | AB60: -3576.998 | AC60: 9594.0828 | AD60: -80.34842 | AE60: 0 | AF60: -80.34842 | AH60: 46261 | AI60: 6 | AJ60: 3 | AK60: NSW1-SA1-VIC1 | AL60: VIC1-NSW1 | AM60: NSW1 | AN60: 19.07396 | AO60: 0 | AP60: 0 | AR60: 46261 | AS60: 5 | AT60: 3 | AU60: N-Q-MNSP1 | AV60: NSW1 | AW60: -0.7863726 | AX60: 0.15583333 | AY60: -1023.7256 | AZ60: -1023.7256 | BA60: 0
B61: 46261 | C61: 10 | D61: 3 | E61: NSW1-SA1-VIC1 | F61: VIC1-NSW1 | G61: VIC1 | H61: 23811.113 | I61: 25.937621 | J61: 35 | K61: 465 | L61: 12060.994 | M61: 11935.134 | N61: 11935.134 | O61: {=VLOOKUP(C61,Calc!$B$4:$BF$291,_xlfn.XLOOKUP(F61&G61,$R$4:$R$9&$S$4:$S$9,$T$4:$T$9),FALSE)} -> 11935.134 | P61: =O61-N61 -> 8.9858077e-10 | V61: 46261 | W61: 20 | X61: 3 | Y61: NSW1-SA1-VIC1 | Z61: NSW1 | AA61: 11739.141 | AB61: -3011.5599 | AC61: 8727.5814 | AD61: 0 | AE61: 41.588057 | AF61: 41.588057 | AH61: 46261 | AI61: 6 | AJ61: 3 | AK61: NSW1-SA1-VIC1 | AL61: VIC1-NSW1 | AM61: VIC1 | AN61: -19.30646 | AO61: 11694.311 | AP61: 8861.2538 | AR61: 46261 | AS61: 5 | AT61: 3 | AU61: N-Q-MNSP1 | AV61: QLD1 | AW61: 0.63053926 | AX61: 0.15583333 | AY61: 0 | AZ61: 0 | BA61: 0
B62: 46261 | C62: 10 | D62: 3 | E62: NSW1-SA1-VIC1 | F62: V-SA | G62: SA1 | H62: 23811.113 | I62: 0 | J62: 360.55 | K62: -325.55 | L62: 0 | M62: 0 | N62: 0 | O62: {=VLOOKUP(C62,Calc!$B$4:$BF$291,_xlfn.XLOOKUP(F62&G62,$R$4:$R$9&$S$4:$S$9,$T$4:$T$9),FALSE)} -> 0 | P62: =O62-N62 -> 0 | V62: 46261 | W62: 20 | X62: 3 | Y62: NSW1-SA1-VIC1 | Z62: SA1 | AA62: 11739.141 | AB62: -3011.5599 | AC62: 8727.5814 | AD62: -0.77063493 | AE62: 35.68179 | AF62: 34.911155 | AH62: 46261 | AI62: 6 | AJ62: 3 | AK62: NSW1-SA1-VIC1 | AL62: V-SA | AM62: SA1 | AN62: 33.36229 | AO62: 0 | AP62: 0 | AR62: 46261 | AS62: 5 | AT62: 3 | AU62: NSW1-QLD1 | AV62: NSW1 | AW62: -59.745109 | AX62: 12.566667 | AY62: -77050.996 | AZ62: -77050.996 | BA62: 0
B63: 46261 | C63: 10 | D63: 3 | E63: NSW1-SA1-VIC1 | F63: V-SA | G63: VIC1 | H63: 23811.113 | I63: 36.864428 | J63: 35 | K63: 325.55 | L63: 12001.214 | M63: 11875.978 | N63: 11875.978 | O63: {=VLOOKUP(C63,Calc!$B$4:$BF$291,_xlfn.XLOOKUP(F63&G63,$R$4:$R$9&$S$4:$S$9,$T$4:$T$9),FALSE)} -> 11875.978 | P63: =O63-N63 -> 2.4356268e-09 | V63: 46261 | W63: 20 | X63: 3 | Y63: NSW1-SA1-VIC1 | Z63: VIC1 | AA63: 11739.141 | AB63: -3011.5599 | AC63: 8727.5814 | AD63: -83.400879 | AE63: 0 | AF63: -83.400879 | AH63: 46261 | AI63: 6 | AJ63: 3 | AK63: NSW1-SA1-VIC1 | AL63: V-SA | AM63: VIC1 | AN63: -39.943124 | AO63: 6805.3019 | AP63: 8555.2964 | AR63: 46261 | AS63: 5 | AT63: 3 | AU63: NSW1-QLD1 | AV63: QLD1 | AW63: 47.178442 | AX63: 12.566667 | AY63: 0 | AZ63: 0 | BA63: 0
B64: 46261 | C64: 11 | D64: 3 | E64: NSW1-SA1-VIC1 | F64: NSW1-SA1 | G64: NSW1 | H64: 25416.57 | I64: 0 | J64: 500 | K64: -139.45 | L64: 0 | M64: 0 | N64: 0 | O64: {=VLOOKUP(C64,Calc!$B$4:$BF$291,_xlfn.XLOOKUP(F64&G64,$R$4:$R$9&$S$4:$S$9,$T$4:$T$9),FALSE)} -> 0 | P64: =O64-N64 -> 0 | V64: 46261 | W64: 21 | X64: 3 | Y64: NSW1-SA1-VIC1 | Z64: NSW1 | AA64: 12558.359 | AB64: -3217.9508 | AC64: 9340.4081 | AD64: 0 | AE64: 40.476919 | AF64: 40.476919 | AH64: 46261 | AI64: 7 | AJ64: 3 | AL64: NSW1-QLD1 | AM64: NSW1 | AN64: -64.159854 | AO64: -73543.244 | AP64: -73543.244 | AR64: 46261 | AS64: 5 | AT64: 3 | AU64: NSW1-SA1 | AV64: NSW1 | AW64: 6.8598008 | AX64: 0.75333333 | AY64: 0 | AZ64: 0 | BA64: 0
B65: 46261 | C65: 11 | D65: 3 | E65: NSW1-SA1-VIC1 | F65: NSW1-SA1 | G65: SA1 | H65: 25416.57 | I65: 0 | J65: 360.55 | K65: 139.45 | L65: 0 | M65: 0 | N65: 0 | O65: {=VLOOKUP(C65,Calc!$B$4:$BF$291,_xlfn.XLOOKUP(F65&G65,$R$4:$R$9&$S$4:$S$9,$T$4:$T$9),FALSE)} -> 0 | P65: =O65-N65 -> 0 | V65: 46261 | W65: 21 | X65: 3 | Y65: NSW1-SA1-VIC1 | Z65: SA1 | AA65: 12558.359 | AB65: -3217.9508 | AC65: 9340.4081 | AD65: -1.0341273 | AE65: 39.258692 | AF65: 38.224565 | AH65: 46261 | AI65: 7 | AJ65: 3 | AL65: NSW1-QLD1 | AM65: QLD1 | AN65: 52.450687 | AO65: 0 | AP65: 0 | AR65: 46261 | AS65: 5 | AT65: 3 | AU65: NSW1-SA1 | AV65: SA1 | AW65: -7.6131341 | AX65: 0.75333333 | AY65: 0 | AZ65: 1179.3818 | BA65: 0
B66: 46261 | C66: 11 | D66: 3 | E66: NSW1-SA1-VIC1 | F66: VIC1-NSW1 | G66: NSW1 | H66: 25416.57 | I66: 0 | J66: 500 | K66: -465 | L66: 0 | M66: 0 | N66: 0 | O66: {=VLOOKUP(C66,Calc!$B$4:$BF$291,_xlfn.XLOOKUP(F66&G66,$R$4:$R$9&$S$4:$S$9,$T$4:$T$9),FALSE)} -> 0 | P66: =O66-N66 -> 0 | V66: 46261 | W66: 21 | X66: 3 | Y66: NSW1-SA1-VIC1 | Z66: VIC1 | AA66: 12558.359 | AB66: -3217.9508 | AC66: 9340.4081 | AD66: -85.901484 | AE66: 0 | AF66: -85.901484 | AH66: 46261 | AI66: 7 | AJ66: 3 | AK66: NSW1-SA1-VIC1 | AL66: NSW1-SA1 | AM66: NSW1 | AN66: 5.7813516 | AO66: 0 | AP66: 0 | AR66: 46261 | AS66: 5 | AT66: 3 | AU66: T-V-MNSP1 | AV66: TAS1 | AW66: 0 | AX66: 0.82916666 | AY66: 0 | AZ66: 0 | BA66: 0
B67: 46261 | C67: 11 | D67: 3 | E67: NSW1-SA1-VIC1 | F67: VIC1-NSW1 | G67: VIC1 | H67: 25416.57 | I67: 29.629591 | J67: 35 | K67: 465 | L67: 13777.76 | M67: 13643.521 | N67: 13643.521 | O67: {=VLOOKUP(C67,Calc!$B$4:$BF$291,_xlfn.XLOOKUP(F67&G67,$R$4:$R$9&$S$4:$S$9,$T$4:$T$9),FALSE)} -> 13643.521 | P67: =O67-N67 -> 8.5929059e-09 | V67: 46261 | W67: 22 | X67: 3 | Y67: NSW1-SA1-VIC1 | Z67: NSW1 | AA67: 14484.377 | AB67: -3147.482 | AC67: 11336.895 | AD67: 0 | AE67: 39.975276 | AF67: 39.975276 | AH67: 46261 | AI67: 7 | AJ67: 3 | AK67: NSW1-SA1-VIC1 | AL67: NSW1-SA1 | AM67: SA1 | AN67: -6.5488516 | AO67: 0 | AP67: 962.23547 | AR67: 46261 | AS67: 5 | AT67: 3 | AU67: T-V-MNSP1 | AV67: VIC1 | AW67: 0 | AX67: 0.82916666 | AY67: 0 | AZ67: 0 | BA67: 0
B68: 46261 | C68: 11 | D68: 3 | E68: NSW1-SA1-VIC1 | F68: V-SA | G68: SA1 | H68: 25416.57 | I68: 0 | J68: 360.55 | K68: -325.55 | L68: 0 | M68: 0 | N68: 0 | O68: {=VLOOKUP(C68,Calc!$B$4:$BF$291,_xlfn.XLOOKUP(F68&G68,$R$4:$R$9&$S$4:$S$9,$T$4:$T$9),FALSE)} -> 0 | P68: =O68-N68 -> 0 | V68: 46261 | W68: 22 | X68: 3 | Y68: NSW1-SA1-VIC1 | Z68: SA1 | AA68: 14484.377 | AB68: -3147.482 | AC68: 11336.895 | AD68: -0.71858186 | AE68: 43.952039 | AF68: 43.233457 | AH68: 46261 | AI68: 7 | AJ68: 3 | AL68: T-V-MNSP1 | AM68: TAS1 | AN68: 0 | AO68: 0 | AP68: 0 | AR68: 46261 | AS68: 5 | AT68: 3 | AU68: VIC1-NSW1 | AV68: NSW1 | AW68: 21.170347 | AX68: 0.23 | AY68: 0 | AZ68: 0 | BA68: 0
B69: 46261 | C69: 11 | D69: 3 | E69: NSW1-SA1-VIC1 | F69: V-SA | G69: VIC1 | H69: 25416.57 | I69: 36.519382 | J69: 35 | K69: 325.55 | L69: 11888.885 | M69: 11773.049 | N69: 11773.049 | O69: {=VLOOKUP(C69,Calc!$B$4:$BF$291,_xlfn.XLOOKUP(F69&G69,$R$4:$R$9&$S$4:$S$9,$T$4:$T$9),FALSE)} -> 11773.049 | P69: =O69-N69 -> 4.7439244e-09 | V69: 46261 | W69: 22 | X69: 3 | Y69: NSW1-SA1-VIC1 | Z69: VIC1 | AA69: 14484.377 | AB69: -3147.482 | AC69: 11336.895 | AD69: -90.010399 | AE69: 0 | AF69: -90.010399 | AH69: 46261 | AI69: 7 | AJ69: 3 | AL69: T-V-MNSP1 | AM69: VIC1 | AN69: 0 | AO69: 0 | AP69: 0 | AR69: 46261 | AS69: 5 | AT69: 3 | AU69: VIC1-NSW1 | AV69: VIC1 | AW69: -21.400347 | AX69: 0.23 | AY69: 12864.91 | AZ69: 9836.1616 | BA69: 0
B70: 46261 | C70: 12 | D70: 3 | E70: NSW1-SA1-VIC1 | F70: NSW1-SA1 | G70: NSW1 | H70: 24859.078 | I70: 0 | J70: 500 | K70: -139.45 | L70: 0 | M70: 0 | N70: 0 | O70: {=VLOOKUP(C70,Calc!$B$4:$BF$291,_xlfn.XLOOKUP(F70&G70,$R$4:$R$9&$S$4:$S$9,$T$4:$T$9),FALSE)} -> 0 | P70: =O70-N70 -> 0 | V70: 46261 | W70: 23 | X70: 3 | Y70: NSW1-SA1-VIC1 | Z70: NSW1 | AA70: 12966.975 | AB70: -1476.4342 | AC70: 11490.541 | AD70: -0.6636688 | AE70: 42.574819 | AF70: 41.91115 | AH70: 46261 | AI70: 7 | AJ70: 3 | AK70: NSW1-SA1-VIC1 | AL70: VIC1-NSW1 | AM70: NSW1 | AN70: 28.625797 | AO70: 0 | AP70: 0 | AR70: 46261 | AS70: 5 | AT70: 3 | AU70: V-SA | AV70: SA1 | AW70: 37.105062 | AX70: 6.6975 | AY70: 0 | AZ70: 0 | BA70: 0
B71: 46261 | C71: 12 | D71: 3 | E71: NSW1-SA1-VIC1 | F71: NSW1-SA1 | G71: SA1 | H71: 24859.078 | I71: 0 | J71: 360.55 | K71: 139.45 | L71: 0 | M71: 0 | N71: 0 | O71: {=VLOOKUP(C71,Calc!$B$4:$BF$291,_xlfn.XLOOKUP(F71&G71,$R$4:$R$9&$S$4:$S$9,$T$4:$T$9),FALSE)} -> 0 | P71: =O71-N71 -> 0 | V71: 46261 | W71: 23 | X71: 3 | Y71: NSW1-SA1-VIC1 | Z71: SA1 | AA71: 12966.975 | AB71: -1476.4342 | AC71: 11490.541 | AD71: 0 | AE71: 38.120503 | AF71: 38.120503 | AH71: 46261 | AI71: 7 | AJ71: 3 | AK71: NSW1-SA1-VIC1 | AL71: VIC1-NSW1 | AM71: VIC1 | AN71: -28.854964 | AO71: 15799.287 | AP71: 13302.975 | AR71: 46261 | AS71: 5 | AT71: 3 | AU71: V-SA | AV71: VIC1 | AW71: -43.802562 | AX71: 6.6975 | AY71: 7586.1712 | AZ71: 9435.5377 | BA71: 0
B72: 46261 | C72: 12 | D72: 3 | E72: NSW1-SA1-VIC1 | F72: VIC1-NSW1 | G72: NSW1 | H72: 24859.078 | I72: 0 | J72: 500 | K72: -465 | L72: 0 | M72: 0 | N72: 0 | O72: {=VLOOKUP(C72,Calc!$B$4:$BF$291,_xlfn.XLOOKUP(F72&G72,$R$4:$R$9&$S$4:$S$9,$T$4:$T$9),FALSE)} -> 0 | P72: =O72-N72 -> 0 | V72: 46261 | W72: 23 | X72: 3 | Y72: NSW1-SA1-VIC1 | Z72: VIC1 | AA72: 12966.975 | AB72: -1476.4342 | AC72: 11490.541 | AD72: -86.79832 | AE72: 0 | AF72: -86.79832 | AH72: 46261 | AI72: 7 | AJ72: 3 | AK72: NSW1-SA1-VIC1 | AL72: V-SA | AM72: SA1 | AN72: 30.649083 | AO72: 0 | AP72: 0 | AR72: 46261 | AS72: 5 | AT72: 3 | AU72: V-S-MNSP1 | AV72: SA1 | AW72: 0 | AX72: 0 | AY72: 0 | AZ72: 0 | BA72: 0
B73: 46261 | C73: 12 | D73: 3 | E73: NSW1-SA1-VIC1 | F73: VIC1-NSW1 | G73: VIC1 | H73: 24859.078 | I73: 29.464509 | J73: 35 | K73: 465 | L73: 13700.997 | M73: 13564.541 | N73: 13564.541 | O73: {=VLOOKUP(C73,Calc!$B$4:$BF$291,_xlfn.XLOOKUP(F73&G73,$R$4:$R$9&$S$4:$S$9,$T$4:$T$9),FALSE)} -> 13564.541 | P73: =O73-N73 -> 8.6838554e-09 | V73: 46261 | W73: 24 | X73: 3 | Y73: NSW1-SA1-VIC1 | Z73: NSW1 | AA73: 12499.2 | AB73: -1902.209 | AC73: 10596.991 | AD73: -1.017577 | AE73: 45.050972 | AF73: 44.033395 | AH73: 46261 | AI73: 7 | AJ73: 3 | AK73: NSW1-SA1-VIC1 | AL73: V-SA | AM73: VIC1 | AN73: -37.601583 | AO73: 6175.1033 | AP73: 7709.1801 | AR73: 46261 | AS73: 5 | AT73: 3 | AU73: V-S-MNSP1 | AV73: VIC1 | AW73: 0 | AX73: 0 | AY73: 0 | AZ73: 0 | BA73: 0
B74: 46261 | C74: 12 | D74: 3 | E74: NSW1-SA1-VIC1 | F74: V-SA | G74: SA1 | H74: 24859.078 | I74: 0 | J74: 360.55 | K74: -325.55 | L74: 0 | M74: 0 | N74: 0 | O74: {=VLOOKUP(C74,Calc!$B$4:$BF$291,_xlfn.XLOOKUP(F74&G74,$R$4:$R$9&$S$4:$S$9,$T$4:$T$9),FALSE)} -> 0 | P74: =O74-N74 -> 0 | V74: 46261 | W74: 24 | X74: 3 | Y74: NSW1-SA1-VIC1 | Z74: SA1 | AA74: 12499.2 | AB74: -1902.209 | AC74: 10596.991 | AD74: 0 | AE74: 37.635373 | AF74: 37.635373 | AH74: 46261 | AI74: 8 | AJ74: 3 | AL74: NSW1-QLD1 | AM74: NSW1 | AN74: -67.077682 | AO74: -76401.743 | AP74: -76401.743 | AR74: 46261 | AS74: 6 | AT74: 3 | AU74: N-Q-MNSP1 | AV74: NSW1 | AW74: -0.9491604 | AX74: 0.16916666 | AY74: -1254.5739 | AZ74: -1254.5739 | BA74: 0
B75: 46261 | C75: 12 | D75: 3 | E75: NSW1-SA1-VIC1 | F75: V-SA | G75: VIC1 | H75: 24859.078 | I75: 35.042715 | J75: 35 | K75: 325.55 | L75: 11408.156 | M75: 11294.536 | N75: 11294.536 | O75: {=VLOOKUP(C75,Calc!$B$4:$BF$291,_xlfn.XLOOKUP(F75&G75,$R$4:$R$9&$S$4:$S$9,$T$4:$T$9),FALSE)} -> 11294.536 | P75: =O75-N75 -> 4.6511559e-09 | V75: 46261 | W75: 24 | X75: 3 | Y75: NSW1-SA1-VIC1 | Z75: VIC1 | AA75: 12499.2 | AB75: -1902.209 | AC75: 10596.991 | AD75: -88.492935 | AE75: 0 | AF75: -88.492935 | AH75: 46261 | AI75: 8 | AJ75: 3 | AL75: NSW1-QLD1 | AM75: QLD1 | AN75: 54.588515 | AO75: 0 | AP75: 0 | AR75: 46261 | AS75: 6 | AT75: 3 | AU75: N-Q-MNSP1 | AV75: QLD1 | AW75: 0.77999373 | AX75: 0.16916666 | AY75: 0 | AZ75: 0 | BA75: 0
B76: 46261 | C76: 13 | D76: 3 | E76: NSW1-SA1-VIC1 | F76: NSW1-SA1 | G76: NSW1 | H76: 1565.8908 | I76: 0 | J76: -152.64 | K76: 463.88 | L76: 0 | M76: 0 | N76: 0 | O76: {=VLOOKUP(C76,Calc!$B$4:$BF$291,_xlfn.XLOOKUP(F76&G76,$R$4:$R$9&$S$4:$S$9,$T$4:$T$9),FALSE)} -> 0 | P76: =O76-N76 -> 0 | V76: 46261 | W76: 25 | X76: 3 | Y76: NSW1-SA1-VIC1 | Z76: NSW1 | AA76: 13375.943 | AB76: -422.0526 | AC76: 12953.89 | AD76: -0.543389 | AE76: 44.7231 | AF76: 44.179711 | AH76: 46261 | AI76: 8 | AJ76: 3 | AK76: NSW1-SA1-VIC1 | AL76: NSW1-SA1 | AM76: NSW1 | AN76: 3.5879432 | AO76: 0 | AP76: 0 | AR76: 46261 | AS76: 6 | AT76: 3 | AU76: NSW1-QLD1 | AV76: NSW1 | AW76: -54.642004 | AX76: 12.499167 | AY76: -69463.839 | AZ76: -69463.839 | BA76: 0
B77: 46261 | C77: 13 | D77: 3 | E77: NSW1-SA1-VIC1 | F77: NSW1-SA1 | G77: SA1 | H77: 1565.8908 | I77: 0 | J77: 311.24 | K77: -463.88 | L77: 0 | M77: 0 | N77: 0 | O77: {=VLOOKUP(C77,Calc!$B$4:$BF$291,_xlfn.XLOOKUP(F77&G77,$R$4:$R$9&$S$4:$S$9,$T$4:$T$9),FALSE)} -> 0 | P77: =O77-N77 -> 0 | V77: 46261 | W77: 25 | X77: 3 | Y77: NSW1-SA1-VIC1 | Z77: SA1 | AA77: 13375.943 | AB77: -422.0526 | AC77: 12953.89 | AD77: 0 | AE77: 38.670862 | AF77: 38.670862 | AH77: 46261 | AI77: 8 | AJ77: 3 | AK77: NSW1-SA1-VIC1 | AL77: NSW1-SA1 | AM77: SA1 | AN77: -4.2296099 | AO77: 0 | AP77: 477.54783 | AR77: 46261 | AS77: 6 | AT77: 3 | AU77: NSW1-QLD1 | AV77: QLD1 | AW77: 42.142837 | AX77: 12.499167 | AY77: 0 | AZ77: 0 | BA77: 0
B78: 46261 | C78: 13 | D78: 3 | E78: NSW1-SA1-VIC1 | F78: VIC1-NSW1 | G78: NSW1 | H78: 1565.8908 | I78: 0 | J78: -152.64 | K78: 187.64 | L78: 0 | M78: 0 | N78: 0 | O78: {=VLOOKUP(C78,Calc!$B$4:$BF$291,_xlfn.XLOOKUP(F78&G78,$R$4:$R$9&$S$4:$S$9,$T$4:$T$9),FALSE)} -> 0 | P78: =O78-N78 -> 0 | V78: 46261 | W78: 25 | X78: 3 | Y78: NSW1-SA1-VIC1 | Z78: VIC1 | AA78: 13375.943 | AB78: -422.0526 | AC78: 12953.89 | AD78: -89.673907 | AE78: 0 | AF78: -89.673907 | AH78: 46261 | AI78: 8 | AJ78: 3 | AL78: T-V-MNSP1 | AM78: TAS1 | AN78: 0 | AO78: 0 | AP78: 0 | AR78: 46261 | AS78: 6 | AT78: 3 | AU78: NSW1-SA1 | AV78: NSW1 | AW78: 6.433456 | AX78: 0.71833333 | AY78: 0 | AZ78: 0 | BA78: 0
B79: 46261 | C79: 13 | D79: 3 | E79: NSW1-SA1-VIC1 | F79: VIC1-NSW1 | G79: VIC1 | H79: 1565.8908 | I79: 32.832794 | J79: 35 | K79: -187.64 | L79: -6160.7454 | M79: -5270.0331 | N79: 0 | O79: {=VLOOKUP(C79,Calc!$B$4:$BF$291,_xlfn.XLOOKUP(F79&G79,$R$4:$R$9&$S$4:$S$9,$T$4:$T$9),FALSE)} -> 0 | P79: =O79-N79 -> 0 | V79: 46261 | W79: 26 | X79: 3 | Y79: NSW1-SA1-VIC1 | Z79: NSW1 | AA79: 14804.091 | AB79: -650.2013 | AC79: 14153.889 | AD79: -0.1655712 | AE79: 37.667672 | AF79: 37.502101 | AH79: 46261 | AI79: 8 | AJ79: 3 | AL79: T-V-MNSP1 | AM79: VIC1 | AN79: 0 | AO79: 0 | AP79: 0 | AR79: 46261 | AS79: 6 | AT79: 3 | AU79: NSW1-SA1 | AV79: SA1 | AW79: -7.1517893 | AX79: 0.71833333 | AY79: 0 | AZ79: 1083.0632 | BA79: 0
B80: 46261 | C80: 13 | D80: 3 | E80: NSW1-SA1-VIC1 | F80: V-SA | G80: SA1 | H80: 1565.8908 | I80: 0 | J80: 311.24 | K80: -276.24 | L80: 0 | M80: 0 | N80: 0 | O80: {=VLOOKUP(C80,Calc!$B$4:$BF$291,_xlfn.XLOOKUP(F80&G80,$R$4:$R$9&$S$4:$S$9,$T$4:$T$9),FALSE)} -> 0 | P80: =O80-N80 -> 0 | V80: 46261 | W80: 26 | X80: 3 | Y80: NSW1-SA1-VIC1 | Z80: SA1 | AA80: 14804.091 | AB80: -650.2013 | AC80: 14153.889 | AD80: -0.33526213 | AE80: 41.196322 | AF80: 40.86106 | AH80: 46261 | AI80: 8 | AJ80: 3 | AK80: NSW1-SA1-VIC1 | AL80: VIC1-NSW1 | AM80: NSW1 | AN80: 33.790897 | AO80: 0 | AP80: 0 | AR80: 46261 | AS80: 6 | AT80: 3 | AU80: T-V-MNSP1 | AV80: TAS1 | AW80: 0 | AX80: 0.84416666 | AY80: 0 | AZ80: 0 | BA80: 0
B81: 46261 | C81: 13 | D81: 3 | E81: NSW1-SA1-VIC1 | F81: V-SA | G81: VIC1 | H81: 1565.8908 | I81: 28.92881 | J81: 35 | K81: 276.24 | L81: 7991.2946 | M81: 6835.9239 | N81: 1565.8908 | O81: {=VLOOKUP(C81,Calc!$B$4:$BF$291,_xlfn.XLOOKUP(F81&G81,$R$4:$R$9&$S$4:$S$9,$T$4:$T$9),FALSE)} -> 1565.8908 | P81: =O81-N81 -> 5.9983449e-09 | V81: 46261 | W81: 26 | X81: 3 | Y81: NSW1-SA1-VIC1 | Z81: VIC1 | AA81: 14804.091 | AB81: -650.2013 | AC81: 14153.889 | AD81: -85.197328 | AE81: 0 | AF81: -85.197328 | AH81: 46261 | AI81: 8 | AJ81: 3 | AK81: NSW1-SA1-VIC1 | AL81: VIC1-NSW1 | AM81: VIC1 | AN81: -34.017563 | AO81: 17211.218 | AP81: 15704.834 | AR81: 46261 | AS81: 6 | AT81: 3 | AU81: T-V-MNSP1 | AV81: VIC1 | AW81: 0 | AX81: 0.84416666 | AY81: 0 | AZ81: 0 | BA81: 0
B82: 46261 | C82: 14 | D82: 3 | E82: NSW1-SA1-VIC1 | F82: NSW1-SA1 | G82: NSW1 | H82: 6786.1023 | I82: 0 | J82: -113.48 | K82: 474.03 | L82: 0 | M82: 0 | N82: 0 | O82: {=VLOOKUP(C82,Calc!$B$4:$BF$291,_xlfn.XLOOKUP(F82&G82,$R$4:$R$9&$S$4:$S$9,$T$4:$T$9),FALSE)} -> 0 | P82: =O82-N82 -> 0 | V82: 46261 | W82: 27 | X82: 3 | Y82: NSW1-SA1-VIC1 | Z82: NSW1 | AA82: 14594.671 | AB82: -886.92109 | AC82: 13707.75 | AD82: -0.6933258 | AE82: 35.924899 | AF82: 35.231573 | AH82: 46261 | AI82: 8 | AJ82: 3 | AK82: NSW1-SA1-VIC1 | AL82: V-SA | AM82: SA1 | AN82: 34.848641 | AO82: 0 | AP82: 0 | AR82: 46261 | AS82: 6 | AT82: 3 | AU82: VIC1-NSW1 | AV82: NSW1 | AW82: 19.07396 | AX82: 0.2325 | AY82: 0 | AZ82: 0 | BA82: 0
B83: 46261 | C83: 14 | D83: 3 | E83: NSW1-SA1-VIC1 | F83: NSW1-SA1 | G83: SA1 | H83: 6786.1023 | I83: 0 | J83: 360.55 | K83: -474.03 | L83: 0 | M83: 0 | N83: 0 | O83: {=VLOOKUP(C83,Calc!$B$4:$BF$291,_xlfn.XLOOKUP(F83&G83,$R$4:$R$9&$S$4:$S$9,$T$4:$T$9),FALSE)} -> 0 | P83: =O83-N83 -> 0 | V83: 46261 | W83: 27 | X83: 3 | Y83: NSW1-SA1-VIC1 | Z83: SA1 | AA83: 14594.671 | AB83: -886.92109 | AC83: 13707.75 | AD83: 0 | AE83: 41.975018 | AF83: 41.975018 | AH83: 46261 | AI83: 8 | AJ83: 3 | AK83: NSW1-SA1-VIC1 | AL83: V-SA | AM83: VIC1 | AN83: -41.198641 | AO83: 8375.5019 | AP83: 9404.3385 | AR83: 46261 | AS83: 6 | AT83: 3 | AU83: VIC1-NSW1 | AV83: VIC1 | AW83: -19.30646 | AX83: 0.2325 | AY83: 11694.311 | AZ83: 8861.2538 | BA83: 0
B84: 46261 | C84: 14 | D84: 3 | E84: NSW1-SA1-VIC1 | F84: VIC1-NSW1 | G84: NSW1 | H84: 6786.1023 | I84: 0 | J84: -113.48 | K84: 148.48 | L84: 0 | M84: 0 | N84: 0 | O84: {=VLOOKUP(C84,Calc!$B$4:$BF$291,_xlfn.XLOOKUP(F84&G84,$R$4:$R$9&$S$4:$S$9,$T$4:$T$9),FALSE)} -> 0 | P84: =O84-N84 -> 0 | V84: 46261 | W84: 27 | X84: 3 | Y84: NSW1-SA1-VIC1 | Z84: VIC1 | AA84: 14594.671 | AB84: -886.92109 | AC84: 13707.75 | AD84: -84.004924 | AE84: 0 | AF84: -84.004924 | AH84: 46261 | AI84: 9 | AJ84: 3 | AL84: NSW1-QLD1 | AM84: NSW1 | AN84: -64.139996 | AO84: -83067.494 | AP84: -83067.494 | AR84: 46261 | AS84: 6 | AT84: 3 | AU84: V-SA | AV84: SA1 | AW84: 33.36229 | AX84: 6.5808333 | AY84: 0 | AZ84: 0 | BA84: 0
B85: 46261 | C85: 14 | D85: 3 | E85: NSW1-SA1-VIC1 | F85: VIC1-NSW1 | G85: VIC1 | H85: 6786.1023 | I85: 28.521658 | J85: 35 | K85: -148.48 | L85: -4234.8958 | M85: -4075.8667 | N85: 0 | O85: {=VLOOKUP(C85,Calc!$B$4:$BF$291,_xlfn.XLOOKUP(F85&G85,$R$4:$R$9&$S$4:$S$9,$T$4:$T$9),FALSE)} -> 0 | P85: =O85-N85 -> 0 | V85: 46261 | W85: 28 | X85: 3 | Y85: NSW1-SA1-VIC1 | Z85: NSW1 | AA85: 15014.721 | AB85: -1059.8616 | AC85: 13954.859 | AD85: -0.9808772 | AE85: 37.104241 | AF85: 36.123364 | AH85: 46261 | AI85: 9 | AJ85: 3 | AL85: NSW1-QLD1 | AM85: QLD1 | AN85: 50.997496 | AO85: 0 | AP85: 0 | AR85: 46261 | AS85: 6 | AT85: 3 | AU85: V-SA | AV85: VIC1 | AW85: -39.943124 | AX85: 6.5808333 | AY85: 6805.3019 | AZ85: 8555.2964 | BA85: 0
B86: 46261 | C86: 14 | D86: 3 | E86: NSW1-SA1-VIC1 | F86: V-SA | G86: SA1 | H86: 6786.1023 | I86: 0 | J86: 360.55 | K86: -325.55 | L86: 0 | M86: 0 | N86: 0 | O86: {=VLOOKUP(C86,Calc!$B$4:$BF$291,_xlfn.XLOOKUP(F86&G86,$R$4:$R$9&$S$4:$S$9,$T$4:$T$9),FALSE)} -> 0 | P86: =O86-N86 -> 0 | V86: 46261 | W86: 28 | X86: 3 | Y86: NSW1-SA1-VIC1 | Z86: SA1 | AA86: 15014.721 | AB86: -1059.8616 | AC86: 13954.859 | AD86: 0 | AE86: 43.138791 | AF86: 43.138791 | AH86: 46261 | AI86: 9 | AJ86: 3 | AK86: NSW1-SA1-VIC1 | AL86: NSW1-SA1 | AM86: NSW1 | AN86: 2.5715148 | AO86: 0 | AP86: 0 | AR86: 46261 | AS86: 6 | AT86: 3 | AU86: V-S-MNSP1 | AV86: SA1 | AW86: 0 | AX86: 0 | AY86: 0 | AZ86: 0 | BA86: 0
B87: 46261 | C87: 14 | D87: 3 | E87: NSW1-SA1-VIC1 | F87: V-SA | G87: VIC1 | H87: 6786.1023 | I87: 34.666789 | J87: 35 | K87: 325.55 | L87: 11285.773 | M87: 10861.969 | N87: 6786.1023 | O87: {=VLOOKUP(C87,Calc!$B$4:$BF$291,_xlfn.XLOOKUP(F87&G87,$R$4:$R$9&$S$4:$S$9,$T$4:$T$9),FALSE)} -> 6786.1023 | P87: =O87-N87 -> 7.9980964e-09 | V87: 46261 | W87: 28 | X87: 3 | Y87: NSW1-SA1-VIC1 | Z87: VIC1 | AA87: 15014.721 | AB87: -1059.8616 | AC87: 13954.859 | AD87: -85.962155 | AE87: 0 | AF87: -85.962155 | AH87: 46261 | AI87: 9 | AJ87: 3 | AK87: NSW1-SA1-VIC1 | AL87: NSW1-SA1 | AM87: SA1 | AN87: -3.1865148 | AO87: 0 | AP87: 293.98653 | AR87: 46261 | AS87: 6 | AT87: 3 | AU87: V-S-MNSP1 | AV87: VIC1 | AW87: 0 | AX87: 0 | AY87: 0 | AZ87: 0 | BA87: 0
B88: 46261 | C88: 15 | D88: 3 | E88: NSW1-SA1-VIC1 | F88: NSW1-SA1 | G88: NSW1 | H88: 8150.5115 | I88: 0 | J88: -114.25 | K88: 483.9 | L88: 0 | M88: 0 | N88: 0 | O88: {=VLOOKUP(C88,Calc!$B$4:$BF$291,_xlfn.XLOOKUP(F88&G88,$R$4:$R$9&$S$4:$S$9,$T$4:$T$9),FALSE)} -> 0 | P88: =O88-N88 -> 0 | V88: 46261 | W88: 29 | X88: 3 | Y88: NSW1-SA1-VIC1 | Z88: NSW1 | AA88: 15761.64 | AB88: -720.45096 | AC88: 15041.189 | AD88: -1.7540398 | AE88: 40.336397 | AF88: 38.582358 | AH88: 46261 | AI88: 9 | AJ88: 3 | AL88: T-V-MNSP1 | AM88: TAS1 | AN88: 0 | AO88: 0 | AP88: 0 | AR88: 46261 | AS88: 7 | AT88: 3 | AU88: N-Q-MNSP1 | AV88: NSW1 | AW88: -1.007519 | AX88: 0.1625 | AY88: -1171.7639 | AZ88: -1171.7639 | BA88: 0
B89: 46261 | C89: 15 | D89: 3 | E89: NSW1-SA1-VIC1 | F89: NSW1-SA1 | G89: SA1 | H89: 8150.5115 | I89: 0 | J89: 369.65 | K89: -483.9 | L89: 0 | M89: 0 | N89: 0 | O89: {=VLOOKUP(C89,Calc!$B$4:$BF$291,_xlfn.XLOOKUP(F89&G89,$R$4:$R$9&$S$4:$S$9,$T$4:$T$9),FALSE)} -> 0 | P89: =O89-N89 -> 0 | V89: 46261 | W89: 29 | X89: 3 | Y89: NSW1-SA1-VIC1 | Z89: SA1 | AA89: 15761.64 | AB89: -720.45096 | AC89: 15041.189 | AD89: 0 | AE89: 39.3053 | AF89: 39.3053 | AH89: 46261 | AI89: 9 | AJ89: 3 | AL89: T-V-MNSP1 | AM89: VIC1 | AN89: 0 | AO89: 0 | AP89: 0 | AR89: 46261 | AS89: 7 | AT89: 3 | AU89: N-Q-MNSP1 | AV89: QLD1 | AW89: 0.845019 | AX89: 0.1625 | AY89: 0 | AZ89: 0 | BA89: 0
B90: 46261 | C90: 15 | D90: 3 | E90: NSW1-SA1-VIC1 | F90: VIC1-NSW1 | G90: NSW1 | H90: 8150.5115 | I90: 0 | J90: -114.25 | K90: 149.25 | L90: 0 | M90: 0 | N90: 0 | O90: {=VLOOKUP(C90,Calc!$B$4:$BF$291,_xlfn.XLOOKUP(F90&G90,$R$4:$R$9&$S$4:$S$9,$T$4:$T$9),FALSE)} -> 0 | P90: =O90-N90 -> 0 | V90: 46261 | W90: 29 | X90: 3 | Y90: NSW1-SA1-VIC1 | Z90: VIC1 | AA90: 15761.64 | AB90: -720.45096 | AC90: 15041.189 | AD90: -84.484324 | AE90: 0 | AF90: -84.484324 | AH90: 46261 | AI90: 9 | AJ90: 3 | AK90: NSW1-SA1-VIC1 | AL90: VIC1-NSW1 | AM90: NSW1 | AN90: 27.893165 | AO90: 0 | AP90: 0 | AR90: 46261 | AS90: 7 | AT90: 3 | AU90: NSW1-QLD1 | AV90: NSW1 | AW90: -63.152335 | AX90: 11.546667 | AY90: -72371.48 | AZ90: -72371.48 | BA90: 0
B91: 46261 | C91: 15 | D91: 3 | E91: NSW1-SA1-VIC1 | F91: VIC1-NSW1 | G91: VIC1 | H91: 8150.5115 | I91: 27.188443 | J91: 35 | K91: -149.25 | L91: -4057.8752 | M91: -3934.8641 | N91: 0 | O91: {=VLOOKUP(C91,Calc!$B$4:$BF$291,_xlfn.XLOOKUP(F91&G91,$R$4:$R$9&$S$4:$S$9,$T$4:$T$9),FALSE)} -> 0 | P91: =O91-N91 -> 0 | V91: 46261 | W91: 30 | X91: 3 | Y91: NSW1-SA1-VIC1 | Z91: NSW1 | AA91: 19404.188 | AB91: -460.51931 | AC91: 18943.669 | AD91: -2.1844716 | AE91: 43.042362 | AF91: 40.857891 | AH91: 46261 | AI91: 9 | AJ91: 3 | AK91: NSW1-SA1-VIC1 | AL91: VIC1-NSW1 | AM91: VIC1 | AN91: -28.136499 | AO91: 14019.031 | AP91: 12961.805 | AR91: 46261 | AS91: 7 | AT91: 3 | AU91: NSW1-QLD1 | AV91: QLD1 | AW91: 51.605668 | AX91: 11.546667 | AY91: 0 | AZ91: 0 | BA91: 0
B92: 46261 | C92: 15 | D92: 3 | E92: NSW1-SA1-VIC1 | F92: V-SA | G92: SA1 | H92: 8150.5115 | I92: 0 | J92: 369.65 | K92: -334.65 | L92: 0 | M92: 0 | N92: 0 | O92: {=VLOOKUP(C92,Calc!$B$4:$BF$291,_xlfn.XLOOKUP(F92&G92,$R$4:$R$9&$S$4:$S$9,$T$4:$T$9),FALSE)} -> 0 | P92: =O92-N92 -> 0 | V92: 46261 | W92: 30 | X92: 3 | Y92: NSW1-SA1-VIC1 | Z92: SA1 | AA92: 19404.188 | AB92: -460.51931 | AC92: 18943.669 | AD92: 0 | AE92: 39.478828 | AF92: 39.478828 | AH92: 46261 | AI92: 9 | AJ92: 3 | AK92: NSW1-SA1-VIC1 | AL92: V-SA | AM92: SA1 | AN92: 37.164783 | AO92: 0 | AP92: 0 | AR92: 46261 | AS92: 7 | AT92: 3 | AU92: NSW1-SA1 | AV92: NSW1 | AW92: 5.7813516 | AX92: 0.7675 | AY92: 0 | AZ92: 0 | BA92: 0
B93: 46261 | C93: 15 | D93: 3 | E93: NSW1-SA1-VIC1 | F93: V-SA | G93: VIC1 | H93: 8150.5115 | I93: 37.242452 | J93: 35 | K93: 334.65 | L93: 12463.187 | M93: 12085.376 | N93: 8150.5115 | O93: {=VLOOKUP(C93,Calc!$B$4:$BF$291,_xlfn.XLOOKUP(F93&G93,$R$4:$R$9&$S$4:$S$9,$T$4:$T$9),FALSE)} -> 8150.5115 | P93: =O93-N93 -> 5.0004019e-09 | V93: 46261 | W93: 30 | X93: 3 | Y93: NSW1-SA1-VIC1 | Z93: VIC1 | AA93: 19404.188 | AB93: -460.51931 | AC93: 18943.669 | AD93: -86.834219 | AE93: 0 | AF93: -86.834219 | AH93: 46261 | AI93: 9 | AJ93: 3 | AK93: NSW1-SA1-VIC1 | AL93: V-SA | AM93: VIC1 | AN93: -43.29145 | AO93: 9288.7273 | AP93: 10051.966 | AR93: 46261 | AS93: 7 | AT93: 3 | AU93: NSW1-SA1 | AV93: SA1 | AW93: -6.5488516 | AX93: 0.7675 | AY93: 0 | AZ93: 962.23547 | BA93: 0
B94: 46261 | C94: 16 | D94: 3 | E94: NSW1-SA1-VIC1 | F94: NSW1-SA1 | G94: NSW1 | H94: 8709.435 | I94: 0 | J94: -97.9 | K94: 467.55 | L94: 0 | M94: 0 | N94: 0 | O94: {=VLOOKUP(C94,Calc!$B$4:$BF$291,_xlfn.XLOOKUP(F94&G94,$R$4:$R$9&$S$4:$S$9,$T$4:$T$9),FALSE)} -> 0 | P94: =O94-N94 -> 0 | V94: 46261 | W94: 31 | X94: 3 | Y94: NSW1-SA1-VIC1 | Z94: NSW1 | AA94: 19826.079 | AB94: -573.90917 | AC94: 19252.17 | AD94: -3.1860656 | AE94: 44.188545 | AF94: 41.002479 | AH94: 46261 | AI94: 10 | AJ94: 3 | AL94: NSW1-QLD1 | AM94: NSW1 | AN94: -64.397564 | AO94: -73006.003 | AP94: -73006.003 | AR94: 46261 | AS94: 7 | AT94: 3 | AU94: T-V-MNSP1 | AV94: TAS1 | AW94: 0 | AX94: 0.84166666 | AY94: 0 | AZ94: 0 | BA94: 0
B95: 46261 | C95: 16 | D95: 3 | E95: NSW1-SA1-VIC1 | F95: NSW1-SA1 | G95: SA1 | H95: 8709.435 | I95: 0 | J95: 369.65 | K95: -467.55 | L95: 0 | M95: 0 | N95: 0 | O95: {=VLOOKUP(C95,Calc!$B$4:$BF$291,_xlfn.XLOOKUP(F95&G95,$R$4:$R$9&$S$4:$S$9,$T$4:$T$9),FALSE)} -> 0 | P95: =O95-N95 -> 0 | V95: 46261 | W95: 31 | X95: 3 | Y95: NSW1-SA1-VIC1 | Z95: SA1 | AA95: 19826.079 | AB95: -573.90917 | AC95: 19252.17 | AD95: 0 | AE95: 40.51945 | AF95: 40.51945 | AH95: 46261 | AI95: 10 | AJ95: 3 | AL95: NSW1-QLD1 | AM95: QLD1 | AN95: 51.959231 | AO95: 0 | AP95: 0 | AR95: 46261 | AS95: 7 | AT95: 3 | AU95: T-V-MNSP1 | AV95: VIC1 | AW95: 0 | AX95: 0.84166666 | AY95: 0 | AZ95: 0 | BA95: 0
B96: 46261 | C96: 16 | D96: 3 | E96: NSW1-SA1-VIC1 | F96: VIC1-NSW1 | G96: NSW1 | H96: 8709.435 | I96: 0 | J96: -97.9 | K96: 132.9 | L96: 0 | M96: 0 | N96: 0 | O96: {=VLOOKUP(C96,Calc!$B$4:$BF$291,_xlfn.XLOOKUP(F96&G96,$R$4:$R$9&$S$4:$S$9,$T$4:$T$9),FALSE)} -> 0 | P96: =O96-N96 -> 0 | V96: 46261 | W96: 31 | X96: 3 | Y96: NSW1-SA1-VIC1 | Z96: VIC1 | AA96: 19826.079 | AB96: -573.90917 | AC96: 19252.17 | AD96: -88.155263 | AE96: 0 | AF96: -88.155263 | AH96: 46261 | AI96: 10 | AJ96: 3 | AK96: NSW1-SA1-VIC1 | AL96: NSW1-SA1 | AM96: NSW1 | AN96: 1.9926468 | AO96: 0 | AP96: 0 | AR96: 46261 | AS96: 7 | AT96: 3 | AU96: VIC1-NSW1 | AV96: NSW1 | AW96: 28.625797 | AX96: 0.22916666 | AY96: 0 | AZ96: 0 | BA96: 0
B97: 46261 | C97: 16 | D97: 3 | E97: NSW1-SA1-VIC1 | F97: VIC1-NSW1 | G97: VIC1 | H97: 8709.435 | I97: 26.778525 | J97: 35 | K97: -132.9 | L97: -3558.866 | M97: -3459.0366 | N97: 0 | O97: {=VLOOKUP(C97,Calc!$B$4:$BF$291,_xlfn.XLOOKUP(F97&G97,$R$4:$R$9&$S$4:$S$9,$T$4:$T$9),FALSE)} -> 0 | P97: =O97-N97 -> 0 | V97: 46261 | W97: 32 | X97: 3 | Y97: NSW1-SA1-VIC1 | Z97: NSW1 | AA97: 15104.293 | AB97: -432.15816 | AC97: 14672.135 | AD97: -2.9589694 | AE97: 40.381957 | AF97: 37.422988 | AH97: 46261 | AI97: 10 | AJ97: 3 | AK97: NSW1-SA1-VIC1 | AL97: NSW1-SA1 | AM97: SA1 | AN97: -2.6268135 | AO97: 0 | AP97: 49.225805 | AR97: 46261 | AS97: 7 | AT97: 3 | AU97: VIC1-NSW1 | AV97: VIC1 | AW97: -28.854964 | AX97: 0.22916666 | AY97: 15799.287 | AZ97: 13302.975 | BA97: 0
B98: 46261 | C98: 16 | D98: 3 | E98: NSW1-SA1-VIC1 | F98: V-SA | G98: SA1 | H98: 8709.435 | I98: 0 | J98: 369.65 | K98: -334.65 | L98: 0 | M98: 0 | N98: 0 | O98: {=VLOOKUP(C98,Calc!$B$4:$BF$291,_xlfn.XLOOKUP(F98&G98,$R$4:$R$9&$S$4:$S$9,$T$4:$T$9),FALSE)} -> 0 | P98: =O98-N98 -> 0 | V98: 46261 | W98: 32 | X98: 3 | Y98: NSW1-SA1-VIC1 | Z98: SA1 | AA98: 15104.293 | AB98: -432.15816 | AC98: 14672.135 | AD98: 0 | AE98: 41.508078 | AF98: 41.508078 | AH98: 46261 | AI98: 10 | AJ98: 3 | AL98: T-V-MNSP1 | AM98: TAS1 | AN98: -35.896594 | AO98: -11344.235 | AP98: -11344.235 | AR98: 46261 | AS98: 7 | AT98: 3 | AU98: V-SA | AV98: SA1 | AW98: 30.649083 | AX98: 6.9525 | AY98: 0 | AZ98: 0 | BA98: 0
B99: 46261 | C99: 16 | D99: 3 | E99: NSW1-SA1-VIC1 | F99: V-SA | G99: VIC1 | H99: 8709.435 | I99: 37.411204 | J99: 35 | K99: 334.65 | L99: 12519.659 | M99: 12168.472 | N99: 8709.435 | O99: {=VLOOKUP(C99,Calc!$B$4:$BF$291,_xlfn.XLOOKUP(F99&G99,$R$4:$R$9&$S$4:$S$9,$T$4:$T$9),FALSE)} -> 8709.435 | P99: =O99-N99 -> 6.6629582e-09 | V99: 46261 | W99: 32 | X99: 3 | Y99: NSW1-SA1-VIC1 | Z99: VIC1 | AA99: 15104.293 | AB99: -432.15816 | AC99: 14672.135 | AD99: -85.332732 | AE99: 0 | AF99: -85.332732 | AH99: 46261 | AI99: 10 | AJ99: 3 | AL99: T-V-MNSP1 | AM99: VIC1 | AN99: 35.111594 | AO99: 0 | AP99: 0 | AR99: 46261 | AS99: 7 | AT99: 3 | AU99: V-SA | AV99: VIC1 | AW99: -37.601583 | AX99: 6.9525 | AY99: 6175.1033 | AZ99: 7709.1801 | BA99: 0
B100: 46261 | C100: 17 | D100: 3 | E100: NSW1-SA1-VIC1 | F100: NSW1-SA1 | G100: NSW1 | H100: 9266.7703 | I100: 0 | J100: -114.37 | K100: 484.04 | L100: 0 | M100: 0 | N100: 0 | O100: {=VLOOKUP(C100,Calc!$B$4:$BF$291,_xlfn.XLOOKUP(F100&G100,$R$4:$R$9&$S$4:$S$9,$T$4:$T$9),FALSE)} -> 0 | P100: =O100-N100 -> 0 | V100: 46261 | W100: 33 | X100: 3 | Y100: NSW1-SA1-VIC1 | Z100: NSW1 | AA100: 20952.398 | AB100: -431.30006 | AC100: 20521.097 | AD100: -3.1459174 | AE100: 40.297187 | AF100: 37.15127 | AH100: 46261 | AI100: 10 | AJ100: 3 | AK100: NSW1-SA1-VIC1 | AL100: VIC1-NSW1 | AM100: NSW1 | AN100: 23.944975 | AO100: 0 | AP100: 0 | AR100: 46261 | AS100: 7 | AT100: 3 | AU100: V-S-MNSP1 | AV100: SA1 | AW100: 0 | AX100: 0 | AY100: 0 | AZ100: 0 | BA100: 0
B101: 46261 | C101: 17 | D101: 3 | E101: NSW1-SA1-VIC1 | F101: NSW1-SA1 | G101: SA1 | H101: 9266.7703 | I101: 0 | J101: 369.67 | K101: -484.04 | L101: 0 | M101: 0 | N101: 0 | O101: {=VLOOKUP(C101,Calc!$B$4:$BF$291,_xlfn.XLOOKUP(F101&G101,$R$4:$R$9&$S$4:$S$9,$T$4:$T$9),FALSE)} -> 0 | P101: =O101-N101 -> 0 | V101: 46261 | W101: 33 | X101: 3 | Y101: NSW1-SA1-VIC1 | Z101: SA1 | AA101: 20952.398 | AB101: -431.30006 | AC101: 20521.097 | AD101: 0 | AE101: 42.602769 | AF101: 42.602769 | AH101: 46261 | AI101: 10 | AJ101: 3 | AK101: NSW1-SA1-VIC1 | AL101: VIC1-NSW1 | AM101: VIC1 | AN101: -24.212475 | AO101: 11935.134 | AP101: 11125.051 | AR101: 46261 | AS101: 7 | AT101: 3 | AU101: V-S-MNSP1 | AV101: VIC1 | AW101: 0 | AX101: 0 | AY101: 0 | AZ101: 0 | BA101: 0
...
