Workbook

Sheet Contents
B2: Quarterly Energy Dynamics - Q3 2026
B3: Figures from the report covering 1 July to 30 September 2026
B5: This worksheet contains the figures and corresponding data from the report: | C5: Figure content:
B6: Figure 1 Warmer than long-term average temperatures across most parts of Australia | C6: Q3 2026 mean temperature deciles for Australia
B7: Figure 2 Lower heating requirements across all capital cities | C7: Percentage change in quarterly HDDs by capital city – Q3 2026 vs Q3 2025
B8: Figure 3 Underlying demand increased despite warmer conditions | C8: NEM average underlying and operational demand – Q3s
B9: Figure 4 Higher daytime operational demand as demand shifts away from the evening peak | C9: Average changes in NEM demands and distributed PV output by time of day – Q3 2026 vs Q3 2025
B10: Figure 5 Operational demand decreased in all regions except Victoria | C10: Changes in average demand components by region – Q3 2026 vs Q3 2025
B11: Figure 6 Higher mid-day demand during cheap or free electricity hours | C11: Average total demand by time of day – Q3 2026 vs Q3 2025
B12: Figure 7 Maximum operational demand lower in mainland regions except Victoria | C12: Maximum operational demand for mainland regions – Q3s
B13: Figure 8 Queensland recorded new all-time minimum operational demand, while South Australia set new Q3 low | C13: Minimum operational demand for mainland regions – Q3s
B14: Figure 9 CER solar capacity increased with growth in installations | C14: Cumulative CER solar capacity and installations by region – end of Q3
B15: Figure 10 Continued growth in CER battery capacity and installations across the NEM | C15: Cumulative CER battery capacity and installations by region
B16: Figure 11 Households with PV and battery shift to net exports later and reduce net imports during peaks | C16: Average household PV and battery net kW in Q3 2026 – NEM
... B129: Figure 124 Cumulative storage levels in Q3 2026 | C129: Gas storage levels by facility over time

Sheet Figure 1
B1: Go to Contents
B3: =Contents!B2 -> Quarterly Energy Dynamics - Q3 2026
B4: =Contents!B3 -> Figures from the report covering 1 July to 30 September 2026
B6: =Contents!B6 -> Figure 1 Warmer than long-term average temperatures across most parts of Australia
B7: Q3 2026 mean temperature deciles for Australia
B29: Source: Bureau of Meteorology (BOM)

Sheet Figure 2
B1: Go to Contents
B3: =Contents!B2 -> Quarterly Energy Dynamics - Q3 2026
B4: =Contents!B3 -> Figures from the report covering 1 July to 30 September 2026
B6: =Contents!B7 -> Figure 2 Lower heating requirements across all capital cities
B7: =Contents!$C7 -> Percentage change in quarterly HDDs by capital city – Q3 2026 vs Q3 2025
B8: %
B21: Source: Bureau of Meteorology (BOM)

Sheet Figure 3
B1: Go to Contents
B3: =Contents!B2 -> Quarterly Energy Dynamics - Q3 2026
B4: =Contents!B3 -> Figures from the report covering 1 July to 30 September 2026
B6: =Contents!B8 -> Figure 3 Underlying demand increased despite warmer conditions
B7: =Contents!$C8 -> NEM average underlying and operational demand – Q3s
B8: MW
K10: Operational demand | L10: Distributed PV | M10: Underlying demand
I11: 2018 | J11: Q3 | K11: 22518.191 | L11: 875.42456 | M11: 23393.615
I12: 2019 | J12: Q3 | K12: 22203.975 | L12: 1077.7496 | M12: 23281.725
I13: 2020 | J13: Q3 | K13: 21891.209 | L13: 1295.489 | M13: 23186.698
I14: 2021 | J14: Q3 | K14: 21854.404 | L14: 1636.8195 | M14: 23491.223
I15: 2022 | J15: Q3 | K15: 22413.563 | L15: 1752.2816 | M15: 24165.844
I16: 2023 | J16: Q3 | K16: 21270.107 | L16: 2287.2947 | M16: 23557.402
I17: 2024 | J17: Q3 | K17: 21824.961 | L17: 2539.2399 | M17: 24364.201
I18: 2025 | J18: Q3 | K18: 22322.997 | L18: 2830.9751 | M18: 25153.972
I19: 2026 | J19: Q3 | K19: 22268.481 | L19: 3202.6629 | M19: 25471.144

Sheet Figure 4
B1: Go to Contents
B3: =Contents!B2 -> Quarterly Energy Dynamics - Q3 2026
B4: =Contents!B3 -> Figures from the report covering 1 July to 30 September 2026
B6: =Contents!B9 -> Figure 4 Higher daytime operational demand as demand shifts away from the evening peak
B7: =Contents!$C9 -> Average changes in NEM demands and distributed PV output by time of day – Q3 2026 vs Q3 2025
B8: MW
H10: NEM | I10: 0.020833333 | J10: 0.041666667 | K10: 0.0625 | L10: 0.083333333 | M10: 0.10416667 | N10: 0.125 | O10: 0.14583333 | P10: 0.16666667 | Q10: 0.1875 | R10: 0.20833333 | S10: 0.22916667 | T10: 0.25 | U10: 0.27083333 | V10: 0.29166667 | W10: 0.3125 | X10: 0.33333333 | Y10: 0.35416667 | Z10: 0.375 | AA10: 0.39583333 | AB10: 0.41666667 | AC10: 0.4375 | AD10: 0.45833333 | AE10: 0.47916667 | AF10: 0.5 | AG10: 0.52083333 | AH10: 0.54166667 | AI10: 0.5625 | AJ10: 0.58333333 | AK10: 0.60416667 | AL10: 0.625 | AM10: 0.64583333 | AN10: 0.66666667 | AO10: 0.6875 | AP10: 0.70833333 | AQ10: 0.72916667 | AR10: 0.75 | AS10: 0.77083333 | AT10: 0.79166667 | AU10: 0.8125 | AV10: 0.83333333 | AW10: 0.85416667 | AX10: 0.875 | AY10: 0.89583333 | AZ10: 0.91666667 | BA10: 0.9375 | BB10: 0.95833333 | BC10: 0.97916667 | BD10: 0
H11: Underlying demand | I11: 156.4784 | J11: 160.3804 | K11: 120.4456 | L11: 128.9564 | M11: 140.9129 | N11: 156.9673 | O11: 157.7065 | P11: 124.3478 | Q11: 78.1413 | R11: 87.1197 | S11: 72.8044 | T11: 32.138285 | U11: -78.686646 | V11: -69.702893 | W11: 59.39282 | X11: 257.76326 | Y11: 462.0289 | Z11: 704.87545 | AA11: 955.82137 | AB11: 1273.953 | AC11: 1457.1375 | AD11: 1490.5983 | AE11: 1891.9488 | AF11: 1895.9054 | AG11: 1876.83 | AH11: 1757.0273 | AI11: 1591.8049 | AJ11: 1376.3269 | AK11: 1026.3409 | AL11: 813.27469 | AM11: 590.25648 | AN11: 355.64932 | AO11: 93.916081 | AP11: -153.68406 | AQ11: -382.45783 | AR11: -556.51453 | AS11: -655.31716 | AT11: -673.4187 | AU11: -668.2936 | AV11: -616.348 | AW11: -594.7283 | AX11: -529.7175 | AY11: -391.8806 | AZ11: -264.2718 | BA11: -185.7283 | BB11: -153.7609 | BC11: -87.652 | BD11: -59.2283
H12: Distributed PV impact | I12: 0 | J12: 0 | K12: 0 | L12: 0 | M12: 0 | N12: 0 | O12: 0 | P12: 0 | Q12: 0 | R12: 0 | S12: 0 | T12: -1.0296848 | U12: -2.4980542 | V12: -32.112207 | W12: -126.32762 | X12: -278.04586 | Y12: -439.4202 | Z12: -622.69075 | AA12: -790.09307 | AB12: -955.22487 | AC12: -1101.2462 | AD12: -1191.0331 | AE12: -1301.0141 | AF12: -1321.8292 | AG12: -1401.5366 | AH12: -1420.2555 | AI12: -1408.8809 | AJ12: -1326.9682 | AK12: -1173.4277 | AL12: -1001.0463 | AM12: -791.76738 | AN12: -579.62752 | AO12: -356.26388 | AP12: -168.15284 | AQ12: -43.335565 | AR12: -8.3876739 | AS12: -0.4655434 | AT12: 0.0816956 | AU12: 0 | AV12: 0 | AW12: 0 | AX12: 0 | AY12: 0 | AZ12: 0 | BA12: 0 | BB12: 0 | BC12: 0 | BD12: 0
H13: Operational demand | I13: 156.4784 | J13: 160.3804 | K13: 120.4456 | L13: 128.9564 | M13: 140.9129 | N13: 156.9673 | O13: 157.7065 | P13: 124.3478 | Q13: 78.1413 | R13: 87.1197 | S13: 72.8044 | T13: 31.1086 | U13: -81.1847 | V13: -101.8151 | W13: -66.9348 | X13: -20.2826 | Y13: 22.6087 | Z13: 82.1847 | AA13: 165.7283 | AB13: 318.7281 | AC13: 355.8913 | AD13: 299.5652 | AE13: 590.9347 | AF13: 574.0762 | AG13: 475.2934 | AH13: 336.7718 | AI13: 182.924 | AJ13: 49.3587 | AK13: -147.0868 | AL13: -187.7716 | AM13: -201.5109 | AN13: -223.9782 | AO13: -262.3478 | AP13: -321.8369 | AQ13: -425.7934 | AR13: -564.9022 | AS13: -655.7827 | AT13: -673.337 | AU13: -668.2936 | AV13: -616.348 | AW13: -594.7283 | AX13: -529.7175 | AY13: -391.8806 | AZ13: -264.2718 | BA13: -185.7283 | BB13: -153.7609 | BC13: -87.652 | BD13: -59.2283

Sheet Figure 5
B1: Go to Contents
B3: =Contents!B2 -> Quarterly Energy Dynamics - Q3 2026
B4: =Contents!B3 -> Figures from the report covering 1 July to 30 September 2026
B6: =Contents!B10 -> Figure 5 Operational demand decreased in all regions except Victoria
B7: =Contents!$C10 -> Changes in average demand components by region – Q3 2026 vs Q3 2025
B8: MW
N10: QLD | O10: NSW | P10: VIC | Q10: SA | R10: TAS
M11: Operational demand | N11: -48.141984 | O11: -201.51698 | P11: 286.0514 | Q11: -65.608696 | R11: -25.29914
M12: Underlying demand | N12: 60.241179 | O12: -21.072983 | P12: 343.41698 | Q12: -47.485516 | R12: -17.927253
M13: Distributed PV impact | N13: -108.38316 | O13: -180.444 | P13: -57.365578 | Q13: -18.12318 | R13: -7.371887

Sheet Figure 6
B1: Go to Contents
B3: =Contents!B2 -> Quarterly Energy Dynamics - Q3 2026
B4: =Contents!B3 -> Figures from the report covering 1 July to 30 September 2026
B6: =Contents!B11 -> Figure 6 Higher mid-day demand during cheap or free electricity hours
B7: =Contents!$C11 -> Average total demand by time of day – Q3 2026 vs Q3 2025
B8: MW
H10: Year | I10: Quarter | J10: 0 | K10: 0.0034722222 | L10: 0.0069444444 | M10: 0.010416667 | N10: 0.013888889 | O10: 0.017361111 | P10: 0.020833333 | Q10: 0.024305556 | R10: 0.027777778 | S10: 0.03125 | T10: 0.034722222 | U10: 0.038194444 | V10: 0.041666667 | W10: 0.045138889 | X10: 0.048611111 | Y10: 0.052083333 | Z10: 0.055555556 | AA10: 0.059027778 | AB10: 0.0625 | AC10: 0.065972222 | AD10: 0.069444444 | AE10: 0.072916667 | AF10: 0.076388889 | AG10: 0.079861111 | AH10: 0.083333333 | AI10: 0.086805556 | AJ10: 0.090277778 | AK10: 0.09375 | AL10: 0.097222222 | AM10: 0.10069444 | AN10: 0.10416667 | AO10: 0.10763889 | AP10: 0.11111111 | AQ10: 0.11458333 | AR10: 0.11805556 | AS10: 0.12152778 | AT10: 0.125 | AU10: 0.12847222 | AV10: 0.13194444 | AW10: 0.13541667 | AX10: 0.13888889 | AY10: 0.14236111 | AZ10: 0.14583333 | BA10: 0.14930556 | BB10: 0.15277778 | BC10: 0.15625 | BD10: 0.15972222 | BE10: 0.16319444 | BF10: 0.16666667 | BG10: 0.17013889 | BH10: 0.17361111 | BI10: 0.17708333 | BJ10: 0.18055556 | BK10: 0.18402778 | BL10: 0.1875 | BM10: 0.19097222 | BN10: 0.19444444 | BO10: 0.19791667 | BP10: 0.20138889 | BQ10: 0.20486111 | BR10: 0.20833333 | BS10: 0.21180556 | BT10: 0.21527778 | BU10: 0.21875 | BV10: 0.22222222 | BW10: 0.22569444 | BX10: 0.22916667 | BY10: 0.23263889 | BZ10: 0.23611111 | CA10: 0.23958333 | CB10: 0.24305556 | CC10: 0.24652778 | CD10: 0.25 | CE10: 0.25347222 | CF10: 0.25694444 | CG10: 0.26041667 | CH10: 0.26388889 | CI10: 0.26736111 | CJ10: 0.27083333 | CK10: 0.27430556 | CL10: 0.27777778 | CM10: 0.28125 | CN10: 0.28472222 | CO10: 0.28819444 | CP10: 0.29166667 | CQ10: 0.29513889 | CR10: 0.29861111 | CS10: 0.30208333 | CT10: 0.30555556 | CU10: 0.30902778 | CV10: 0.3125 | CW10: 0.31597222 | CX10: 0.31944444 | CY10: 0.32291667 | CZ10: 0.32638889 | DA10: 0.32986111 | DB10: 0.33333333 | DC10: 0.33680556 | DD10: 0.34027778 | DE10: 0.34375 | DF10: 0.34722222 | DG10: 0.35069444 | DH10: 0.35416667 | DI10: 0.35763889 | DJ10: 0.36111111 | DK10: 0.36458333 | DL10: 0.36805556 | DM10: 0.37152778 | DN10: 0.375 | DO10: 0.37847222 | DP10: 0.38194444 | DQ10: 0.38541667 | DR10: 0.38888889 | DS10: 0.39236111 | DT10: 0.39583333 | DU10: 0.39930556 | DV10: 0.40277778 | DW10: 0.40625 | DX10: 0.40972222 | DY10: 0.41319444 | DZ10: 0.41666667 | EA10: 0.42013889 | EB10: 0.42361111 | EC10: 0.42708333 | ED10: 0.43055556 | EE10: 0.43402778 | EF10: 0.4375 | EG10: 0.44097222 | EH10: 0.44444444 | EI10: 0.44791667 | EJ10: 0.45138889 | EK10: 0.45486111 | EL10: 0.45833333 | EM10: 0.46180556 | EN10: 0.46527778 | EO10: 0.46875 | EP10: 0.47222222 | EQ10: 0.47569444 | ER10: 0.47916667 | ES10: 0.48263889 | ET10: 0.48611111 | EU10: 0.48958333 | EV10: 0.49305556 | EW10: 0.49652778 | EX10: 0.5 | EY10: 0.50347222 | EZ10: 0.50694444 | FA10: 0.51041667 | FB10: 0.51388889 | FC10: 0.51736111 | FD10: 0.52083333 | FE10: 0.52430556 | FF10: 0.52777778 | FG10: 0.53125 | FH10: 0.53472222 | FI10: 0.53819444 | FJ10: 0.54166667 | FK10: 0.54513889 | FL10: 0.54861111 | FM10: 0.55208333 | FN10: 0.55555556 | FO10: 0.55902778 | FP10: 0.5625 | FQ10: 0.56597222 | FR10: 0.56944444 | FS10: 0.57291667 | FT10: 0.57638889 | FU10: 0.57986111 | FV10: 0.58333333 | FW10: 0.58680556 | FX10: 0.59027778 | FY10: 0.59375 | FZ10: 0.59722222 | GA10: 0.60069444 | GB10: 0.60416667 | GC10: 0.60763889 | GD10: 0.61111111 | GE10: 0.61458333 | GF10: 0.61805556 | GG10: 0.62152778 | GH10: 0.625 | GI10: 0.62847222 | GJ10: 0.63194444 | GK10: 0.63541667 | GL10: 0.63888889 | GM10: 0.64236111 | GN10: 0.64583333 | GO10: 0.64930556 | GP10: 0.65277778 | GQ10: 0.65625 | GR10: 0.65972222 | GS10: 0.66319444 | GT10: 0.66666667 | GU10: 0.67013889 | GV10: 0.67361111 | GW10: 0.67708333 | GX10: 0.68055556 | GY10: 0.68402778 | GZ10: 0.6875 | HA10: 0.69097222 | HB10: 0.69444444 | HC10: 0.69791667 | HD10: 0.70138889 | HE10: 0.70486111 | HF10: 0.70833333 | HG10: 0.71180556 | HH10: 0.71527778 | HI10: 0.71875 | HJ10: 0.72222222 | HK10: 0.72569444 | HL10: 0.72916667 | HM10: 0.73263889 | HN10: 0.73611111 | HO10: 0.73958333 | HP10: 0.74305556 | HQ10: 0.74652778 | HR10: 0.75 | HS10: 0.75347222 | HT10: 0.75694444 | HU10: 0.76041667 | HV10: 0.76388889 | HW10: 0.76736111 | HX10: 0.77083333 | HY10: 0.77430556 | HZ10: 0.77777778 | IA10: 0.78125 | IB10: 0.78472222 | IC10: 0.78819444 | ID10: 0.79166667 | IE10: 0.79513889 | IF10: 0.79861111 | IG10: 0.80208333 | IH10: 0.80555556 | II10: 0.80902778 | IJ10: 0.8125 | IK10: 0.81597222 | IL10: 0.81944444 | IM10: 0.82291667 | IN10: 0.82638889 | IO10: 0.82986111 | IP10: 0.83333333 | IQ10: 0.83680556 | IR10: 0.84027778 | IS10: 0.84375 | IT10: 0.84722222 | IU10: 0.85069444 | IV10: 0.85416667 | IW10: 0.85763889 | IX10: 0.86111111 | IY10: 0.86458333 | IZ10: 0.86805556 | JA10: 0.87152778 | JB10: 0.875 | JC10: 0.87847222 | JD10: 0.88194444 | JE10: 0.88541667 | JF10: 0.88888889 | JG10: 0.89236111 | JH10: 0.89583333 | JI10: 0.89930556 | JJ10: 0.90277778 | JK10: 0.90625 | JL10: 0.90972222 | JM10: 0.91319444 | JN10: 0.91666667 | JO10: 0.92013889 | JP10: 0.92361111 | JQ10: 0.92708333 | JR10: 0.93055556 | JS10: 0.93402778 | JT10: 0.9375 | JU10: 0.94097222 | JV10: 0.94444444 | JW10: 0.94791667 | JX10: 0.95138889 | JY10: 0.95486111 | JZ10: 0.95833333 | KA10: 0.96180556 | KB10: 0.96527778 | KC10: 0.96875 | KD10: 0.97222222 | KE10: 0.97569444 | KF10: 0.97916667 | KG10: 0.98263889 | KH10: 0.98611111 | KI10: 0.98958333 | KJ10: 0.99305556 | KK10: 0.99652778
H11: 2025 | I11: 3 | J11: 21972.541 | K11: 21954.745 | L11: 21837.293 | M11: 21745.48 | N11: 21650.933 | O11: 21573.92 | P11: 21464.297 | Q11: 21458.213 | R11: 21344.45 | S11: 21270.241 | T11: 21186.128 | U11: 21103.171 | V11: 21043.458 | W11: 21000.328 | X11: 20897.3 | Y11: 20790.162 | Z11: 20689.315 | AA11: 20602.861 | AB11: 20495.956 | AC11: 20507.019 | AD11: 20396.184 | AE11: 20317.734 | AF11: 20258.595 | AG11: 20165.587 | AH11: 20110.137 | AI11: 20112.985 | AJ11: 20041.858 | AK11: 19975.587 | AL11: 19893.647 | AM11: 19842.952 | AN11: 19780.662 | AO11: 19817.478 | AP11: 19737.003 | AQ11: 19689.959 | AR11: 19669.648 | AS11: 19619.586 | AT11: 19588.727 | AU11: 19635.705 | AV11: 19607.519 | AW11: 19582.735 | AX11: 19544.807 | AY11: 19533.249 | AZ11: 19508.24 | BA11: 19584.29 | BB11: 19556.907 | BC11: 19549.749 | BD11: 19537.09 | BE11: 19523.721 | BF11: 19526.977 | BG11: 19690.663 | BH11: 19679.196 | BI11: 19697.093 | BJ11: 19714.707 | BK11: 19739.79 | BL11: 19766.89 | BM11: 19874.02 | BN11: 19918.216 | BO11: 19945.564 | BP11: 20026.417 | BQ11: 20080.164 | BR11: 20168.56 | BS11: 20400.441 | BT11: 20522.621 | BU11: 20626.402 | BV11: 20737.03 | BW11: 20819 | BX11: 20957.119 | BY11: 21143.976 | BZ11: 21276.592 | CA11: 21420.288 | CB11: 21568.051 | CC11: 21728.038 | CD11: 21925.764 | CE11: 22309.801 | CF11: 22553.137 | CG11: 22749.865 | CH11: 22965.136 | CI11: 23104.773 | CJ11: 23271.022 | CK11: 23507.556 | CL11: 23675.735 | CM11: 23806.444 | CN11: 23925.382 | CO11: 24039.311 | CP11: 24149.991 | CQ11: 24177.716 | CR11: 24348.366 | CS11: 24391.358 | CT11: 24416.851 | CU11: 24418.198 | CV11: 24373.168 | CW11: 24333.457 | CX11: 24288.537 | CY11: 24171.214 | CZ11: 24077.138 | DA11: 23933.767 | DB11: 23805.002 | DC11: 23764.616 | DD11: 23615.433 | DE11: 23393.643 | DF11: 23205.26 | DG11: 22967.561 | DH11: 22738.937 | DI11: 22539.023 | DJ11: 22322.947 | DK11: 22085.617 | DL11: 21850.158 | DM11: 21634.816 | DN11: 21436.234 | DO11: 21348.416 | DP11: 21100.536 | DQ11: 20865.226 | DR11: 20656.064 | DS11: 20432.202 | DT11: 20206.484 | DU11: 20043.622 | DV11: 19800.576 | DW11: 19587.767 | DX11: 19382.221 | DY11: 19181.255 | DZ11: 18993.856 | EA11: 19039.11 | EB11: 18808.275 | EC11: 18649.189 | ED11: 18499.961 | EE11: 18342.497 | EF11: 18171.643 | EG11: 18188.579 | EH11: 18020.627 | EI11: 17864.135 | EJ11: 17817.644 | EK11: 17670.347 | EL11: 17550.293 | EM11: 17669.433 | EN11: 17504.255 | EO11: 17395.006 | EP11: 17390.707 | EQ11: 17281.338 | ER11: 17186.588 | ES11: 17218.378 | ET11: 17129.767 | EU11: 17048.628 | EV11: 17015.039 | EW11: 16958.986 | EX11: 16920.322 | EY11: 16959.547 | EZ11: 16891.656 | FA11: 16834.201 | FB11: 16802.637 | FC11: 16753.218 | FD11: 16715.381 | FE11: 16763.104 | FF11: 16736.034 | FG11: 16720.67 | FH11: 16724.749 | FI11: 16702.74 | FJ11: 16719.199 | FK11: 16821.944 | FL11: 16838.314 | FM11: 16842.572 | FN11: 16891.137 | FO11: 16914.851 | FP11: 16964.529 | FQ11: 17026.638 | FR11: 17083.078 | FS11: 17151.787 | FT11: 17228.002 | FU11: 17287.609 | FV11: 17395.776 | FW11: 17495.435 | FX11: 17591.716 | FY11: 17714.994 | FZ11: 17838.354 | GA11: 17954.11 | GB11: 18104.123 | GC11: 18248.239 | GD11: 18402.604 | GE11: 18572.545 | GF11: 18744.072 | GG11: 18905.793 | GH11: 19094.051 | GI11: 19269.627 | GJ11: 19458.35 | GK11: 19664.413 | GL11: 19905.572 | GM11: 20148.514 | GN11: 20372.672 | GO11: 20644.873 | GP11: 20913.456 | GQ11: 21203.918 | GR11: 21447.122 | GS11: 21734.771 | GT11: 21967.943 | GU11: 22228.19 | GV11: 22531.857 | GW11: 22828.376 | GX11: 23140.138 | GY11: 23469.736 | GZ11: 23752.088 | HA11: 24039.613 | HB11: 24362.874 | HC11: 24704.871 | HD11: 24994.167 | HE11: 25266.823 | HF11: 25532.713 | HG11: 25658.966 | HH11: 25968.203 | HI11: 26244.249 | HJ11: 26529.388 | HK11: 26825.003 | HL11: 27044.08 | HM11: 27305.816 | HN11: 27536.694 | HO11: 27733.722 | HP11: 27902.284 | HQ11: 28043.035 | HR11: 28110.066 | HS11: 28126.703 | HT11: 28230.969 | HU11: 28274.983 | HV11: 28346.452 | HW11: 28371.896 | HX11: 28377.185 | HY11: 28335.645 | HZ11: 28319.708 | IA11: 28277.81 | IB11: 28221.926 | IC11: 28178.27 | ID11: 28093.503 | IE11: 28012.223 | IF11: 27925.507 | IG11: 27879.784 | IH11: 27811.432 | II11: 27747.563 | IJ11: 27650.6 | IK11: 27570.273 | IL11: 27505.684 | IM11: 27446.311 | IN11: 27366.767 | IO11: 27282.475 | IP11: 27189.694 | IQ11: 27109.681 | IR11: 27039.093 | IS11: 26971.527 | IT11: 26911.815 | IU11: 26822.084 | IV11: 26738.432 | IW11: 26751.095 | IX11: 26635.145 | IY11: 26537.393 | IZ11: 26451.031 | JA11: 26324.502 | JB11: 26192.287 | JC11: 26111.549 | JD11: 25975.176 | JE11: 25820.088 | JF11: 25757.675 | JG11: 25613.948 | JH11: 25449.42 | JI11: 25352.144 | JJ11: 25162.02 | JK11: 24998.478 | JL11: 24851.653 | JM11: 24669.617 | JN11: 24416.156 | JO11: 24439.518 | JP11: 24358.941 | JQ11: 24215.784 | JR11: 24090.073 | JS11: 23929.998 | JT11: 23784.403 | JU11: 23674.858 | JV11: 23547.554 | JW11: 23399.234 | JX11: 23225.128 | JY11: 23080.757 | JZ11: 22998.169 | KA11: 23037.904 | KB11: 22988.27 | KC11: 22828.433 | KD11: 22713.816 | KE11: 22668.205 | KF11: 22579.908 | KG11: 22563.079 | KH11: 22392.59 | KI11: 22295.172 | KJ11: 22160.496 | KK11: 22044.442
H12: 2026 | I12: 3 | J12: 21974.633 | K12: 22062.846 | L12: 22006.318 | M12: 21965.461 | N12: 21900.761 | O12: 21795.355 | P12: 21695.553 | Q12: 21649.72 | R12: 21551.243 | S12: 21456.171 | T12: 21373.477 | U12: 21288.184 | V12: 21203.749 | W12: 21129.605 | X12: 21018.64 | Y12: 20927.22 | Z12: 20841.968 | AA12: 20735.839 | AB12: 20664.776 | AC12: 20619.693 | AD12: 20537.41 | AE12: 20473.525 | AF12: 20409.379 | AG12: 20348.12 | AH12: 20290.084 | AI12: 20255.493 | AJ12: 20196.191 | AK12: 20144.723 | AL12: 20085.407 | AM12: 20033.902 | AN12: 19986.742 | AO12: 19973.296 | AP12: 19928.417 | AQ12: 19885.889 | AR12: 19851.534 | AS12: 19806.788 | AT12: 19782.356 | AU12: 19794.568 | AV12: 19784.351 | AW12: 19775.308 | AX12: 19764.717 | AY12: 19727.942 | AZ12: 19696.1 | BA12: 19710.212 | BB12: 19702.596 | BC12: 19698.715 | BD12: 19687.223 | BE12: 19691.388 | BF12: 19683.921 | BG12: 19770.028 | BH12: 19796.888 | BI12: 19804.641 | BJ12: 19846.541 | BK12: 19866.179 | BL12: 19892.856 | BM12: 19978.584 | BN12: 20030.529 | BO12: 20074.842 | BP12: 20154.557 | BQ12: 20218.649 | BR12: 20319.169 | BS12: 20513.673 | BT12: 20667.324 | BU12: 20758.058 | BV12: 20862.167 | BW12: 20951.531 | BX12: 21070.871 | BY12: 21254.553 | BZ12: 21394.737 | CA12: 21509.24 | CB12: 21646.677 | CC12: 21788.801 | CD12: 21967.847 | CE12: 22289.416 | CF12: 22536.391 | CG12: 22731.576 | CH12: 22921.96 | CI12: 23071.019 | CJ12: 23222.251 | CK12: 23457.083 | CL12: 23632.636 | CM12: 23743.305 | CN12: 23875.117 | CO12: 23969.26 | CP12: 24064.623 | CQ12: 24117.537 | CR12: 24267.175 | CS12: 24355.347 | CT12: 24394.798 | CU12: 24378.234 | CV12: 24336.761 | CW12: 24292.92 | CX12: 24262.406 | CY12: 24157.301 | CZ12: 24043.493 | DA12: 23911.047 | DB12: 23803.906 | DC12: 23738.109 | DD12: 23613.463 | DE12: 23428.846 | DF12: 23263.715 | DG12: 23052.205 | DH12: 22827.661 | DI12: 22647.855 | DJ12: 22424.825 | DK12: 22198.196 | DL12: 22008.917 | DM12: 21790.377 | DN12: 21603.009 | DO12: 21496.429 | DP12: 21303.483 | DQ12: 21095.725 | DR12: 20891.494 | DS12: 20685.513 | DT12: 20464.607 | DU12: 20356.831 | DV12: 20156.697 | DW12: 19971.134 | DX12: 19791.594 | DY12: 19578.616 | DZ12: 19386.939 | EA12: 19409.49 | EB12: 19235.437 | EC12: 19092.58 | ED12: 18959.904 | EE12: 18777.141 | EF12: 18619.366 | EG12: 18543.502 | EH12: 18391.431 | EI12: 18264.234 | EJ12: 18198.866 | EK12: 18052.319 | EL12: 17936.353 | EM12: 18296.114 | EN12: 18219.31 | EO12: 18085.582 | EP12: 18099.945 | EQ12: 17984.863 | ER12: 17862.12 | ES12: 17906.919 | ET12: 17819.087 | EU12: 17726.29 | EV12: 17697.047 | EW12: 17596.791 | EX12: 17515.466 | EY12: 17551.09 | EZ12: 17480.248 | FA12: 17396.513 | FB12: 17361.579 | FC12: 17286.394 | FD12: 17225.111 | FE12: 17219.62 | FF12: 17166.692 | FG12: 17154.518 | FH12: 17126.941 | FI12: 17090.934 | FJ12: 17095.859 | FK12: 17127.39 | FL12: 17126.013 | FM12: 17132.29 | FN12: 17161.713 | FO12: 17142.615 | FP12: 17158.683 | FQ12: 17217.569 | FR12: 17257.555 | FS12: 17303.503 | FT12: 17361.959 | FU12: 17422.616 | FV12: 17477.719 | FW12: 17454.774 | FX12: 17536.159 | FY12: 17650.151 | FZ12: 17782.805 | GA12: 17896.308 | GB12: 18029.875 | GC12: 18176.952 | GD12: 18332.231 | GE12: 18489.423 | GF12: 18676.577 | GG12: 18829.441 | GH12: 19004.032 | GI12: 19146.605 | GJ12: 19373.392 | GK12: 19591.753 | GL12: 19828.994 | GM12: 20052.878 | GN12: 20287.203 | GO12: 20542.263 | GP12: 20799.278 | GQ12: 21061.102 | GR12: 21345.197 | GS12: 21625.107 | GT12: 21868.51 | GU12: 22111.238 | GV12: 22391.459 | GW12: 22670.338 | GX12: 22956.373 | GY12: 23287.02 | GZ12: 23558.254 | HA12: 23861.918 | HB12: 24158.879 | HC12: 24449.75 | HD12: 24751.71 | HE12: 25008.642 | HF12: 25269.655 | HG12: 25366.116 | HH12: 25617.382 | HI12: 25879.242 | HJ12: 26138.606 | HK12: 26380.051 | HL12: 26615.994 | HM12: 26828.502 | HN12: 27058.927 | HO12: 27193.821 | HP12: 27366.65 | HQ12: 27518.874 | HR12: 27574.266 | HS12: 27535.463 | HT12: 27586.915 | HU12: 27672.352 | HV12: 27719.451 | HW12: 27733.127 | HX12: 27734.122 | HY12: 27675.595 | HZ12: 27655.755 | IA12: 27647.26 | IB12: 27611.904 | IC12: 27517.764 | ID12: 27474.629 | IE12: 27355.02 | IF12: 27281.193 | IG12: 27218.863 | IH12: 27171.288 | II12: 27088.696 | IJ12: 27026.195 | IK12: 26973.755 | IL12: 26907.742 | IM12: 26855.96 | IN12: 26789.479 | IO12: 26719.331 | IP12: 26610.809 | IQ12: 26565.99 | IR12: 26489.059 | IS12: 26427.591 | IT12: 26337.478 | IU12: 26261.512 | IV12: 26178.899 | IW12: 26236.053 | IX12: 26121.084 | IY12: 26024.808 | IZ12: 25989.15 | JA12: 25880.963 | JB12: 25758.856 | JC12: 25718.748 | JD12: 25586.589 | JE12: 25452.528 | JF12: 25433.704 | JG12: 25300.565 | JH12: 25148.885 | JI12: 25089.612 | JJ12: 24925.175 | JK12: 24748.005 | JL12: 24642.02 | JM12: 24473.074 | JN12: 24212.622 | JO12: 24260.458 | JP12: 24172.159 | JQ12: 24076.738 | JR12: 23927.794 | JS12: 23768.977 | JT12: 23619.699 | JU12: 23496.187 | JV12: 23373.32 | JW12: 23238.521 | JX12: 23078.274 | JY12: 22986.719 | JZ12: 22900.862 | KA12: 22927.788 | KB12: 22866.642 | KC12: 22762.872 | KD12: 22658.553 | KE12: 22611.364 | KF12: 22541.638 | KG12: 22503.061 | KH12: 22358.135 | KI12: 22245.974 | KJ12: 22119.111 | KK12: 22042.946

Sheet Figure 7
B1: Go to Contents
B3: =Contents!B2 -> Quarterly Energy Dynamics - Q3 2026
B4: =Contents!B3 -> Figures from the report covering 1 July to 30 September 2026
B6: =Contents!B12 -> Figure 7 Maximum operational demand lower in mainland regions except Victoria
B7: =Contents!$C12 -> Maximum operational demand for mainland regions – Q3s
B8: MW
K9: NSW | L9: QLD | M9: SA | N9: VIC
I10: 2007 | J10: Q3 | K10: 13871 | L10: 7763 | M10: 2316 | N10: 8351
I11: 2008 | J11: Q3 | K11: 14289 | L11: 8212 | M11: 2530 | N11: 8099
I12: 2009 | J12: Q3 | K12: 12914 | L12: 7629 | M12: 2394 | N12: 7833
I13: 2010 | J13: Q3 | K13: 12885 | L13: 7281 | M13: 2523 | N13: 8089
I14: 2011 | J14: Q3 | K14: 12946 | L14: 7255 | M14: 2361 | N14: 7912
I15: 2012 | J15: Q3 | K15: 11891 | L15: 7246 | M15: 2408 | N15: 7849
I16: 2013 | J16: Q3 | K16: 11551 | L16: 7108 | M16: 2358 | N16: 7775
I17: 2014 | J17: Q3 | K17: 11559 | L17: 7307 | M17: 2423 | N17: 7650
I18: 2015 | J18: Q3 | K18: 12136 | L18: 7822 | M18: 2447 | N18: 7932
I19: 2016 | J19: Q3 | K19: 12007 | L19: 7993 | M19: 2459 | N19: 7754
I20: 2017 | J20: Q3 | K20: 12003 | L20: 7720 | M20: 2305 | N20: 7647
I21: 2018 | J21: Q3 | K21: 12039 | L21: 7749 | M21: 2299 | N21: 7377
... I29: 2026 | J29: Q3 | K29: 11659 | L29: 8109 | M29: 2364 | N29: 8955

Sheet Figure 8
B1: Go to Contents
B3: =Contents!B2 -> Quarterly Energy Dynamics - Q3 2026
B4: =Contents!B3 -> Figures from the report covering 1 July to 30 September 2026
B6: =Contents!B13 -> Figure 8 Queensland recorded new all-time minimum operational demand, while South Australia set new Q3 low
B7: =Contents!$C13 -> Minimum operational demand for mainland regions – Q3s
B8: MW
K9: NSW | L9: QLD | M9: SA | N9: VIC
I10: 2007 | J10: Q3 | K10: 6340 | L10: 4094 | M10: 1070 | N10: 4516
I11: 2008 | J11: Q3 | K11: 6266 | L11: 4109 | M11: 1118 | N11: 4416
I12: 2009 | J12: Q3 | K12: 6094 | L12: 4160 | M12: 1055 | N12: 4261
I13: 2010 | J13: Q3 | K13: 6266 | L13: 4245 | M13: 1201 | N13: 4495
I14: 2011 | J14: Q3 | K14: 6174 | L14: 4216 | M14: 1113 | N14: 4346
I15: 2012 | J15: Q3 | K15: 5766 | L15: 4315 | M15: 1097 | N15: 4129
I16: 2013 | J16: Q3 | K16: 5741 | L16: 4207 | M16: 993 | N16: 4065
I17: 2014 | J17: Q3 | K17: 5717 | L17: 4126 | M17: 931 | N17: 3688
I18: 2015 | J18: Q3 | K18: 5770 | L18: 4299 | M18: 900 | N18: 3846
I19: 2016 | J19: Q3 | K19: 5626 | L19: 4863 | M19: 642 | N19: 3836
I20: 2017 | J20: Q3 | K20: 5843 | L20: 4766 | M20: 793 | N20: 3601
I21: 2018 | J21: Q3 | K21: 5961 | L21: 4647 | M21: 661 | N21: 3752
... I29: 2026 | J29: Q3 | K29: 3538 | L29: 2741 | M29: -38 | N29: 2109

Sheet Figure 9
B1: Go to Contents
B3: =Contents!B2 -> Quarterly Energy Dynamics - Q3 2026
B4: =Contents!B3 -> Figures from the report covering 1 July to 30 September 2026
B6: =Contents!B14 -> Figure 9 CER solar capacity increased with growth in installations
B7: =Contents!$C14 -> Cumulative CER solar capacity and installations by region – end of Q3
B8: GW [LHS]; million [RHS]
B23: Source: Clean Energy Regulator (CER)

Sheet Figure 10
B1: Go to Contents
B3: =Contents!B2 -> Quarterly Energy Dynamics - Q3 2026
B4: =Contents!B3 -> Figures from the report covering 1 July to 30 September 2026
B6: =Contents!B15 -> Figure 10 Continued growth in CER battery capacity and installations across the NEM
B7: =Contents!$C15 -> Cumulative CER battery capacity and installations by region
B8: MWh [LHS]; thousand [RHS]
B23: Source: Clean Energy Regulator (CER)

Sheet Figure 11
B1: Go to Contents
B3: =Contents!B2 -> Quarterly Energy Dynamics - Q3 2026
B4: =Contents!B3 -> Figures from the report covering 1 July to 30 September 2026
B6: =Contents!B16 -> Figure 11 Households with PV and battery shift to net exports later and reduce net imports during peaks
B7: =Contents!$C16 -> Average household PV and battery net kW in Q3 2026 – NEM
B8: kW
B23: Source: National Metering Identifier (NMI) sample datasets

Sheet Figure 12
B1: Go to Contents
B3: =Contents!B2 -> Quarterly Energy Dynamics - Q3 2026
B4: =Contents!B3 -> Figures from the report covering 1 July to 30 September 2026
B6: =Contents!B17 -> Figure 12 Decrease in WDR dispatch
B7: =Contents!$C17 -> Total quarterly WDR energy dispatch
B8: MWh
H10: QTR YEAR | I10: NSW | J10: QLD | K10: SA | L10: VIC
H11: Q2 25 | I11: 166.5 | J11: 19.083333 | K11: 6.8333331 | L11: 44.75
H12: Q3 25 | I12: 21.166667 | J12: 0 | K12: 0 | L12: 0
H13: Q4 25 | I13: 143.91667 | J13: 0 | K13: 0 | L13: 0
H14: Q1 26 | I14: 0 | J14: 0 | K14: 2.9166665 | L14: 0
H15: Q2 26 | I15: 264.87167 | J15: 0 | K15: 0 | L15: 1.2133334
H16: Q3 26 | I16: 0 | J16: 0 | K16: 0 | L16: 0.8225

Sheet Figure 13
B1: Go to Contents
B3: =Contents!B2 -> Quarterly Energy Dynamics - Q3 2026
B4: =Contents!B3 -> Figures from the report covering 1 July to 30 September 2026
B6: =Contents!B18 -> Figure 13 Average NEM spot prices fell 27% year-on-year
B7: =Contents!$C18 -> NEM average wholesale electricity spot prices – quarterly since Q3 2023
B8: $/MWh
M9: QTR/YEAR | N9: NEM Average Price ($/MWh)
M10: Q3 23 | N10: 63.287134
M11: Q4 23 | N11: 48.267901
M12: Q1 24 | N12: 75.785552
M13: Q2 24 | N13: 133.42991
M14: Q3 24 | N14: 118.88055
M15: Q4 24 | N15: 88.331775
M16: Q1 25 | N16: 82.920736
M17: Q2 25 | N17: 140.18036
M18: Q3 25 | N18: 86.748283
M19: Q4 25 | N19: 49.61756
M20: Q1 26 | N20: 72.755975
M21: Q2 26 | N21: 74.123643
M22: Q3 26 | N22: 63.251312
M23: 46204 | N23: 76.849131
M24: 46235 | N24: 65.221875
M25: 46266 | N25: 47.163984

Sheet Figure 14
B1: Go to Contents
B3: =Contents!B2 -> Quarterly Energy Dynamics - Q3 2026
B4: =Contents!B3 -> Figures from the report covering 1 July to 30 September 2026
B6: =Contents!B19 -> Figure 14 Year-on-year declines in both energy and cap return prices across all regions
B7: =Contents!$C19 -> Average wholesale electricity spot price by region – energy and cap return components for selected quarters
B8: $/MWh
M10: Region | N10: Year | O10: Quarter | P10: Energy | Q10: Cap return
M11: QLD | N11: 2025 | O11: Q3 | P11: 71.493786 | Q11: 0.25596895
M12: QLD | N12: 2026 | O12: Q2 | P12: 67.11781 | Q12: 0.007746367
M13: QLD | N13: 2026 | O13: Q3 | P13: 60.944612 | Q13: 0.083001235
M15: NSW | N15: 2025 | O15: Q3 | P15: 88.401288 | Q15: 1.61423
M16: NSW | N16: 2026 | O16: Q2 | P16: 75.085267 | Q16: 0.006565628
M17: NSW | N17: 2026 | O17: Q3 | P17: 74.22652 | Q17: 0.053868842
M19: VIC | N19: 2025 | O19: Q3 | P19: 75.620462 | Q19: 1.4795154
M20: VIC | N20: 2026 | O20: Q2 | P20: 55.844048 | Q20: 0.00844585
M21: VIC | N21: 2026 | O21: Q3 | P21: 54.119998 | Q21: 1.9511749
M23: SA | N23: 2025 | O23: Q3 | P23: 79.353288 | Q23: 24.281289
M24: SA | N24: 2026 | O24: Q2 | P24: 72.122481 | Q24: 14.244439
M25: SA | N25: 2026 | O25: Q3 | P25: 64.966225 | Q25: 3.7728413
... M29: TAS | N29: 2026 | O29: Q3 | P29: 53.594625 | Q29: 2.5436939

Sheet Figure 15
B1: Go to Contents
B3: =Contents!B2 -> Quarterly Energy Dynamics - Q3 2026
B4: =Contents!B3 -> Figures from the report covering 1 July to 30 September 2026
B6: =Contents!B20 -> Figure 15 Significant reduction in spot prices during the evening peak, while morning peak and overnight prices also declined
B7: =Contents!$C20 -> NEM average spot price by time of day – Q3 2026 vs Q3 2025
B8: $/MWh
I10: 0.0034722222 | J10: 0.0069444444 | K10: 0.010416667 | L10: 0.013888889 | M10: 0.017361111 | N10: 0.020833333 | O10: 0.024305556 | P10: 0.027777778 | Q10: 0.03125 | R10: 0.034722222 | S10: 0.038194444 | T10: 0.041666667 | U10: 0.045138889 | V10: 0.048611111 | W10: 0.052083333 | X10: 0.055555556 | Y10: 0.059027778 | Z10: 0.0625 | AA10: 0.065972222 | AB10: 0.069444444 | AC10: 0.072916667 | AD10: 0.076388889 | AE10: 0.079861111 | AF10: 0.083333333 | AG10: 0.086805556 | AH10: 0.090277778 | AI10: 0.09375 | AJ10: 0.097222222 | AK10: 0.10069444 | AL10: 0.10416667 | AM10: 0.10763889 | AN10: 0.11111111 | AO10: 0.11458333 | AP10: 0.11805556 | AQ10: 0.12152778 | AR10: 0.125 | AS10: 0.12847222 | AT10: 0.13194444 | AU10: 0.13541667 | AV10: 0.13888889 | AW10: 0.14236111 | AX10: 0.14583333 | AY10: 0.14930556 | AZ10: 0.15277778 | BA10: 0.15625 | BB10: 0.15972222 | BC10: 0.16319444 | BD10: 0.16666667 | BE10: 0.17013889 | BF10: 0.17361111 | BG10: 0.17708333 | BH10: 0.18055556 | BI10: 0.18402778 | BJ10: 0.1875 | BK10: 0.19097222 | BL10: 0.19444444 | BM10: 0.19791667 | BN10: 0.20138889 | BO10: 0.20486111 | BP10: 0.20833333 | BQ10: 0.21180556 | BR10: 0.21527778 | BS10: 0.21875 | BT10: 0.22222222 | BU10: 0.22569444 | BV10: 0.22916667 | BW10: 0.23263889 | BX10: 0.23611111 | BY10: 0.23958333 | BZ10: 0.24305556 | CA10: 0.24652778 | CB10: 0.25 | CC10: 0.25347222 | CD10: 0.25694444 | CE10: 0.26041667 | CF10: 0.26388889 | CG10: 0.26736111 | CH10: 0.27083333 | CI10: 0.27430556 | CJ10: 0.27777778 | CK10: 0.28125 | CL10: 0.28472222 | CM10: 0.28819444 | CN10: 0.29166667 | CO10: 0.29513889 | CP10: 0.29861111 | CQ10: 0.30208333 | CR10: 0.30555556 | CS10: 0.30902778 | CT10: 0.3125 | CU10: 0.31597222 | CV10: 0.31944444 | CW10: 0.32291667 | CX10: 0.32638889 | CY10: 0.32986111 | CZ10: 0.33333333 | DA10: 0.33680556 | DB10: 0.34027778 | DC10: 0.34375 | DD10: 0.34722222 | DE10: 0.35069444 | DF10: 0.35416667 | DG10: 0.35763889 | DH10: 0.36111111 | DI10: 0.36458333 | DJ10: 0.36805556 | DK10: 0.37152778 | DL10: 0.375 | DM10: 0.37847222 | DN10: 0.38194444 | DO10: 0.38541667 | DP10: 0.38888889 | DQ10: 0.39236111 | DR10: 0.39583333 | DS10: 0.39930556 | DT10: 0.40277778 | DU10: 0.40625 | DV10: 0.40972222 | DW10: 0.41319444 | DX10: 0.41666667 | DY10: 0.42013889 | DZ10: 0.42361111 | EA10: 0.42708333 | EB10: 0.43055556 | EC10: 0.43402778 | ED10: 0.4375 | EE10: 0.44097222 | EF10: 0.44444444 | EG10: 0.44791667 | EH10: 0.45138889 | EI10: 0.45486111 | EJ10: 0.45833333 | EK10: 0.46180556 | EL10: 0.46527778 | EM10: 0.46875 | EN10: 0.47222222 | EO10: 0.47569444 | EP10: 0.47916667 | EQ10: 0.48263889 | ER10: 0.48611111 | ES10: 0.48958333 | ET10: 0.49305556 | EU10: 0.49652778 | EV10: 0.5 | EW10: 0.50347222 | EX10: 0.50694444 | EY10: 0.51041667 | EZ10: 0.51388889 | FA10: 0.51736111 | FB10: 0.52083333 | FC10: 0.52430556 | FD10: 0.52777778 | FE10: 0.53125 | FF10: 0.53472222 | FG10: 0.53819444 | FH10: 0.54166667 | FI10: 0.54513889 | FJ10: 0.54861111 | FK10: 0.55208333 | FL10: 0.55555556 | FM10: 0.55902778 | FN10: 0.5625 | FO10: 0.56597222 | FP10: 0.56944444 | FQ10: 0.57291667 | FR10: 0.57638889 | FS10: 0.57986111 | FT10: 0.58333333 | FU10: 0.58680556 | FV10: 0.59027778 | FW10: 0.59375 | FX10: 0.59722222 | FY10: 0.60069444 | FZ10: 0.60416667 | GA10: 0.60763889 | GB10: 0.61111111 | GC10: 0.61458333 | GD10: 0.61805556 | GE10: 0.62152778 | GF10: 0.625 | GG10: 0.62847222 | GH10: 0.63194444 | GI10: 0.63541667 | GJ10: 0.63888889 | GK10: 0.64236111 | GL10: 0.64583333 | GM10: 0.64930556 | GN10: 0.65277778 | GO10: 0.65625 | GP10: 0.65972222 | GQ10: 0.66319444 | GR10: 0.66666667 | GS10: 0.67013889 | GT10: 0.67361111 | GU10: 0.67708333 | GV10: 0.68055556 | GW10: 0.68402778 | GX10: 0.6875 | GY10: 0.69097222 | GZ10: 0.69444444 | HA10: 0.69791667 | HB10: 0.70138889 | HC10: 0.70486111 | HD10: 0.70833333 | HE10: 0.71180556 | HF10: 0.71527778 | HG10: 0.71875 | HH10: 0.72222222 | HI10: 0.72569444 | HJ10: 0.72916667 | HK10: 0.73263889 | HL10: 0.73611111 | HM10: 0.73958333 | HN10: 0.74305556 | HO10: 0.74652778 | HP10: 0.75 | HQ10: 0.75347222 | HR10: 0.75694444 | HS10: 0.76041667 | HT10: 0.76388889 | HU10: 0.76736111 | HV10: 0.77083333 | HW10: 0.77430556 | HX10: 0.77777778 | HY10: 0.78125 | HZ10: 0.78472222 | IA10: 0.78819444 | IB10: 0.79166667 | IC10: 0.79513889 | ID10: 0.79861111 | IE10: 0.80208333 | IF10: 0.80555556 | IG10: 0.80902778 | IH10: 0.8125 | II10: 0.81597222 | IJ10: 0.81944444 | IK10: 0.82291667 | IL10: 0.82638889 | IM10: 0.82986111 | IN10: 0.83333333 | IO10: 0.83680556 | IP10: 0.84027778 | IQ10: 0.84375 | IR10: 0.84722222 | IS10: 0.85069444 | IT10: 0.85416667 | IU10: 0.85763889 | IV10: 0.86111111 | IW10: 0.86458333 | IX10: 0.86805556 | IY10: 0.87152778 | IZ10: 0.875 | JA10: 0.87847222 | JB10: 0.88194444 | JC10: 0.88541667 | JD10: 0.88888889 | JE10: 0.89236111 | JF10: 0.89583333 | JG10: 0.89930556 | JH10: 0.90277778 | JI10: 0.90625 | JJ10: 0.90972222 | JK10: 0.91319444 | JL10: 0.91666667 | JM10: 0.92013889 | JN10: 0.92361111 | JO10: 0.92708333 | JP10: 0.93055556 | JQ10: 0.93402778 | JR10: 0.9375 | JS10: 0.94097222 | JT10: 0.94444444 | JU10: 0.94791667 | JV10: 0.95138889 | JW10: 0.95486111 | JX10: 0.95833333 | JY10: 0.96180556 | JZ10: 0.96527778 | KA10: 0.96875 | KB10: 0.97222222 | KC10: 0.97569444 | KD10: 0.97916667 | KE10: 0.98263889 | KF10: 0.98611111 | KG10: 0.98958333 | KH10: 0.99305556 | KI10: 0.99652778 | KJ10: 1
H11: Q3 2026 | I11: 70.103035 | J11: 76.536238 | K11: 74.2806 | L11: 72.954984 | M11: 72.693906 | N11: 70.942944 | O11: 72.25695 | P11: 71.721533 | Q11: 70.480131 | R11: 68.666055 | S11: 67.599643 | T11: 66.058759 | U11: 68.565934 | V11: 68.943169 | W11: 66.883832 | X11: 65.421938 | Y11: 66.555163 | Z11: 63.982669 | AA11: 65.939814 | AB11: 65.568905 | AC11: 65.266277 | AD11: 65.72778 | AE11: 64.353999 | AF11: 62.341177 | AG11: 66.189452 | AH11: 66.598101 | AI11: 64.830344 | AJ11: 64.11109 | AK11: 64.259308 | AL11: 63.64459 | AM11: 73.302372 | AN11: 64.163646 | AO11: 63.340935 | AP11: 63.341702 | AQ11: 70.047508 | AR11: 62.965487 | AS11: 63.568015 | AT11: 64.14534 | AU11: 64.05649 | AV11: 63.337292 | AW11: 64.111464 | AX11: 62.302332 | AY11: 61.868884 | AZ11: 63.327382 | BA11: 62.33191 | BB11: 62.500636 | BC11: 61.799522 | BD11: 61.055257 | BE11: 63.177433 | BF11: 62.867525 | BG11: 63.740187 | BH11: 62.300075 | BI11: 62.357928 | BJ11: 62.929262 | BK11: 62.612948 | BL11: 64.224236 | BM11: 64.183099 | BN11: 63.948772 | BO11: 65.619662 | BP11: 67.512473 | BQ11: 63.276012 | BR11: 66.842614 | BS11: 68.768603 | BT11: 69.650228 | BU11: 69.998758 | BV11: 71.774385 | BW11: 68.310722 | BX11: 71.299789 | BY11: 73.456634 | BZ11: 73.775757 | CA11: 74.196139 | CB11: 78.912488 | CC11: 72.620551 | CD11: 77.770597 | CE11: 77.437771 | CF11: 80.557843 | CG11: 79.664198 | CH11: 80.699794 | CI11: 75.889937 | CJ11: 78.106208 | CK11: 79.268077 | CL11: 77.332192 | CM11: 80.109194 | CN11: 77.919799 | CO11: 74.517355 | CP11: 71.732274 | CQ11: 72.348277 | CR11: 71.205248 | CS11: 71.12908 | CT11: 68.539996 | CU11: 69.271483 | CV11: 64.861373 | CW11: 66.016663 | CX11: 62.81085 | CY11: 59.668212 | CZ11: 55.073048 | DA11: 57.047311 | DB11: 55.757036 | DC11: 54.872075 | DD11: 51.619478 | DE11: 47.927866 | DF11: 44.786658 | DG11: 46.506161 | DH11: 46.39668 | DI11: 43.496494 | DJ11: 40.22376 | DK11: 39.436342 | DL11: 36.894959 | DM11: 41.512832 | DN11: 41.817027 | DO11: 38.720351 | DP11: 38.065761 | DQ11: 35.495224 | DR11: 31.973463 | DS11: 36.168507 | DT11: 38.379224 | DU11: 35.571597 | DV11: 31.573814 | DW11: 31.875966 | DX11: 30.136563 | DY11: 33.835502 | DZ11: 33.79256 | EA11: 30.687914 | EB11: 29.502034 | EC11: 28.348373 | ED11: 26.582736 | EE11: 30.533779 | EF11: 30.372239 | EG11: 28.641947 | EH11: 25.351551 | EI11: 26.338815 | EJ11: 24.154741 | EK11: 28.15784 | EL11: 32.604977 | EM11: 31.401404 | EN11: 28.74118 | EO11: 28.139946 | EP11: 27.994494 | EQ11: 29.673329 | ER11: 29.473784 | ES11: 27.93262 | ET11: 27.557241 | EU11: 26.4227 | EV11: 26.476763 | EW11: 28.30373 | EX11: 28.309931 | EY11: 26.517046 | EZ11: 27.178544 | FA11: 26.650184 | FB11: 25.613783 | FC11: 27.153519 | FD11: 27.132795 | FE11: 27.856376 | FF11: 26.968413 | FG11: 26.731659 | FH11: 27.129254 | FI11: 26.140739 | FJ11: 27.382646 | FK11: 25.16182 | FL11: 24.995534 | FM11: 25.586175 | FN11: 25.679072 | FO11: 26.755961 | FP11: 26.207443 | FQ11: 25.909159 | FR11: 26.555153 | FS11: 27.31419 | FT11: 27.094259 | FU11: 25.970285 | FV11: 26.098904 | FW11: 25.011705 | FX11: 24.612673 | FY11: 25.657861 | FZ11: 25.872237 | GA11: 26.055608 | GB11: 27.017426 | GC11: 26.679051 | GD11: 26.685252 | GE11: 28.374428 | GF11: 30.170642 | GG11: 25.856169 | GH11: 26.643823 | GI11: 28.207899 | GJ11: 30.815747 | GK11: 32.659829 | GL11: 35.018882 | GM11: 32.883531 | GN11: 36.598797 | GO11: 40.226097 | GP11: 44.471912 | GQ11: 48.760883 | GR11: 56.888559 | GS11: 50.318489 | GT11: 52.226833 | GU11: 61.249407 | GV11: 116.57837 | GW11: 74.594106 | GX11: 80.238671 | GY11: 74.085824 | GZ11: 79.914179 | HA11: 84.258507 | HB11: 88.551755 | HC11: 92.264716 | HD11: 96.216114 | HE11: 87.861393 | HF11: 88.473174 | HG11: 93.53836 | HH11: 101.12931 | HI11: 105.7328 | HJ11: 108.63941 | HK11: 95.981277 | HL11: 96.321576 | HM11: 99.610767 | HN11: 100.36908 | HO11: 102.26034 | HP11: 101.93911 | HQ11: 98.309574 | HR11: 97.026922 | HS11: 97.53826 | HT11: 98.680591 | HU11: 96.998436 | HV11: 97.359642 | HW11: 98.124088 | HX11: 97.452086 | HY11: 94.518573 | HZ11: 94.263128 | IA11: 96.590108 | IB11: 96.137694 | IC11: 96.668951 | ID11: 96.38762 | IE11: 95.045135 | IF11: 96.028765 | IG11: 97.590626 | IH11: 109.32506 | II11: 153.04814 | IJ11: 204.18106 | IK11: 95.479578 | IL11: 94.423059 | IM11: 95.285736 | IN11: 91.437459 | IO11: 90.562374 | IP11: 90.784065 | IQ11: 92.078904 | IR11: 89.529343 | IS11: 89.697294 | IT11: 87.265219 | IU11: 89.689764 | IV11: 91.793918 | IW11: 89.929707 | IX11: 89.374586 | IY11: 89.106256 | IZ11: 87.428873 | JA11: 91.323158 | JB11: 92.282616 | JC11: 89.67901 | JD11: 89.001087 | JE11: 88.370975 | JF11: 86.382192 | JG11: 90.130555 | JH11: 88.625936 | JI11: 86.830752 | JJ11: 82.700842 | JK11: 83.655852 | JL11: 79.701846 | JM11: 83.828709 | JN11: 86.638864 | JO11: 83.771031 | JP11: 82.634902 | JQ11: 80.474846 | JR11: 75.754264 | JS11: 79.358653 | JT11: 78.84719 | JU11: 78.223407 | JV11: 76.635153 | JW11: 73.827048 | JX11: 71.845136 | JY11: 76.052504 | JZ11: 78.804943 | KA11: 77.982901 | KB11: 74.081716 | KC11: 72.652368 | KD11: 72.589721 | KE11: 75.251802 | KF11: 76.666073 | KG11: 73.487747 | KH11: 71.213836 | KI11: 70.680945 | KJ11: 67.025663
H12: Q3 2025 | I12: 90.075032 | J12: 94.11153 | K12: 89.720207 | L12: 88.626198 | M12: 89.152333 | N12: 90.423044 | O12: 88.279604 | P12: 91.112429 | Q12: 87.269175 | R12: 90.882949 | S12: 85.762359 | T12: 79.403169 | U12: 85.882612 | V12: 86.939468 | W12: 81.156365 | X12: 81.372513 | Y12: 79.415587 | Z12: 77.250813 | AA12: 79.250495 | AB12: 79.637466 | AC12: 77.390517 | AD12: 75.369431 | AE12: 76.334905 | AF12: 71.180083 | AG12: 78.211265 | AH12: 79.921935 | AI12: 77.916181 | AJ12: 75.378241 | AK12: 75.400708 | AL12: 72.978485 | AM12: 73.719049 | AN12: 75.338734 | AO12: 74.287086 | AP12: 72.510459 | AQ12: 72.688238 | AR12: 71.074096 | AS12: 74.843675 | AT12: 78.09559 | AU12: 82.103836 | AV12: 73.907783 | AW12: 72.538342 | AX12: 70.796079 | AY12: 71.790139 | AZ12: 74.974951 | BA12: 73.576621 | BB12: 73.849024 | BC12: 72.841528 | BD12: 72.028098 | BE12: 72.325272 | BF12: 76.995147 | BG12: 76.382553 | BH12: 74.938505 | BI12: 75.665885 | BJ12: 74.865056 | BK12: 74.461867 | BL12: 75.905169 | BM12: 77.490511 | BN12: 76.277264 | BO12: 77.361576 | BP12: 79.197386 | BQ12: 74.007829 | BR12: 79.57771 | BS12: 81.168289 | BT12: 81.666515 | BU12: 84.863455 | BV12: 85.289063 | BW12: 84.995164 | BX12: 87.687918 | BY12: 91.074748 | BZ12: 91.736436 | CA12: 94.340936 | CB12: 98.630495 | CC12: 92.536669 | CD12: 106.1672 | CE12: 108.11783 | CF12: 111.54559 | CG12: 123.32324 | CH12: 117.04929 | CI12: 110.53357 | CJ12: 116.6615 | CK12: 118.65931 | CL12: 117.28185 | CM12: 117.99553 | CN12: 116.69064 | CO12: 118.89953 | CP12: 113.30358 | CQ12: 121.65424 | CR12: 114.17819 | CS12: 112.56048 | CT12: 111.24005 | CU12: 102.40139 | CV12: 104.20027 | CW12: 94.109758 | CX12: 94.00128 | CY12: 91.793713 | CZ12: 96.310879 | DA12: 88.947333 | DB12: 89.222501 | DC12: 87.409104 | DD12: 79.637272 | DE12: 74.81299 | DF12: 63.523512 | DG12: 65.058431 | DH12: 64.96843 | DI12: 62.775953 | DJ12: 58.503493 | DK12: 55.313694 | DL12: 50.582507 | DM12: 56.265215 | DN12: 64.543956 | DO12: 85.293471 | DP12: 49.925116 | DQ12: 50.197825 | DR12: 41.277078 | DS12: 61.373222 | DT12: 47.287689 | DU12: 44.283875 | DV12: 38.581347 | DW12: 38.515948 | DX12: 33.02149 | DY12: 34.584311 | DZ12: 43.28665 | EA12: 36.953152 | EB12: 36.894461 | EC12: 31.155837 | ED12: 29.19552 | EE12: 33.097665 | EF12: 33.39181 | EG12: 29.269712 | EH12: 27.812436 | EI12: 28.488116 | EJ12: 25.643378 | EK12: 27.683493 | EL12: 32.604337 | EM12: 26.831278 | EN12: 26.514621 | EO12: 26.318499 | EP12: 20.325771 | EQ12: 25.499311 | ER12: 24.547514 | ES12: 24.383206 | ET12: 24.853477 | EU12: 24.372689 | EV12: 23.362136 | EW12: 24.59124 | EX12: 26.222464 | EY12: 22.579909 | EZ12: 23.827514 | FA12: 21.796182 | FB12: 21.107294 | FC12: 20.466236 | FD12: 23.330713 | FE12: 19.516994 | FF12: 20.422944 | FG12: 23.265398 | FH12: 21.322916 | FI12: 22.159641 | FJ12: 24.105937 | FK12: 23.912739 | FL12: 21.960139 | FM12: 21.906831 | FN12: 22.262805 | FO12: 23.317371 | FP12: 24.763608 | FQ12: 23.066692 | FR12: 24.23261 | FS12: 25.265177 | FT12: 25.570725 | FU12: 26.585136 | FV12: 26.413745 | FW12: 26.218731 | FX12: 27.974135 | FY12: 29.100638 | FZ12: 32.273648 | GA12: 28.447786 | GB12: 31.756917 | GC12: 30.479994 | GD12: 31.400414 | GE12: 33.87806 | GF12: 37.200787 | GG12: 33.081846 | GH12: 36.179988 | GI12: 34.971135 | GJ12: 36.179872 | GK12: 38.123653 | GL12: 44.537644 | GM12: 37.409338 | GN12: 43.755223 | GO12: 45.879463 | GP12: 54.62794 | GQ12: 57.295074 | GR12: 68.759491 | GS12: 53.434634 | GT12: 56.284625 | GU12: 64.528151 | GV12: 73.672109 | GW12: 82.842145 | GX12: 99.062726 | GY12: 89.487371 | GZ12: 97.284284 | HA12: 113.90828 | HB12: 123.27102 | HC12: 134.77951 | HD12: 138.93851 | HE12: 129.56156 | HF12: 127.59962 | HG12: 138.24828 | HH12: 153.74765 | HI12: 160.0879 | HJ12: 191.75431 | HK12: 162.14002 | HL12: 162.99937 | HM12: 179.59268 | HN12: 181.76484 | HO12: 181.89929 | HP12: 195.94361 | HQ12: 171.65418 | HR12: 174.306 | HS12: 176.53713 | HT12: 176.04556 | HU12: 177.8345 | HV12: 184.9802 | HW12: 172.08447 | HX12: 171.18542 | HY12: 169.36191 | HZ12: 167.19813 | IA12: 166.34913 | IB12: 165.7301 | IC12: 160.6742 | ID12: 161.70508 | IE12: 155.59385 | IF12: 170.06564 | IG12: 163.57461 | IH12: 164.20499 | II12: 164.1942 | IJ12: 163.5999 | IK12: 161.52734 | IL12: 160.48455 | IM12: 159.36274 | IN12: 142.33562 | IO12: 154.25545 | IP12: 151.44902 | IQ12: 152.27473 | IR12: 155.10416 | IS12: 147.69563 | IT12: 135.81105 | IU12: 155.10069 | IV12: 167.56784 | IW12: 155.40374 | IX12: 159.58178 | IY12: 155.63989 | IZ12: 134.11918 | JA12: 148.80287 | JB12: 155.91559 | JC12: 129.1357 | JD12: 129.46914 | JE12: 137.78663 | JF12: 130.47745 | JG12: 145.90525 | JH12: 125.59726 | JI12: 129.33464 | JJ12: 107.70547 | JK12: 103.98248 | JL12: 96.823719 | JM12: 127.23847 | JN12: 144.72267 | JO12: 145.01753 | JP12: 138.44501 | JQ12: 123.30797 | JR12: 116.69977 | JS12: 134.01156 | JT12: 99.785449 | JU12: 100.07329 | JV12: 96.687077 | JW12: 117.96922 | JX12: 86.114693 | JY12: 124.20622 | JZ12: 95.726448 | KA12: 95.067821 | KB12: 90.517976 | KC12: 89.664137 | KD12: 90.395064 | KE12: 92.472177 | KF12: 97.66239 | KG12: 89.824816 | KH12: 86.40812 | KI12: 83.960331 | KJ12: 82.381671

Sheet Figure 16
B1: Go to Contents
B3: =Contents!B2 -> Quarterly Energy Dynamics - Q3 2026
B4: =Contents!B3 -> Figures from the report covering 1 July to 30 September 2026
B6: =Contents!B21 -> Figure 16 Regional energy price separation was limited, with Tasmanian prices closely aligned with the mainland
B7: =Contents!$C21 -> Average regional energy price by time of day – Q3 2026
B8: $/MWh
I10: 0.0034722222 | J10: 0.0069444444 | K10: 0.010416667 | L10: 0.013888889 | M10: 0.017361111 | N10: 0.020833333 | O10: 0.024305556 | P10: 0.027777778 | Q10: 0.03125 | R10: 0.034722222 | S10: 0.038194444 | T10: 0.041666667 | U10: 0.045138889 | V10: 0.048611111 | W10: 0.052083333 | X10: 0.055555556 | Y10: 0.059027778 | Z10: 0.0625 | AA10: 0.065972222 | AB10: 0.069444444 | AC10: 0.072916667 | AD10: 0.076388889 | AE10: 0.079861111 | AF10: 0.083333333 | AG10: 0.086805556 | AH10: 0.090277778 | AI10: 0.09375 | AJ10: 0.097222222 | AK10: 0.10069444 | AL10: 0.10416667 | AM10: 0.10763889 | AN10: 0.11111111 | AO10: 0.11458333 | AP10: 0.11805556 | AQ10: 0.12152778 | AR10: 0.125 | AS10: 0.12847222 | AT10: 0.13194444 | AU10: 0.13541667 | AV10: 0.13888889 | AW10: 0.14236111 | AX10: 0.14583333 | AY10: 0.14930556 | AZ10: 0.15277778 | BA10: 0.15625 | BB10: 0.15972222 | BC10: 0.16319444 | BD10: 0.16666667 | BE10: 0.17013889 | BF10: 0.17361111 | BG10: 0.17708333 | BH10: 0.18055556 | BI10: 0.18402778 | BJ10: 0.1875 | BK10: 0.19097222 | BL10: 0.19444444 | BM10: 0.19791667 | BN10: 0.20138889 | BO10: 0.20486111 | BP10: 0.20833333 | BQ10: 0.21180556 | BR10: 0.21527778 | BS10: 0.21875 | BT10: 0.22222222 | BU10: 0.22569444 | BV10: 0.22916667 | BW10: 0.23263889 | BX10: 0.23611111 | BY10: 0.23958333 | BZ10: 0.24305556 | CA10: 0.24652778 | CB10: 0.25 | CC10: 0.25347222 | CD10: 0.25694444 | CE10: 0.26041667 | CF10: 0.26388889 | CG10: 0.26736111 | CH10: 0.27083333 | CI10: 0.27430556 | CJ10: 0.27777778 | CK10: 0.28125 | CL10: 0.28472222 | CM10: 0.28819444 | CN10: 0.29166667 | CO10: 0.29513889 | CP10: 0.29861111 | CQ10: 0.30208333 | CR10: 0.30555556 | CS10: 0.30902778 | CT10: 0.3125 | CU10: 0.31597222 | CV10: 0.31944444 | CW10: 0.32291667 | CX10: 0.32638889 | CY10: 0.32986111 | CZ10: 0.33333333 | DA10: 0.33680556 | DB10: 0.34027778 | DC10: 0.34375 | DD10: 0.34722222 | DE10: 0.35069444 | DF10: 0.35416667 | DG10: 0.35763889 | DH10: 0.36111111 | DI10: 0.36458333 | DJ10: 0.36805556 | DK10: 0.37152778 | DL10: 0.375 | DM10: 0.37847222 | DN10: 0.38194444 | DO10: 0.38541667 | DP10: 0.38888889 | DQ10: 0.39236111 | DR10: 0.39583333 | DS10: 0.39930556 | DT10: 0.40277778 | DU10: 0.40625 | DV10: 0.40972222 | DW10: 0.41319444 | DX10: 0.41666667 | DY10: 0.42013889 | DZ10: 0.42361111 | EA10: 0.42708333 | EB10: 0.43055556 | EC10: 0.43402778 | ED10: 0.4375 | EE10: 0.44097222 | EF10: 0.44444444 | EG10: 0.44791667 | EH10: 0.45138889 | EI10: 0.45486111 | EJ10: 0.45833333 | EK10: 0.46180556 | EL10: 0.46527778 | EM10: 0.46875 | EN10: 0.47222222 | EO10: 0.47569444 | EP10: 0.47916667 | EQ10: 0.48263889 | ER10: 0.48611111 | ES10: 0.48958333 | ET10: 0.49305556 | EU10: 0.49652778 | EV10: 0.5 | EW10: 0.50347222 | EX10: 0.50694444 | EY10: 0.51041667 | EZ10: 0.51388889 | FA10: 0.51736111 | FB10: 0.52083333 | FC10: 0.52430556 | FD10: 0.52777778 | FE10: 0.53125 | FF10: 0.53472222 | FG10: 0.53819444 | FH10: 0.54166667 | FI10: 0.54513889 | FJ10: 0.54861111 | FK10: 0.55208333 | FL10: 0.55555556 | FM10: 0.55902778 | FN10: 0.5625 | FO10: 0.56597222 | FP10: 0.56944444 | FQ10: 0.57291667 | FR10: 0.57638889 | FS10: 0.57986111 | FT10: 0.58333333 | FU10: 0.58680556 | FV10: 0.59027778 | FW10: 0.59375 | FX10: 0.59722222 | FY10: 0.60069444 | FZ10: 0.60416667 | GA10: 0.60763889 | GB10: 0.61111111 | GC10: 0.61458333 | GD10: 0.61805556 | GE10: 0.62152778 | GF10: 0.625 | GG10: 0.62847222 | GH10: 0.63194444 | GI10: 0.63541667 | GJ10: 0.63888889 | GK10: 0.64236111 | GL10: 0.64583333 | GM10: 0.64930556 | GN10: 0.65277778 | GO10: 0.65625 | GP10: 0.65972222 | GQ10: 0.66319444 | GR10: 0.66666667 | GS10: 0.67013889 | GT10: 0.67361111 | GU10: 0.67708333 | GV10: 0.68055556 | GW10: 0.68402778 | GX10: 0.6875 | GY10: 0.69097222 | GZ10: 0.69444444 | HA10: 0.69791667 | HB10: 0.70138889 | HC10: 0.70486111 | HD10: 0.70833333 | HE10: 0.71180556 | HF10: 0.71527778 | HG10: 0.71875 | HH10: 0.72222222 | HI10: 0.72569444 | HJ10: 0.72916667 | HK10: 0.73263889 | HL10: 0.73611111 | HM10: 0.73958333 | HN10: 0.74305556 | HO10: 0.74652778 | HP10: 0.75 | HQ10: 0.75347222 | HR10: 0.75694444 | HS10: 0.76041667 | HT10: 0.76388889 | HU10: 0.76736111 | HV10: 0.77083333 | HW10: 0.77430556 | HX10: 0.77777778 | HY10: 0.78125 | HZ10: 0.78472222 | IA10: 0.78819444 | IB10: 0.79166667 | IC10: 0.79513889 | ID10: 0.79861111 | IE10: 0.80208333 | IF10: 0.80555556 | IG10: 0.80902778 | IH10: 0.8125 | II10: 0.81597222 | IJ10: 0.81944444 | IK10: 0.82291667 | IL10: 0.82638889 | IM10: 0.82986111 | IN10: 0.83333333 | IO10: 0.83680556 | IP10: 0.84027778 | IQ10: 0.84375 | IR10: 0.84722222 | IS10: 0.85069444 | IT10: 0.85416667 | IU10: 0.85763889 | IV10: 0.86111111 | IW10: 0.86458333 | IX10: 0.86805556 | IY10: 0.87152778 | IZ10: 0.875 | JA10: 0.87847222 | JB10: 0.88194444 | JC10: 0.88541667 | JD10: 0.88888889 | JE10: 0.89236111 | JF10: 0.89583333 | JG10: 0.89930556 | JH10: 0.90277778 | JI10: 0.90625 | JJ10: 0.90972222 | JK10: 0.91319444 | JL10: 0.91666667 | JM10: 0.92013889 | JN10: 0.92361111 | JO10: 0.92708333 | JP10: 0.93055556 | JQ10: 0.93402778 | JR10: 0.9375 | JS10: 0.94097222 | JT10: 0.94444444 | JU10: 0.94791667 | JV10: 0.95138889 | JW10: 0.95486111 | JX10: 0.95833333 | JY10: 0.96180556 | JZ10: 0.96527778 | KA10: 0.96875 | KB10: 0.97222222 | KC10: 0.97569444 | KD10: 0.97916667 | KE10: 0.98263889 | KF10: 0.98611111 | KG10: 0.98958333 | KH10: 0.99305556 | KI10: 0.99652778 | KJ10: 1
H11: NSW | I11: 83.689971 | J11: 92.509031 | K11: 91.026736 | L11: 88.280486 | M11: 87.885783 | N11: 86.36704 | O11: 87.978066 | P11: 86.892178 | Q11: 85.286967 | R11: 83.558778 | S11: 81.511301 | T11: 79.306989 | U11: 83.166743 | V11: 83.549917 | W11: 81.180086 | X11: 79.880262 | Y11: 80.104464 | Z11: 78.125112 | AA11: 80.492679 | AB11: 80.123014 | AC11: 79.297808 | AD11: 80.828809 | AE11: 79.847981 | AF11: 76.723104 | AG11: 81.360761 | AH11: 81.951525 | AI11: 80.053412 | AJ11: 79.341332 | AK11: 79.02553 | AL11: 77.377093 | AM11: 79.318581 | AN11: 79.687312 | AO11: 78.91308 | AP11: 78.496371 | AQ11: 78.057664 | AR11: 77.44082 | AS11: 78.746309 | AT11: 79.248503 | AU11: 79.134278 | AV11: 78.401099 | AW11: 78.722685 | AX11: 78.572113 | AY11: 77.767847 | AZ11: 78.88058 | BA11: 78.768121 | BB11: 78.229732 | BC11: 78.000282 | BD11: 78.664935 | BE11: 78.495825 | BF11: 79.894757 | BG11: 81.49052 | BH11: 78.839804 | BI11: 79.267383 | BJ11: 80.35427 | BK11: 80.219393 | BL11: 81.573085 | BM11: 81.663183 | BN11: 81.568304 | BO11: 83.084436 | BP11: 86.2195 | BQ11: 80.261533 | BR11: 84.896517 | BS11: 87.214758 | BT11: 87.590974 | BU11: 88.470553 | BV11: 90.964251 | BW11: 86.784009 | BX11: 89.86881 | BY11: 92.187654 | BZ11: 92.792839 | CA11: 92.52504 | CB11: 98.436023 | CC11: 90.427315 | CD11: 95.375777 | CE11: 96.128889 | CF11: 99.24064 | CG11: 98.210611 | CH11: 98.291267 | CI11: 93.230694 | CJ11: 94.765807 | CK11: 95.284654 | CL11: 91.582692 | CM11: 92.168385 | CN11: 88.715798 | CO11: 84.554186 | CP11: 83.398662 | CQ11: 81.770813 | CR11: 80.402223 | CS11: 80.801902 | CT11: 72.739107 | CU11: 76.447845 | CV11: 71.378618 | CW11: 70.848737 | CX11: 66.624825 | CY11: 64.382564 | CZ11: 58.300466 | DA11: 61.412831 | DB11: 62.859987 | DC11: 57.368833 | DD11: 53.725055 | DE11: 51.427518 | DF11: 46.512836 | DG11: 50.395162 | DH11: 51.902664 | DI11: 46.416338 | DJ11: 44.398707 | DK11: 46.561291 | DL11: 42.624982 | DM11: 46.860644 | DN11: 46.647 | DO11: 45.30009 | DP11: 43.978197 | DQ11: 43.60928 | DR11: 38.233137 | DS11: 42.502414 | DT11: 46.084185 | DU11: 43.967219 | DV11: 42.799915 | DW11: 42.770034 | DX11: 40.144985 | DY11: 45.800415 | DZ11: 48.792404 | EA11: 44.957211 | EB11: 42.054093 | EC11: 40.298202 | ED11: 39.276825 | EE11: 43.458575 | EF11: 42.054383 | EG11: 39.64351 | EH11: 39.780628 | EI11: 40.268978 | EJ11: 38.541289 | EK11: 41.288506 | EL11: 46.472601 | EM11: 45.34907 | EN11: 43.630743 | EO11: 42.527542 | EP11: 41.43944 | EQ11: 44.204835 | ER11: 42.402173 | ES11: 41.037729 | ET11: 41.711394 | EU11: 40.611696 | EV11: 40.776784 | EW11: 43.010767 | EX11: 43.084243 | EY11: 39.374329 | EZ11: 40.14651 | FA11: 40.710903 | FB11: 41.377686 | FC11: 40.882934 | FD11: 39.822908 | FE11: 40.281437 | FF11: 42.043374 | FG11: 41.022517 | FH11: 39.543463 | FI11: 38.706732 | FJ11: 39.864738 | FK11: 39.30639 | FL11: 37.238591 | FM11: 39.967904 | FN11: 37.96887 | FO11: 40.307543 | FP11: 39.886097 | FQ11: 39.598168 | FR11: 39.684532 | FS11: 39.466225 | FT11: 38.545568 | FU11: 36.715583 | FV11: 36.393251 | FW11: 35.570284 | FX11: 34.839522 | FY11: 35.536404 | FZ11: 36.761439 | GA11: 36.039491 | GB11: 38.480297 | GC11: 36.979119 | GD11: 36.798342 | GE11: 38.114484 | GF11: 40.463379 | GG11: 35.692629 | GH11: 32.203496 | GI11: 36.294145 | GJ11: 37.741455 | GK11: 41.773031 | GL11: 45.182266 | GM11: 41.648452 | GN11: 46.16736 | GO11: 49.669269 | GP11: 53.038285 | GQ11: 58.533284 | GR11: 67.887428 | GS11: 60.988933 | GT11: 65.522931 | GU11: 73.491646 | GV11: 81.644497 | GW11: 89.432965 | GX11: 97.515085 | GY11: 91.039409 | GZ11: 96.119829 | HA11: 99.948665 | HB11: 102.12776 | HC11: 104.76623 | HD11: 105.68909 | HE11: 100.41379 | HF11: 100.10693 | HG11: 102.4208 | HH11: 107.16119 | HI11: 110.14194 | HJ11: 112.92736 | HK11: 104.90749 | HL11: 106.46558 | HM11: 110.60106 | HN11: 110.56891 | HO11: 109.5163 | HP11: 112.25552 | HQ11: 108.97831 | HR11: 105.86811 | HS11: 106.24544 | HT11: 106.90839 | HU11: 107.12497 | HV11: 105.65283 | HW11: 105.85874 | HX11: 105.46541 | HY11: 100.29247 | HZ11: 100.75992 | IA11: 103.09711 | IB11: 101.58538 | IC11: 101.17873 | ID11: 99.796214 | IE11: 99.522135 | IF11: 99.738812 | IG11: 99.168183 | IH11: 97.655483 | II11: 99.728621 | IJ11: 98.838083 | IK11: 97.600377 | IL11: 97.412558 | IM11: 98.099106 | IN11: 96.534315 | IO11: 99.373308 | IP11: 98.792711 | IQ11: 98.376144 | IR11: 98.593447 | IS11: 99.089336 | IT11: 98.53614 | IU11: 99.091434 | IV11: 101.35226 | IW11: 100.00953 | IX11: 99.747544 | IY11: 99.401438 | IZ11: 97.484229 | JA11: 101.7989 | JB11: 101.22032 | JC11: 99.557966 | JD11: 98.947516 | JE11: 99.567346 | JF11: 96.892787 | JG11: 99.100457 | JH11: 99.756331 | JI11: 100.19556 | JJ11: 95.433935 | JK11: 94.588305 | JL11: 90.652734 | JM11: 94.587667 | JN11: 98.958014 | JO11: 96.814184 | JP11: 95.927577 | JQ11: 93.452563 | JR11: 88.741448 | JS11: 92.515118 | JT11: 91.897084 | JU11: 91.388061 | JV11: 89.888303 | JW11: 86.873081 | JX11: 85.234425 | JY11: 89.635157 | JZ11: 91.426759 | KA11: 90.361041 | KB11: 87.065293 | KC11: 85.161827 | KD11: 85.52084 | KE11: 88.015866 | KF11: 89.134529 | KG11: 85.295273 | KH11: 83.793271 | KI11: 82.933137 | KJ11: 79.417304
